BEGIN:VCALENDAR
VERSION:2.0
PRODID:-//Seven Feathers Casino - ECPv6.15.16//NONSGML v1.0//EN
CALSCALE:GREGORIAN
METHOD:PUBLISH
X-ORIGINAL-URL:https://sevenfeathers.com
X-WR-CALDESC:Events for Seven Feathers Casino
REFRESH-INTERVAL;VALUE=DURATION:PT1H
X-Robots-Tag:noindex
X-PUBLISHED-TTL:PT1H
BEGIN:VTIMEZONE
TZID:America/Los_Angeles
BEGIN:DAYLIGHT
TZOFFSETFROM:-0800
TZOFFSETTO:-0700
TZNAME:PDT
DTSTART:20250309T100000
END:DAYLIGHT
BEGIN:STANDARD
TZOFFSETFROM:-0700
TZOFFSETTO:-0800
TZNAME:PST
DTSTART:20251102T090000
END:STANDARD
BEGIN:DAYLIGHT
TZOFFSETFROM:-0800
TZOFFSETTO:-0700
TZNAME:PDT
DTSTART:20260308T100000
END:DAYLIGHT
BEGIN:STANDARD
TZOFFSETFROM:-0700
TZOFFSETTO:-0800
TZNAME:PST
DTSTART:20261101T090000
END:STANDARD
BEGIN:DAYLIGHT
TZOFFSETFROM:-0800
TZOFFSETTO:-0700
TZNAME:PDT
DTSTART:20270314T100000
END:DAYLIGHT
BEGIN:STANDARD
TZOFFSETFROM:-0700
TZOFFSETTO:-0800
TZNAME:PST
DTSTART:20271107T090000
END:STANDARD
END:VTIMEZONE
BEGIN:VEVENT
DTSTART;TZID=America/Los_Angeles:20260623T000000
DTEND;TZID=America/Los_Angeles:20260623T235900
DTSTAMP:20260423T163843
CREATED:20251231T004710Z
LAST-MODIFIED:20260102T204332Z
UID:10012977-1782172800-1782259140@sevenfeathers.com
SUMMARY:American Hero Day
DESCRIPTION:Every Tuesday at Seven Feathers Casino Resort \nVeterans get your Seven Feathers American Hero card and enjoy the following: \nOn American Hero Day card holders receive a free ice cream (in a bowl or regular cone) with a choice of topping at Takelma. \nJust swipe in at a Players Club Kiosk to receive your ice cream coupon\, redeemable that day from 7:00AM to 10:00PM\, along with $10 in Free Slot Play\, 15% off of qualifying purchases in the Gift Gallery & 10% off your meal in Cow Creek Restaurant or Stix Bar & Grill\, every Tuesday\, from 8:00AM – 8:00PM. \nIt’s free to sign up. Visit the Players Club for more information.
URL:https://sevenfeathers.com/event/american-hero-day-2/2026-06-23/
LOCATION:OR
CATEGORIES:Ongoing,Promotions
ATTACH;FMTTYPE=image/jpeg:https://sevenfeathers.com/wp-content/uploads/2025/12/7F-American-Hero-Day-2025-1920x1080-WEB-1.jpg
END:VEVENT
BEGIN:VEVENT
DTSTART;TZID=America/Los_Angeles:20260624T000000
DTEND;TZID=America/Los_Angeles:20260624T235959
DTSTAMP:20260423T163843
CREATED:20260413T222340Z
LAST-MODIFIED:20260422T204801Z
UID:10014190-1782259200-1782345599@sevenfeathers.com
SUMMARY:Jackpot Club Kiosk Games
DESCRIPTION:Now with more winners and more prizes! Win a Jackpot to be eligible! \n  \nPlay the Monthly Kiosk games for your chance at up to $1\,000 in Free Slot Play. \n  \nAll qualifying participants are eligible to play in the Semi-Annual Championship Slot Tournaments. \n  \nSemi-Annual Slot Tournaments • June 28 \nQualifying Rounds • 10:00AM – Noon and 2:00 – 4:00PM \nChampionship Round • 5:00PM \nTop 20 places paid.  Win up to $10\,000 CASH and a custom-order leather logo jacket (valued up to $200)! \n  \nVisit Players Club for details. \nManagement reserves the right to change or cancel any promotion without notice.
URL:https://sevenfeathers.com/event/jackpot-club-kiosk-games/2026-06-24/
LOCATION:Casino\, 146 Chief Miwaleta Ln\, Canyonville\, OR\, 97417\, United States
CATEGORIES:Promotions
ATTACH;FMTTYPE=image/jpeg:https://sevenfeathers.com/wp-content/uploads/2026/04/7F-Jackpot-Club-Slot-Tournament-2026-1920x1080-WEB.jpg
END:VEVENT
BEGIN:VEVENT
DTSTART;TZID=America/Los_Angeles:20260625T000000
DTEND;TZID=America/Los_Angeles:20260625T235959
DTSTAMP:20260423T163843
CREATED:20251231T004323Z
LAST-MODIFIED:20260102T204541Z
UID:10013028-1782345600-1782431999@sevenfeathers.com
SUMMARY:Senior Day Slot Tournament Sprint
DESCRIPTION:Thursdays in 2026\, guests ages 55 and over must earn 100 Players Club points to qualify for the Slot Tournament Sprint. Qualifying guests can pick a friend to participate with them! Your friend does not have to earn points to qualify\, and must be 21 or older to participate. \nBegin earning points at 7:00AM\, on the tournament day. Registration begins at 9:00AM. \nSlot Tournament Sprint is every 15 minutes\, 4:00 – 6:30PM. \nTop 10 places paid each Thursday\, and you could win up to $1\,000 in cash! \nFirst Place – $1\,000 Cash \nSecond Place – $500 Cash \nThird Place – $300 Free Slot Play \nFourth Place – $200 Free Slot Play \nFifth Place – $150 Free Slot Play \nSixth – Tenth Places – $100 Free Slot Play \nVisit Players Club for details. \nManagement reserves the right to change or cancel any promotion without notice.
URL:https://sevenfeathers.com/event/senior-day-slot-tournament-sprint-3/2026-06-25/
LOCATION:OR
CATEGORIES:Ongoing,Promotions
ATTACH;FMTTYPE=image/jpeg:https://sevenfeathers.com/wp-content/uploads/2025/12/7F_Senior-Day-Slot-Sprint_1920x1080-Web.jpg
END:VEVENT
BEGIN:VEVENT
DTSTART;TZID=America/Los_Angeles:20260625T150000
DTEND;TZID=America/Los_Angeles:20260625T230000
DTSTAMP:20260423T163843
CREATED:20260422T224803Z
LAST-MODIFIED:20260423T163619Z
UID:10014288-1782399600-1782428400@sevenfeathers.com
SUMMARY:Bubbles and Funk in Steelhead Lounge
DESCRIPTION:Join the fun starting on April 30! \nEvery Thursday & Sunday from 3:00 to 11:00PM. \nEvery Friday & Saturday from 3:00PM to 2:00AM. \n  \nEnjoy your funky music favorites from a live DJ on Fridays & Saturdays from 8:00PM to Midnight. \n  \nBubbles and Funk will include Champagne Features\, Signature Cocktails\, Sparkling Wines\, Drop Beats and the Feel of Funk!
URL:https://sevenfeathers.com/event/bubbles-and-funk-in-steelhead-lounge-2/2026-06-25/
LOCATION:Steelhead Lounge\, 146 Chief Miwaleta Ln\, Canyonville\, OR\, 97417\, United States
CATEGORIES:Entertainment
ATTACH;FMTTYPE=image/jpeg:https://sevenfeathers.com/wp-content/uploads/2026/04/7F-Bubbles-and-Funk-2026-1920x1080-WEB-1.jpg
END:VEVENT
BEGIN:VEVENT
DTSTART;TZID=America/Los_Angeles:20260625T190000
DTEND;TZID=America/Los_Angeles:20260625T220000
DTSTAMP:20260423T163843
CREATED:20260101T035427Z
LAST-MODIFIED:20260102T204239Z
UID:10012841-1782414000-1782424800@sevenfeathers.com
SUMMARY:Line Dancing in Elements
DESCRIPTION:Every Thursday at 7:00PM. \n  \nCome join us each week for free Line-Dancing lessons! \n  \n2-hour lessons\, and Beginners are welcome. \n  \nMust be 21 or older.
URL:https://sevenfeathers.com/event/line-dancing-in-elements/2026-06-25/
LOCATION:Elements Lounge\, 146 Chief Miwaleta Ln\, Canyonville\, OR\, 97417\, United States
CATEGORIES:Entertainment
ATTACH;FMTTYPE=image/jpeg:https://sevenfeathers.com/wp-content/uploads/2025/12/Line-Dancing-in-Elements-2026-1920x1080-1.jpg
END:VEVENT
BEGIN:VEVENT
DTSTART;TZID=America/Los_Angeles:20260626T150000
DTEND;TZID=America/Los_Angeles:20260627T020000
DTSTAMP:20260423T163843
CREATED:20260422T225118Z
LAST-MODIFIED:20260423T163607Z
UID:10014344-1782486000-1782525600@sevenfeathers.com
SUMMARY:Bubbles and Funk in Steelhead Lounge
DESCRIPTION:Join the fun starting on April 30! \nEvery Thursday & Sunday from 3:00 to 11:00PM. \nEvery Friday & Saturday from 3:00PM to 2:00AM. \n  \nEnjoy your funky music favorites from a live DJ on Fridays & Saturdays from 8:00PM to Midnight. \n  \nBubbles and Funk will include Champagne Features\, Signature Cocktails\, Sparkling Wines\, Drop Beats and the Feel of Funk!
URL:https://sevenfeathers.com/event/bubbles-and-funk-in-steelhead-lounge-3/2026-06-26/
LOCATION:Steelhead Lounge\, 146 Chief Miwaleta Ln\, Canyonville\, OR\, 97417\, United States
CATEGORIES:Entertainment
ATTACH;FMTTYPE=image/jpeg:https://sevenfeathers.com/wp-content/uploads/2026/04/7F-Bubbles-and-Funk-2026-1920x1080-WEB-1.jpg
END:VEVENT
BEGIN:VEVENT
DTSTART;TZID=America/Los_Angeles:20260627T110000
DTEND;TZID=America/Los_Angeles:20260627T170000
DTSTAMP:20260423T163843
CREATED:20260313T160042Z
LAST-MODIFIED:20260419T000942Z
UID:10013986-1782558000-1782579600@sevenfeathers.com
SUMMARY:Wine Fest of the Umpqua Valley
DESCRIPTION:Saturday\, June 27 from 11:00AM to 4:00PM. \nFrom Vine to Valley – Savor the Journey at this Free Outdoor Event near the Casino Main Entrance. \nEnjoy many of our local wineries and music by The Traveling Wilburys Revue\, with performances at Noon & 3:00PM. This event is open to all ages. \nEntry grants 10 Wine Tastings Tickets (with souvenir wine glass while supplies last) – $20 online through June 26 and $25 at the event. \nPurchase tickets online or call Etix at 800-514-3849.
URL:https://sevenfeathers.com/event/wine-fest/
LOCATION:Main Casino Entrance\, 146 Chief Miwaleta Ln\, Canyonville\, OR\, 97417\, United States
CATEGORIES:Entertainment,Exit 99 Landing Page Events
ATTACH;FMTTYPE=image/jpeg:https://sevenfeathers.com/wp-content/uploads/2026/03/7F-Wine-Fest-2026-1920X1080-WEB-1-scaled.jpg
END:VEVENT
BEGIN:VEVENT
DTSTART;TZID=America/Los_Angeles:20260627T150000
DTEND;TZID=America/Los_Angeles:20260628T020000
DTSTAMP:20260423T163843
CREATED:20260422T224641Z
LAST-MODIFIED:20260423T163629Z
UID:10014302-1782572400-1782612000@sevenfeathers.com
SUMMARY:Bubbles and Funk in Steelhead Lounge
DESCRIPTION:Join the fun starting on April 30! \nEvery Thursday & Sunday from 3:00 to 11:00PM. \nEvery Friday & Saturday from 3:00PM to 2:00AM. \n  \nEnjoy your funky music favorites from a live DJ on Fridays & Saturdays from 8:00PM to Midnight. \n  \nBubbles and Funk will include Champagne Features\, Signature Cocktails\, Sparkling Wines\, Drop Beats and the Feel of Funk!
URL:https://sevenfeathers.com/event/bubbles-and-funk-in-steelhead-lounge/2026-06-27/
LOCATION:Steelhead Lounge\, 146 Chief Miwaleta Ln\, Canyonville\, OR\, 97417\, United States
CATEGORIES:Entertainment
ATTACH;FMTTYPE=image/jpeg:https://sevenfeathers.com/wp-content/uploads/2026/04/7F-Bubbles-and-Funk-2026-1920x1080-WEB-1.jpg
END:VEVENT
BEGIN:VEVENT
DTSTART;TZID=America/Los_Angeles:20260628T100000
DTEND;TZID=America/Los_Angeles:20260628T173000
DTSTAMP:20260423T163843
CREATED:20251231T003624Z
LAST-MODIFIED:20260422T200255Z
UID:10012719-1782640800-1782667800@sevenfeathers.com
SUMMARY:Jackpot Club Slot Tournaments - Semi Annual Championship
DESCRIPTION:All qualifying participants are eligible to play in our Semi-Annual Championships on June 28 and December 27! \nThe qualifying rounds for these tournaments will take place from 10:00 AM to noon\, and from 2:00 – 4:00PM. \nThe final round on Semi-Annual Championship days will take place at 5:00PM and the top 20 places will be paid out. \nThe top prize for these dates is $10\,000 cash and a custom-order leather jacket! \n  \nClick here to view all official rules and promotional details.
URL:https://sevenfeathers.com/event/jackpot-club-slot-tournaments-semi-annual-championship/
LOCATION:Main Casino Entrance\, 146 Chief Miwaleta Ln\, Canyonville\, OR\, 97417\, United States
CATEGORIES:Promotions
ATTACH;FMTTYPE=image/jpeg:https://sevenfeathers.com/wp-content/uploads/2025/12/7F-Jackpot-Club-Slot-Tournament-1920x1080-WEB.jpg
END:VEVENT
BEGIN:VEVENT
DTSTART;TZID=America/Los_Angeles:20260628T150000
DTEND;TZID=America/Los_Angeles:20260628T230000
DTSTAMP:20260423T163843
CREATED:20260422T225137Z
LAST-MODIFIED:20260423T163557Z
UID:10014358-1782658800-1782687600@sevenfeathers.com
SUMMARY:Bubbles and Funk in Steelhead Lounge
DESCRIPTION:Join the fun starting on April 30! \nEvery Thursday & Sunday from 3:00 to 11:00PM. \nEvery Friday & Saturday from 3:00PM to 2:00AM. \n  \nEnjoy your funky music favorites from a live DJ on Fridays & Saturdays from 8:00PM to Midnight. \n  \nBubbles and Funk will include Champagne Features\, Signature Cocktails\, Sparkling Wines\, Drop Beats and the Feel of Funk!
URL:https://sevenfeathers.com/event/bubbles-and-funk-in-steelhead-lounge-4/2026-06-28/
LOCATION:Steelhead Lounge\, 146 Chief Miwaleta Ln\, Canyonville\, OR\, 97417\, United States
CATEGORIES:Entertainment
ATTACH;FMTTYPE=image/jpeg:https://sevenfeathers.com/wp-content/uploads/2026/04/7F-Bubbles-and-Funk-2026-1920x1080-WEB-1.jpg
END:VEVENT
BEGIN:VEVENT
DTSTART;TZID=America/Los_Angeles:20260628T190000
DTEND;TZID=America/Los_Angeles:20260628T200000
DTSTAMP:20260423T163843
CREATED:20250401T204520Z
LAST-MODIFIED:20260101T040356Z
UID:10012893-1782673200-1782676800@sevenfeathers.com
SUMMARY:DJ Trivia in Elements
DESCRIPTION:Play DJ Trivia with us weekly for a chance to win fun prizes! Participation is free and registration begins at 6:45PM.
URL:https://sevenfeathers.com/event/dj-trivia-3-2/2026-06-28/
LOCATION:Elements Lounge\, 146 Chief Miwaleta Ln\, Canyonville\, OR\, 97417\, United States
CATEGORIES:Entertainment,Ongoing
END:VEVENT
END:VCALENDAR