BEGIN:VCALENDAR
VERSION:2.0
PRODID:-//Seven Feathers Casino - ECPv6.15.16//NONSGML v1.0//EN
CALSCALE:GREGORIAN
METHOD:PUBLISH
X-WR-CALNAME:Seven Feathers Casino
X-ORIGINAL-URL:https://sevenfeathers.com
X-WR-CALDESC:Events for Seven Feathers Casino
REFRESH-INTERVAL;VALUE=DURATION:PT1H
X-Robots-Tag:noindex
X-PUBLISHED-TTL:PT1H
BEGIN:VTIMEZONE
TZID:America/Los_Angeles
BEGIN:DAYLIGHT
TZOFFSETFROM:-0800
TZOFFSETTO:-0700
TZNAME:PDT
DTSTART:20250309T100000
END:DAYLIGHT
BEGIN:STANDARD
TZOFFSETFROM:-0700
TZOFFSETTO:-0800
TZNAME:PST
DTSTART:20251102T090000
END:STANDARD
BEGIN:DAYLIGHT
TZOFFSETFROM:-0800
TZOFFSETTO:-0700
TZNAME:PDT
DTSTART:20260308T100000
END:DAYLIGHT
BEGIN:STANDARD
TZOFFSETFROM:-0700
TZOFFSETTO:-0800
TZNAME:PST
DTSTART:20261101T090000
END:STANDARD
BEGIN:DAYLIGHT
TZOFFSETFROM:-0800
TZOFFSETTO:-0700
TZNAME:PDT
DTSTART:20270314T100000
END:DAYLIGHT
BEGIN:STANDARD
TZOFFSETFROM:-0700
TZOFFSETTO:-0800
TZNAME:PST
DTSTART:20271107T090000
END:STANDARD
END:VTIMEZONE
BEGIN:VEVENT
DTSTART;TZID=America/Los_Angeles:20260609T000000
DTEND;TZID=America/Los_Angeles:20260609T235900
DTSTAMP:20260423T163822
CREATED:20251231T004710Z
LAST-MODIFIED:20260102T204332Z
UID:10012975-1780963200-1781049540@sevenfeathers.com
SUMMARY:American Hero Day
DESCRIPTION:Every Tuesday at Seven Feathers Casino Resort \nVeterans get your Seven Feathers American Hero card and enjoy the following: \nOn American Hero Day card holders receive a free ice cream (in a bowl or regular cone) with a choice of topping at Takelma. \nJust swipe in at a Players Club Kiosk to receive your ice cream coupon\, redeemable that day from 7:00AM to 10:00PM\, along with $10 in Free Slot Play\, 15% off of qualifying purchases in the Gift Gallery & 10% off your meal in Cow Creek Restaurant or Stix Bar & Grill\, every Tuesday\, from 8:00AM – 8:00PM. \nIt’s free to sign up. Visit the Players Club for more information.
URL:https://sevenfeathers.com/event/american-hero-day-2/2026-06-09/
LOCATION:OR
CATEGORIES:Ongoing,Promotions
ATTACH;FMTTYPE=image/jpeg:https://sevenfeathers.com/wp-content/uploads/2025/12/7F-American-Hero-Day-2025-1920x1080-WEB-1.jpg
END:VEVENT
BEGIN:VEVENT
DTSTART;TZID=America/Los_Angeles:20260611T000000
DTEND;TZID=America/Los_Angeles:20260611T235959
DTSTAMP:20260423T163822
CREATED:20251231T004323Z
LAST-MODIFIED:20260102T204541Z
UID:10013026-1781136000-1781222399@sevenfeathers.com
SUMMARY:Senior Day Slot Tournament Sprint
DESCRIPTION:Thursdays in 2026\, guests ages 55 and over must earn 100 Players Club points to qualify for the Slot Tournament Sprint. Qualifying guests can pick a friend to participate with them! Your friend does not have to earn points to qualify\, and must be 21 or older to participate. \nBegin earning points at 7:00AM\, on the tournament day. Registration begins at 9:00AM. \nSlot Tournament Sprint is every 15 minutes\, 4:00 – 6:30PM. \nTop 10 places paid each Thursday\, and you could win up to $1\,000 in cash! \nFirst Place – $1\,000 Cash \nSecond Place – $500 Cash \nThird Place – $300 Free Slot Play \nFourth Place – $200 Free Slot Play \nFifth Place – $150 Free Slot Play \nSixth – Tenth Places – $100 Free Slot Play \nVisit Players Club for details. \nManagement reserves the right to change or cancel any promotion without notice.
URL:https://sevenfeathers.com/event/senior-day-slot-tournament-sprint-3/2026-06-11/
LOCATION:OR
CATEGORIES:Ongoing,Promotions
ATTACH;FMTTYPE=image/jpeg:https://sevenfeathers.com/wp-content/uploads/2025/12/7F_Senior-Day-Slot-Sprint_1920x1080-Web.jpg
END:VEVENT
BEGIN:VEVENT
DTSTART;TZID=America/Los_Angeles:20260611T150000
DTEND;TZID=America/Los_Angeles:20260611T230000
DTSTAMP:20260423T163822
CREATED:20260422T224803Z
LAST-MODIFIED:20260423T163619Z
UID:10014286-1781190000-1781218800@sevenfeathers.com
SUMMARY:Bubbles and Funk in Steelhead Lounge
DESCRIPTION:Join the fun starting on April 30! \nEvery Thursday & Sunday from 3:00 to 11:00PM. \nEvery Friday & Saturday from 3:00PM to 2:00AM. \n  \nEnjoy your funky music favorites from a live DJ on Fridays & Saturdays from 8:00PM to Midnight. \n  \nBubbles and Funk will include Champagne Features\, Signature Cocktails\, Sparkling Wines\, Drop Beats and the Feel of Funk!
URL:https://sevenfeathers.com/event/bubbles-and-funk-in-steelhead-lounge-2/2026-06-11/
LOCATION:Steelhead Lounge\, 146 Chief Miwaleta Ln\, Canyonville\, OR\, 97417\, United States
CATEGORIES:Entertainment
ATTACH;FMTTYPE=image/jpeg:https://sevenfeathers.com/wp-content/uploads/2026/04/7F-Bubbles-and-Funk-2026-1920x1080-WEB-1.jpg
END:VEVENT
BEGIN:VEVENT
DTSTART;TZID=America/Los_Angeles:20260611T190000
DTEND;TZID=America/Los_Angeles:20260611T220000
DTSTAMP:20260423T163822
CREATED:20260101T035427Z
LAST-MODIFIED:20260102T204239Z
UID:10012839-1781204400-1781215200@sevenfeathers.com
SUMMARY:Line Dancing in Elements
DESCRIPTION:Every Thursday at 7:00PM. \n  \nCome join us each week for free Line-Dancing lessons! \n  \n2-hour lessons\, and Beginners are welcome. \n  \nMust be 21 or older.
URL:https://sevenfeathers.com/event/line-dancing-in-elements/2026-06-11/
LOCATION:Elements Lounge\, 146 Chief Miwaleta Ln\, Canyonville\, OR\, 97417\, United States
CATEGORIES:Entertainment
ATTACH;FMTTYPE=image/jpeg:https://sevenfeathers.com/wp-content/uploads/2025/12/Line-Dancing-in-Elements-2026-1920x1080-1.jpg
END:VEVENT
BEGIN:VEVENT
DTSTART;TZID=America/Los_Angeles:20260612T150000
DTEND;TZID=America/Los_Angeles:20260613T020000
DTSTAMP:20260423T163822
CREATED:20260422T225118Z
LAST-MODIFIED:20260423T163607Z
UID:10014342-1781276400-1781316000@sevenfeathers.com
SUMMARY:Bubbles and Funk in Steelhead Lounge
DESCRIPTION:Join the fun starting on April 30! \nEvery Thursday & Sunday from 3:00 to 11:00PM. \nEvery Friday & Saturday from 3:00PM to 2:00AM. \n  \nEnjoy your funky music favorites from a live DJ on Fridays & Saturdays from 8:00PM to Midnight. \n  \nBubbles and Funk will include Champagne Features\, Signature Cocktails\, Sparkling Wines\, Drop Beats and the Feel of Funk!
URL:https://sevenfeathers.com/event/bubbles-and-funk-in-steelhead-lounge-3/2026-06-12/
LOCATION:Steelhead Lounge\, 146 Chief Miwaleta Ln\, Canyonville\, OR\, 97417\, United States
CATEGORIES:Entertainment
ATTACH;FMTTYPE=image/jpeg:https://sevenfeathers.com/wp-content/uploads/2026/04/7F-Bubbles-and-Funk-2026-1920x1080-WEB-1.jpg
END:VEVENT
BEGIN:VEVENT
DTSTART;TZID=America/Los_Angeles:20260613T150000
DTEND;TZID=America/Los_Angeles:20260614T020000
DTSTAMP:20260423T163822
CREATED:20260422T224641Z
LAST-MODIFIED:20260423T163629Z
UID:10014300-1781362800-1781402400@sevenfeathers.com
SUMMARY:Bubbles and Funk in Steelhead Lounge
DESCRIPTION:Join the fun starting on April 30! \nEvery Thursday & Sunday from 3:00 to 11:00PM. \nEvery Friday & Saturday from 3:00PM to 2:00AM. \n  \nEnjoy your funky music favorites from a live DJ on Fridays & Saturdays from 8:00PM to Midnight. \n  \nBubbles and Funk will include Champagne Features\, Signature Cocktails\, Sparkling Wines\, Drop Beats and the Feel of Funk!
URL:https://sevenfeathers.com/event/bubbles-and-funk-in-steelhead-lounge/2026-06-13/
LOCATION:Steelhead Lounge\, 146 Chief Miwaleta Ln\, Canyonville\, OR\, 97417\, United States
CATEGORIES:Entertainment
ATTACH;FMTTYPE=image/jpeg:https://sevenfeathers.com/wp-content/uploads/2026/04/7F-Bubbles-and-Funk-2026-1920x1080-WEB-1.jpg
END:VEVENT
BEGIN:VEVENT
DTSTART;TZID=America/Los_Angeles:20260614T150000
DTEND;TZID=America/Los_Angeles:20260614T230000
DTSTAMP:20260423T163822
CREATED:20260422T225137Z
LAST-MODIFIED:20260423T163557Z
UID:10014356-1781449200-1781478000@sevenfeathers.com
SUMMARY:Bubbles and Funk in Steelhead Lounge
DESCRIPTION:Join the fun starting on April 30! \nEvery Thursday & Sunday from 3:00 to 11:00PM. \nEvery Friday & Saturday from 3:00PM to 2:00AM. \n  \nEnjoy your funky music favorites from a live DJ on Fridays & Saturdays from 8:00PM to Midnight. \n  \nBubbles and Funk will include Champagne Features\, Signature Cocktails\, Sparkling Wines\, Drop Beats and the Feel of Funk!
URL:https://sevenfeathers.com/event/bubbles-and-funk-in-steelhead-lounge-4/2026-06-14/
LOCATION:Steelhead Lounge\, 146 Chief Miwaleta Ln\, Canyonville\, OR\, 97417\, United States
CATEGORIES:Entertainment
ATTACH;FMTTYPE=image/jpeg:https://sevenfeathers.com/wp-content/uploads/2026/04/7F-Bubbles-and-Funk-2026-1920x1080-WEB-1.jpg
END:VEVENT
BEGIN:VEVENT
DTSTART;TZID=America/Los_Angeles:20260614T190000
DTEND;TZID=America/Los_Angeles:20260614T200000
DTSTAMP:20260423T163822
CREATED:20250401T204520Z
LAST-MODIFIED:20260101T040356Z
UID:10012891-1781463600-1781467200@sevenfeathers.com
SUMMARY:DJ Trivia in Elements
DESCRIPTION:Play DJ Trivia with us weekly for a chance to win fun prizes! Participation is free and registration begins at 6:45PM.
URL:https://sevenfeathers.com/event/dj-trivia-3-2/2026-06-14/
LOCATION:Elements Lounge\, 146 Chief Miwaleta Ln\, Canyonville\, OR\, 97417\, United States
CATEGORIES:Entertainment,Ongoing
END:VEVENT
END:VCALENDAR