BEGIN:VCALENDAR
VERSION:2.0
PRODID:-//Seven Feathers Casino - ECPv6.15.16//NONSGML v1.0//EN
CALSCALE:GREGORIAN
METHOD:PUBLISH
X-WR-CALNAME:Seven Feathers Casino
X-ORIGINAL-URL:https://sevenfeathers.com
X-WR-CALDESC:Events for Seven Feathers Casino
REFRESH-INTERVAL;VALUE=DURATION:PT1H
X-Robots-Tag:noindex
X-PUBLISHED-TTL:PT1H
BEGIN:VTIMEZONE
TZID:America/Los_Angeles
BEGIN:DAYLIGHT
TZOFFSETFROM:-0800
TZOFFSETTO:-0700
TZNAME:PDT
DTSTART:20240310T100000
END:DAYLIGHT
BEGIN:STANDARD
TZOFFSETFROM:-0700
TZOFFSETTO:-0800
TZNAME:PST
DTSTART:20241103T090000
END:STANDARD
BEGIN:DAYLIGHT
TZOFFSETFROM:-0800
TZOFFSETTO:-0700
TZNAME:PDT
DTSTART:20250309T100000
END:DAYLIGHT
BEGIN:STANDARD
TZOFFSETFROM:-0700
TZOFFSETTO:-0800
TZNAME:PST
DTSTART:20251102T090000
END:STANDARD
BEGIN:DAYLIGHT
TZOFFSETFROM:-0800
TZOFFSETTO:-0700
TZNAME:PDT
DTSTART:20260308T100000
END:DAYLIGHT
BEGIN:STANDARD
TZOFFSETFROM:-0700
TZOFFSETTO:-0800
TZNAME:PST
DTSTART:20261101T090000
END:STANDARD
BEGIN:DAYLIGHT
TZOFFSETFROM:-0800
TZOFFSETTO:-0700
TZNAME:PDT
DTSTART:20270314T100000
END:DAYLIGHT
BEGIN:STANDARD
TZOFFSETFROM:-0700
TZOFFSETTO:-0800
TZNAME:PST
DTSTART:20271107T090000
END:STANDARD
END:VTIMEZONE
BEGIN:VEVENT
DTSTART;TZID=America/Los_Angeles:20251230T190000
DTEND;TZID=America/Los_Angeles:20251230T220000
DTSTAMP:20260420T161036
CREATED:20250401T204839Z
LAST-MODIFIED:20260102T204146Z
UID:10008951-1767121200-1767132000@sevenfeathers.com
SUMMARY:Line Dancing
DESCRIPTION:FREE Line-Dancing Lessons! \nEvery Tuesday at 7:00PM in Elements Lounge \nThere will be 2-hour lessons\, and beginners are welcome. \nInstructors Cass Gould and Katie Wilder teach all your favorite line dances from “The Wolf” to “Bury Me in Georgia”.
URL:https://sevenfeathers.com/event/line-dancing-2/2025-12-30/
LOCATION:Elements Lounge
CATEGORIES:Entertainment,Ongoing
END:VEVENT
BEGIN:VEVENT
DTSTART;TZID=America/Los_Angeles:20260101T190000
DTEND;TZID=America/Los_Angeles:20260101T230000
DTSTAMP:20260420T161036
CREATED:20251231T172715Z
LAST-MODIFIED:20251231T172715Z
UID:10012802-1767294000-1767308400@sevenfeathers.com
SUMMARY:Drop Nation
DESCRIPTION:Be our guest! Admission is free. \nMust be 21 or older. Hours and performers are subject to change.
URL:https://sevenfeathers.com/event/drop-nation/
LOCATION:Elements Lounge
CATEGORIES:Entertainment
ATTACH;FMTTYPE=image/jpeg:https://sevenfeathers.com/wp-content/uploads/2025/12/Elements-Ent-Drop-Nation-JAN-26-1920x1080-1.jpg
END:VEVENT
BEGIN:VEVENT
DTSTART;TZID=America/Los_Angeles:20260102T210000
DTEND;TZID=America/Los_Angeles:20260103T010000
DTSTAMP:20260420T161036
CREATED:20251231T172844Z
LAST-MODIFIED:20251231T172844Z
UID:10012804-1767387600-1767402000@sevenfeathers.com
SUMMARY:Drop Nation
DESCRIPTION:Be our guest! Admission is free. \nMust be 21 or older. Hours and performers are subject to change.
URL:https://sevenfeathers.com/event/drop-nation-2/2026-01-02/
LOCATION:Elements Lounge
CATEGORIES:Entertainment
ATTACH;FMTTYPE=image/jpeg:https://sevenfeathers.com/wp-content/uploads/2025/12/Elements-Ent-Drop-Nation-JAN-26-1920x1080-1.jpg
END:VEVENT
BEGIN:VEVENT
DTSTART;TZID=America/Los_Angeles:20260103T210000
DTEND;TZID=America/Los_Angeles:20260104T010000
DTSTAMP:20260420T161036
CREATED:20251231T172844Z
LAST-MODIFIED:20251231T172844Z
UID:10012805-1767474000-1767488400@sevenfeathers.com
SUMMARY:Drop Nation
DESCRIPTION:Be our guest! Admission is free. \nMust be 21 or older. Hours and performers are subject to change.
URL:https://sevenfeathers.com/event/drop-nation-2/2026-01-03/
LOCATION:Elements Lounge
CATEGORIES:Entertainment
ATTACH;FMTTYPE=image/jpeg:https://sevenfeathers.com/wp-content/uploads/2025/12/Elements-Ent-Drop-Nation-JAN-26-1920x1080-1.jpg
END:VEVENT
BEGIN:VEVENT
DTSTART;TZID=America/Los_Angeles:20260104T190000
DTEND;TZID=America/Los_Angeles:20260104T200000
DTSTAMP:20260420T161036
CREATED:20250401T204520Z
LAST-MODIFIED:20260101T040356Z
UID:10012868-1767553200-1767556800@sevenfeathers.com
SUMMARY:DJ Trivia in Elements
DESCRIPTION:Play DJ Trivia with us weekly for a chance to win fun prizes! Participation is free and registration begins at 6:45PM.
URL:https://sevenfeathers.com/event/dj-trivia-3-2/2026-01-04/
LOCATION:Elements Lounge
CATEGORIES:Entertainment,Ongoing
END:VEVENT
END:VCALENDAR