BEGIN:VCALENDAR
VERSION:2.0
PRODID:-//Seven Feathers Casino - ECPv6.15.16//NONSGML v1.0//EN
CALSCALE:GREGORIAN
METHOD:PUBLISH
X-ORIGINAL-URL:https://sevenfeathers.com
X-WR-CALDESC:Events for Seven Feathers Casino
REFRESH-INTERVAL;VALUE=DURATION:PT1H
X-Robots-Tag:noindex
X-PUBLISHED-TTL:PT1H
BEGIN:VTIMEZONE
TZID:America/Los_Angeles
BEGIN:DAYLIGHT
TZOFFSETFROM:-0800
TZOFFSETTO:-0700
TZNAME:PDT
DTSTART:20240310T100000
END:DAYLIGHT
BEGIN:STANDARD
TZOFFSETFROM:-0700
TZOFFSETTO:-0800
TZNAME:PST
DTSTART:20241103T090000
END:STANDARD
BEGIN:DAYLIGHT
TZOFFSETFROM:-0800
TZOFFSETTO:-0700
TZNAME:PDT
DTSTART:20250309T100000
END:DAYLIGHT
BEGIN:STANDARD
TZOFFSETFROM:-0700
TZOFFSETTO:-0800
TZNAME:PST
DTSTART:20251102T090000
END:STANDARD
BEGIN:DAYLIGHT
TZOFFSETFROM:-0800
TZOFFSETTO:-0700
TZNAME:PDT
DTSTART:20260308T100000
END:DAYLIGHT
BEGIN:STANDARD
TZOFFSETFROM:-0700
TZOFFSETTO:-0800
TZNAME:PST
DTSTART:20261101T090000
END:STANDARD
END:VTIMEZONE
BEGIN:VEVENT
DTSTART;TZID=America/Los_Angeles:20251028T190000
DTEND;TZID=America/Los_Angeles:20251028T220000
DTSTAMP:20260421T101157
CREATED:20250401T204839Z
LAST-MODIFIED:20260102T204146Z
UID:10008942-1761678000-1761688800@sevenfeathers.com
SUMMARY:Line Dancing
DESCRIPTION:FREE Line-Dancing Lessons! \nEvery Tuesday at 7:00PM in Elements Lounge \nThere will be 2-hour lessons\, and beginners are welcome. \nInstructors Cass Gould and Katie Wilder teach all your favorite line dances from “The Wolf” to “Bury Me in Georgia”.
URL:https://sevenfeathers.com/event/line-dancing-2/2025-10-28/
LOCATION:Elements Lounge
CATEGORIES:Entertainment,Ongoing
END:VEVENT
BEGIN:VEVENT
DTSTART;TZID=America/Los_Angeles:20251029T190000
DTEND;TZID=America/Los_Angeles:20251029T230000
DTSTAMP:20260421T101157
CREATED:20250929T214906Z
LAST-MODIFIED:20250929T214906Z
UID:10011742-1761764400-1761778800@sevenfeathers.com
SUMMARY:Dylan James Clark
DESCRIPTION:Be our guest! Admission is free! \nMust be 21 or older. Hours and performers are subject to change.
URL:https://sevenfeathers.com/event/dylan-james-clark-5/2025-10-29/
LOCATION:Elements Lounge
CATEGORIES:Entertainment
END:VEVENT
BEGIN:VEVENT
DTSTART;TZID=America/Los_Angeles:20251030T190000
DTEND;TZID=America/Los_Angeles:20251030T230000
DTSTAMP:20260421T101157
CREATED:20250929T214906Z
LAST-MODIFIED:20250929T214906Z
UID:10011743-1761850800-1761865200@sevenfeathers.com
SUMMARY:Dylan James Clark
DESCRIPTION:Be our guest! Admission is free! \nMust be 21 or older. Hours and performers are subject to change.
URL:https://sevenfeathers.com/event/dylan-james-clark-5/2025-10-30/
LOCATION:Elements Lounge
CATEGORIES:Entertainment
END:VEVENT
BEGIN:VEVENT
DTSTART;TZID=America/Los_Angeles:20251031T190000
DTEND;TZID=America/Los_Angeles:20251031T210000
DTSTAMP:20260421T101157
CREATED:20250813T162029Z
LAST-MODIFIED:20251008T172341Z
UID:10010671-1761937200-1761944400@sevenfeathers.com
SUMMARY:Mic Drop Comedy Club
DESCRIPTION:Live comedy returns to Seven Feathers this Halloween! Join us on Friday\, October 31st for Brandon Lyons and Tyler Boeh. \n  \nWe will be hosting a costume contest for guests during the comedy show. Our comedians will select their favorite 3 costumes. Winners will receive: \nFirst Place – 1 Free Room at Seven Feathers Hotel\, $50 dining card and a Squatchee \nSecond Place – 1 Free Room at Seven Feathers Hotel and a Squatchee \nThird Place – A $50 dining card and a Squatchee \n  \nCostumes that disguise the identity of the wearer and toy weapons are not permitted on the casino floor. \n  \nTickets are on sale now. Click here to purchase yours. \n  \nEtix is the sole ticket provider for all Seven Feathers Casino Resort events. Not responsible for third-party ticket sales.
URL:https://sevenfeathers.com/event/mic-drop-comedy-club-3/
LOCATION:Elements Lounge
CATEGORIES:Entertainment
ATTACH;FMTTYPE=image/jpeg:https://sevenfeathers.com/wp-content/uploads/2025/08/7F-Elements-October-2025-Comedy-Club-1920x1080-WEB.jpg
END:VEVENT
BEGIN:VEVENT
DTSTART;TZID=America/Los_Angeles:20251031T210000
DTEND;TZID=America/Los_Angeles:20251101T010000
DTSTAMP:20260421T101157
CREATED:20250929T215019Z
LAST-MODIFIED:20250929T215019Z
UID:10011744-1761944400-1761958800@sevenfeathers.com
SUMMARY:Dylan James Clark
DESCRIPTION:Be our guest! Admission is free! \nMust be 21 or older. Hours and performers are subject to change.
URL:https://sevenfeathers.com/event/dylan-james-clark-6/2025-10-31/
LOCATION:Elements Lounge
CATEGORIES:Entertainment
END:VEVENT
BEGIN:VEVENT
DTSTART;TZID=America/Los_Angeles:20251101T210000
DTEND;TZID=America/Los_Angeles:20251102T010000
DTSTAMP:20260421T101157
CREATED:20250929T215019Z
LAST-MODIFIED:20250929T215019Z
UID:10011745-1762030800-1762045200@sevenfeathers.com
SUMMARY:Dylan James Clark
DESCRIPTION:Be our guest! Admission is free! \nMust be 21 or older. Hours and performers are subject to change.
URL:https://sevenfeathers.com/event/dylan-james-clark-6/2025-11-01/
LOCATION:Elements Lounge
CATEGORIES:Entertainment
END:VEVENT
BEGIN:VEVENT
DTSTART;TZID=America/Los_Angeles:20251102T190000
DTEND;TZID=America/Los_Angeles:20251102T200000
DTSTAMP:20260421T101157
CREATED:20250401T204520Z
LAST-MODIFIED:20260101T040356Z
UID:10008892-1762110000-1762113600@sevenfeathers.com
SUMMARY:DJ Trivia in Elements
DESCRIPTION:Play DJ Trivia with us weekly for a chance to win fun prizes! Participation is free and registration begins at 6:45PM.
URL:https://sevenfeathers.com/event/dj-trivia-3-2/2025-11-02/
LOCATION:Elements Lounge
CATEGORIES:Entertainment,Ongoing
END:VEVENT
END:VCALENDAR