BEGIN:VCALENDAR
VERSION:2.0
PRODID:-//Seven Feathers Casino - ECPv6.15.16//NONSGML v1.0//EN
CALSCALE:GREGORIAN
METHOD:PUBLISH
X-ORIGINAL-URL:https://sevenfeathers.com
X-WR-CALDESC:Events for Seven Feathers Casino
REFRESH-INTERVAL;VALUE=DURATION:PT1H
X-Robots-Tag:noindex
X-PUBLISHED-TTL:PT1H
BEGIN:VTIMEZONE
TZID:America/Los_Angeles
BEGIN:DAYLIGHT
TZOFFSETFROM:-0800
TZOFFSETTO:-0700
TZNAME:PDT
DTSTART:20240310T100000
END:DAYLIGHT
BEGIN:STANDARD
TZOFFSETFROM:-0700
TZOFFSETTO:-0800
TZNAME:PST
DTSTART:20241103T090000
END:STANDARD
BEGIN:DAYLIGHT
TZOFFSETFROM:-0800
TZOFFSETTO:-0700
TZNAME:PDT
DTSTART:20250309T100000
END:DAYLIGHT
BEGIN:STANDARD
TZOFFSETFROM:-0700
TZOFFSETTO:-0800
TZNAME:PST
DTSTART:20251102T090000
END:STANDARD
BEGIN:DAYLIGHT
TZOFFSETFROM:-0800
TZOFFSETTO:-0700
TZNAME:PDT
DTSTART:20260308T100000
END:DAYLIGHT
BEGIN:STANDARD
TZOFFSETFROM:-0700
TZOFFSETTO:-0800
TZNAME:PST
DTSTART:20261101T090000
END:STANDARD
END:VTIMEZONE
BEGIN:VEVENT
DTSTART;TZID=America/Los_Angeles:20250513T190000
DTEND;TZID=America/Los_Angeles:20250513T220000
DTSTAMP:20260423T100059
CREATED:20250401T204839Z
LAST-MODIFIED:20260102T204146Z
UID:10008918-1747162800-1747173600@sevenfeathers.com
SUMMARY:Line Dancing
DESCRIPTION:FREE Line-Dancing Lessons! \nEvery Tuesday at 7:00PM in Elements Lounge \nThere will be 2-hour lessons\, and beginners are welcome. \nInstructors Cass Gould and Katie Wilder teach all your favorite line dances from “The Wolf” to “Bury Me in Georgia”.
URL:https://sevenfeathers.com/event/line-dancing-2/2025-05-13/
LOCATION:Elements Lounge\, 146 Chief Miwaleta Ln\, Canyonville\, OR\, 97417\, United States
CATEGORIES:Entertainment,Ongoing
END:VEVENT
BEGIN:VEVENT
DTSTART;TZID=America/Los_Angeles:20250514T190000
DTEND;TZID=America/Los_Angeles:20250514T230000
DTSTAMP:20260423T100059
CREATED:20250501T232410Z
LAST-MODIFIED:20250501T233828Z
UID:10010245-1747249200-1747263600@sevenfeathers.com
SUMMARY:Saucy
DESCRIPTION:Be our guest! Admission to this show is free. \nGuests must be 21 or older. Hours and performers subject to change.
URL:https://sevenfeathers.com/event/saucy/2025-05-14/
LOCATION:Elements Lounge\, 146 Chief Miwaleta Ln\, Canyonville\, OR\, 97417\, United States
CATEGORIES:Entertainment
END:VEVENT
BEGIN:VEVENT
DTSTART;TZID=America/Los_Angeles:20250515T190000
DTEND;TZID=America/Los_Angeles:20250515T230000
DTSTAMP:20260423T100059
CREATED:20250501T232410Z
LAST-MODIFIED:20250501T233828Z
UID:10010246-1747335600-1747350000@sevenfeathers.com
SUMMARY:Saucy
DESCRIPTION:Be our guest! Admission to this show is free. \nGuests must be 21 or older. Hours and performers subject to change.
URL:https://sevenfeathers.com/event/saucy/2025-05-15/
LOCATION:Elements Lounge\, 146 Chief Miwaleta Ln\, Canyonville\, OR\, 97417\, United States
CATEGORIES:Entertainment
END:VEVENT
BEGIN:VEVENT
DTSTART;TZID=America/Los_Angeles:20250516T210000
DTEND;TZID=America/Los_Angeles:20250517T010000
DTSTAMP:20260423T100059
CREATED:20250501T232554Z
LAST-MODIFIED:20250501T233852Z
UID:10010247-1747429200-1747443600@sevenfeathers.com
SUMMARY:Saucy
DESCRIPTION:Be our guest! Admission to this show is free. \nGuests must be 21 or older. Hours and performers subject to change.
URL:https://sevenfeathers.com/event/saucy-2/2025-05-16/
LOCATION:Elements Lounge\, 146 Chief Miwaleta Ln\, Canyonville\, OR\, 97417\, United States
CATEGORIES:Entertainment
END:VEVENT
BEGIN:VEVENT
DTSTART;TZID=America/Los_Angeles:20250517T210000
DTEND;TZID=America/Los_Angeles:20250518T010000
DTSTAMP:20260423T100059
CREATED:20250501T232554Z
LAST-MODIFIED:20250501T233852Z
UID:10010248-1747515600-1747530000@sevenfeathers.com
SUMMARY:Saucy
DESCRIPTION:Be our guest! Admission to this show is free. \nGuests must be 21 or older. Hours and performers subject to change.
URL:https://sevenfeathers.com/event/saucy-2/2025-05-17/
LOCATION:Elements Lounge\, 146 Chief Miwaleta Ln\, Canyonville\, OR\, 97417\, United States
CATEGORIES:Entertainment
END:VEVENT
BEGIN:VEVENT
DTSTART;TZID=America/Los_Angeles:20250518T190000
DTEND;TZID=America/Los_Angeles:20250518T200000
DTSTAMP:20260423T100059
CREATED:20250401T204520Z
LAST-MODIFIED:20260101T040356Z
UID:10008868-1747594800-1747598400@sevenfeathers.com
SUMMARY:DJ Trivia in Elements
DESCRIPTION:Play DJ Trivia with us weekly for a chance to win fun prizes! Participation is free and registration begins at 6:45PM.
URL:https://sevenfeathers.com/event/dj-trivia-3-2/2025-05-18/
LOCATION:Elements Lounge\, 146 Chief Miwaleta Ln\, Canyonville\, OR\, 97417\, United States
CATEGORIES:Entertainment,Ongoing
END:VEVENT
END:VCALENDAR