BEGIN:VCALENDAR
VERSION:2.0
PRODID:-//Seven Feathers Casino - ECPv6.15.16//NONSGML v1.0//EN
CALSCALE:GREGORIAN
METHOD:PUBLISH
X-ORIGINAL-URL:https://sevenfeathers.com
X-WR-CALDESC:Events for Seven Feathers Casino
REFRESH-INTERVAL;VALUE=DURATION:PT1H
X-Robots-Tag:noindex
X-PUBLISHED-TTL:PT1H
BEGIN:VTIMEZONE
TZID:America/Los_Angeles
BEGIN:DAYLIGHT
TZOFFSETFROM:-0800
TZOFFSETTO:-0700
TZNAME:PDT
DTSTART:20240310T100000
END:DAYLIGHT
BEGIN:STANDARD
TZOFFSETFROM:-0700
TZOFFSETTO:-0800
TZNAME:PST
DTSTART:20241103T090000
END:STANDARD
BEGIN:DAYLIGHT
TZOFFSETFROM:-0800
TZOFFSETTO:-0700
TZNAME:PDT
DTSTART:20250309T100000
END:DAYLIGHT
BEGIN:STANDARD
TZOFFSETFROM:-0700
TZOFFSETTO:-0800
TZNAME:PST
DTSTART:20251102T090000
END:STANDARD
BEGIN:DAYLIGHT
TZOFFSETFROM:-0800
TZOFFSETTO:-0700
TZNAME:PDT
DTSTART:20260308T100000
END:DAYLIGHT
BEGIN:STANDARD
TZOFFSETFROM:-0700
TZOFFSETTO:-0800
TZNAME:PST
DTSTART:20261101T090000
END:STANDARD
END:VTIMEZONE
BEGIN:VEVENT
DTSTART;TZID=America/Los_Angeles:20250325T190000
DTEND;TZID=America/Los_Angeles:20250325T220000
DTSTAMP:20260423T153807
CREATED:20250401T204839Z
LAST-MODIFIED:20260102T204146Z
UID:10008911-1742929200-1742940000@sevenfeathers.com
SUMMARY:Line Dancing
DESCRIPTION:FREE Line-Dancing Lessons! \nEvery Tuesday at 7:00PM in Elements Lounge \nThere will be 2-hour lessons\, and beginners are welcome. \nInstructors Cass Gould and Katie Wilder teach all your favorite line dances from “The Wolf” to “Bury Me in Georgia”.
URL:https://sevenfeathers.com/event/line-dancing-2/2025-03-25/
LOCATION:Elements Lounge\, 146 Chief Miwaleta Ln\, Canyonville\, OR\, 97417\, United States
CATEGORIES:Entertainment,Ongoing
END:VEVENT
BEGIN:VEVENT
DTSTART;TZID=America/Los_Angeles:20250326T190000
DTEND;TZID=America/Los_Angeles:20250326T230000
DTSTAMP:20260423T153807
CREATED:20250228T235233Z
LAST-MODIFIED:20250228T235403Z
UID:10008815-1743015600-1743030000@sevenfeathers.com
SUMMARY:Highway Bound in the Elements Lounge
DESCRIPTION:Be our guest and enjoy free live music in the Elements Lounge! Highway Bound will be performing live March 26 – 29! \nMust be 21 or older. Hours and performers are subject to change.
URL:https://sevenfeathers.com/event/highway-bound-in-the-elements-lounge/2025-03-26/
LOCATION:Elements Lounge\, 146 Chief Miwaleta Ln\, Canyonville\, OR\, 97417\, United States
CATEGORIES:Entertainment
END:VEVENT
BEGIN:VEVENT
DTSTART;TZID=America/Los_Angeles:20250327T190000
DTEND;TZID=America/Los_Angeles:20250327T230000
DTSTAMP:20260423T153807
CREATED:20250228T235233Z
LAST-MODIFIED:20250228T235403Z
UID:10008816-1743102000-1743116400@sevenfeathers.com
SUMMARY:Highway Bound in the Elements Lounge
DESCRIPTION:Be our guest and enjoy free live music in the Elements Lounge! Highway Bound will be performing live March 26 – 29! \nMust be 21 or older. Hours and performers are subject to change.
URL:https://sevenfeathers.com/event/highway-bound-in-the-elements-lounge/2025-03-27/
LOCATION:Elements Lounge\, 146 Chief Miwaleta Ln\, Canyonville\, OR\, 97417\, United States
CATEGORIES:Entertainment
END:VEVENT
BEGIN:VEVENT
DTSTART;TZID=America/Los_Angeles:20250328T210000
DTEND;TZID=America/Los_Angeles:20250329T010000
DTSTAMP:20260423T153807
CREATED:20250228T235523Z
LAST-MODIFIED:20250228T235523Z
UID:10008819-1743195600-1743210000@sevenfeathers.com
SUMMARY:Highway Bound in the Elements Lounge
DESCRIPTION:Be our guest and enjoy free live music in the Elements Lounge! Highway Bound will be performing live March 26 – 29! \nMust be 21 or older. Hours and performers are subject to change.
URL:https://sevenfeathers.com/event/highway-bound-in-the-elements-lounge-2/2025-03-28/
LOCATION:Elements Lounge\, 146 Chief Miwaleta Ln\, Canyonville\, OR\, 97417\, United States
CATEGORIES:Entertainment
END:VEVENT
BEGIN:VEVENT
DTSTART;TZID=America/Los_Angeles:20250329T210000
DTEND;TZID=America/Los_Angeles:20250330T010000
DTSTAMP:20260423T153807
CREATED:20250228T235523Z
LAST-MODIFIED:20250228T235523Z
UID:10008820-1743282000-1743296400@sevenfeathers.com
SUMMARY:Highway Bound in the Elements Lounge
DESCRIPTION:Be our guest and enjoy free live music in the Elements Lounge! Highway Bound will be performing live March 26 – 29! \nMust be 21 or older. Hours and performers are subject to change.
URL:https://sevenfeathers.com/event/highway-bound-in-the-elements-lounge-2/2025-03-29/
LOCATION:Elements Lounge\, 146 Chief Miwaleta Ln\, Canyonville\, OR\, 97417\, United States
CATEGORIES:Entertainment
END:VEVENT
BEGIN:VEVENT
DTSTART;TZID=America/Los_Angeles:20250330T190000
DTEND;TZID=America/Los_Angeles:20250330T200000
DTSTAMP:20260423T153807
CREATED:20250401T204520Z
LAST-MODIFIED:20260101T040356Z
UID:10008861-1743361200-1743364800@sevenfeathers.com
SUMMARY:DJ Trivia in Elements
DESCRIPTION:Play DJ Trivia with us weekly for a chance to win fun prizes! Participation is free and registration begins at 6:45PM.
URL:https://sevenfeathers.com/event/dj-trivia-3-2/2025-03-30/
LOCATION:Elements Lounge\, 146 Chief Miwaleta Ln\, Canyonville\, OR\, 97417\, United States
CATEGORIES:Entertainment,Ongoing
END:VEVENT
END:VCALENDAR