BEGIN:VCALENDAR
VERSION:2.0
PRODID:-//Seven Feathers Casino - ECPv6.15.16//NONSGML v1.0//EN
CALSCALE:GREGORIAN
METHOD:PUBLISH
X-ORIGINAL-URL:https://sevenfeathers.com
X-WR-CALDESC:Events for Seven Feathers Casino
REFRESH-INTERVAL;VALUE=DURATION:PT1H
X-Robots-Tag:noindex
X-PUBLISHED-TTL:PT1H
BEGIN:VTIMEZONE
TZID:America/Los_Angeles
BEGIN:DAYLIGHT
TZOFFSETFROM:-0800
TZOFFSETTO:-0700
TZNAME:PDT
DTSTART:20230312T100000
END:DAYLIGHT
BEGIN:STANDARD
TZOFFSETFROM:-0700
TZOFFSETTO:-0800
TZNAME:PST
DTSTART:20231105T090000
END:STANDARD
BEGIN:DAYLIGHT
TZOFFSETFROM:-0800
TZOFFSETTO:-0700
TZNAME:PDT
DTSTART:20240310T100000
END:DAYLIGHT
BEGIN:STANDARD
TZOFFSETFROM:-0700
TZOFFSETTO:-0800
TZNAME:PST
DTSTART:20241103T090000
END:STANDARD
BEGIN:DAYLIGHT
TZOFFSETFROM:-0800
TZOFFSETTO:-0700
TZNAME:PDT
DTSTART:20250309T100000
END:DAYLIGHT
BEGIN:STANDARD
TZOFFSETFROM:-0700
TZOFFSETTO:-0800
TZNAME:PST
DTSTART:20251102T090000
END:STANDARD
END:VTIMEZONE
BEGIN:VEVENT
DTSTART;TZID=America/Los_Angeles:20240508T190000
DTEND;TZID=America/Los_Angeles:20240508T230000
DTSTAMP:20260424T203749
CREATED:20240429T233922Z
LAST-MODIFIED:20240429T233922Z
UID:10005322-1715194800-1715209200@sevenfeathers.com
SUMMARY:Copper Still
DESCRIPTION:See Copper Still perform free live music in the Elements Lounge!
URL:https://sevenfeathers.com/event/copper-still-2/
LOCATION:Elements Lounge\, 146 Chief Miwaleta Ln\, Canyonville\, OR\, 97417\, United States
CATEGORIES:Entertainment
END:VEVENT
BEGIN:VEVENT
DTSTART;TZID=America/Los_Angeles:20240509T190000
DTEND;TZID=America/Los_Angeles:20240509T230000
DTSTAMP:20260424T203749
CREATED:20240429T234018Z
LAST-MODIFIED:20240429T234018Z
UID:10005323-1715281200-1715295600@sevenfeathers.com
SUMMARY:Copper Still
DESCRIPTION:See Copper Still perform free live music in the Elements Lounge!
URL:https://sevenfeathers.com/event/copper-still-3/
LOCATION:Elements Lounge\, 146 Chief Miwaleta Ln\, Canyonville\, OR\, 97417\, United States
CATEGORIES:Entertainment
END:VEVENT
BEGIN:VEVENT
DTSTART;TZID=America/Los_Angeles:20240510T210000
DTEND;TZID=America/Los_Angeles:20240511T010000
DTSTAMP:20260424T203749
CREATED:20240429T234402Z
LAST-MODIFIED:20240429T234402Z
UID:10005324-1715374800-1715389200@sevenfeathers.com
SUMMARY:DJ Marc Eazy
DESCRIPTION:See DJ Marc Eazy perform a free live show in the Elements Lounge!
URL:https://sevenfeathers.com/event/dj-marc-eazy/
LOCATION:Elements Lounge\, 146 Chief Miwaleta Ln\, Canyonville\, OR\, 97417\, United States
CATEGORIES:Entertainment
END:VEVENT
BEGIN:VEVENT
DTSTART;TZID=America/Los_Angeles:20240511T210000
DTEND;TZID=America/Los_Angeles:20240512T010000
DTSTAMP:20260424T203749
CREATED:20240429T234444Z
LAST-MODIFIED:20240429T234444Z
UID:10005325-1715461200-1715475600@sevenfeathers.com
SUMMARY:DJ Marc Eazy
DESCRIPTION:See DJ Marc Eazy perform a free live show in the Elements Lounge!
URL:https://sevenfeathers.com/event/dj-marc-eazy-2/
LOCATION:Elements Lounge\, 146 Chief Miwaleta Ln\, Canyonville\, OR\, 97417\, United States
CATEGORIES:Entertainment
END:VEVENT
BEGIN:VEVENT
DTSTART;TZID=America/Los_Angeles:20240512T190000
DTEND;TZID=America/Los_Angeles:20240512T200000
DTSTAMP:20260424T203749
CREATED:20240404T163111Z
LAST-MODIFIED:20240807T172047Z
UID:10007853-1715540400-1715544000@sevenfeathers.com
SUMMARY:DJ Trivia
DESCRIPTION:Play DJ Trivia with us weekly for a chance to win fun prizes! Participation is free and registration begins at 6:45PM.
URL:https://sevenfeathers.com/event/dj-trivia-3/2024-05-12/
LOCATION:Elements Lounge\, 146 Chief Miwaleta Ln\, Canyonville\, OR\, 97417\, United States
CATEGORIES:Entertainment
END:VEVENT
END:VCALENDAR