BEGIN:VCALENDAR
VERSION:2.0
PRODID:-//Seven Feathers Casino - ECPv6.15.16//NONSGML v1.0//EN
CALSCALE:GREGORIAN
METHOD:PUBLISH
X-ORIGINAL-URL:https://sevenfeathers.com
X-WR-CALDESC:Events for Seven Feathers Casino
REFRESH-INTERVAL;VALUE=DURATION:PT1H
X-Robots-Tag:noindex
X-PUBLISHED-TTL:PT1H
BEGIN:VTIMEZONE
TZID:America/Los_Angeles
BEGIN:DAYLIGHT
TZOFFSETFROM:-0800
TZOFFSETTO:-0700
TZNAME:PDT
DTSTART:20230312T100000
END:DAYLIGHT
BEGIN:STANDARD
TZOFFSETFROM:-0700
TZOFFSETTO:-0800
TZNAME:PST
DTSTART:20231105T090000
END:STANDARD
BEGIN:DAYLIGHT
TZOFFSETFROM:-0800
TZOFFSETTO:-0700
TZNAME:PDT
DTSTART:20240310T100000
END:DAYLIGHT
BEGIN:STANDARD
TZOFFSETFROM:-0700
TZOFFSETTO:-0800
TZNAME:PST
DTSTART:20241103T090000
END:STANDARD
BEGIN:DAYLIGHT
TZOFFSETFROM:-0800
TZOFFSETTO:-0700
TZNAME:PDT
DTSTART:20250309T100000
END:DAYLIGHT
BEGIN:STANDARD
TZOFFSETFROM:-0700
TZOFFSETTO:-0800
TZNAME:PST
DTSTART:20251102T090000
END:STANDARD
END:VTIMEZONE
BEGIN:VEVENT
DTSTART;TZID=America/Los_Angeles:20240417T190000
DTEND;TZID=America/Los_Angeles:20240417T230000
DTSTAMP:20260424T203755
CREATED:20240321T162940Z
LAST-MODIFIED:20240321T174531Z
UID:10004892-1713380400-1713394800@sevenfeathers.com
SUMMARY:The Koz
DESCRIPTION:Enjoy free live music weekly in the Elements Lounge!
URL:https://sevenfeathers.com/event/the-koz/2024-04-17/
LOCATION:Elements Lounge\, 146 Chief Miwaleta Ln\, Canyonville\, OR\, 97417\, United States
CATEGORIES:Entertainment
END:VEVENT
BEGIN:VEVENT
DTSTART;TZID=America/Los_Angeles:20240418T190000
DTEND;TZID=America/Los_Angeles:20240418T230000
DTSTAMP:20260424T203755
CREATED:20240321T162940Z
LAST-MODIFIED:20240321T174531Z
UID:10004893-1713466800-1713481200@sevenfeathers.com
SUMMARY:The Koz
DESCRIPTION:Enjoy free live music weekly in the Elements Lounge!
URL:https://sevenfeathers.com/event/the-koz/2024-04-18/
LOCATION:Elements Lounge\, 146 Chief Miwaleta Ln\, Canyonville\, OR\, 97417\, United States
CATEGORIES:Entertainment
END:VEVENT
BEGIN:VEVENT
DTSTART;TZID=America/Los_Angeles:20240419T210000
DTEND;TZID=America/Los_Angeles:20240420T010000
DTSTAMP:20260424T203755
CREATED:20240321T174606Z
LAST-MODIFIED:20240321T174616Z
UID:10004896-1713560400-1713574800@sevenfeathers.com
SUMMARY:The Koz
DESCRIPTION:Enjoy free live music weekly in the Elements Lounge!
URL:https://sevenfeathers.com/event/the-koz-2-2/
LOCATION:Elements Lounge\, 146 Chief Miwaleta Ln\, Canyonville\, OR\, 97417\, United States
CATEGORIES:Entertainment
END:VEVENT
BEGIN:VEVENT
DTSTART;TZID=America/Los_Angeles:20240420T210000
DTEND;TZID=America/Los_Angeles:20240421T010000
DTSTAMP:20260424T203755
CREATED:20240321T163104Z
LAST-MODIFIED:20240404T161653Z
UID:10004897-1713646800-1713661200@sevenfeathers.com
SUMMARY:The Koz
DESCRIPTION:Enjoy free live music weekly in the Elements Lounge!
URL:https://sevenfeathers.com/event/the-koz-2/
LOCATION:Elements Lounge\, 146 Chief Miwaleta Ln\, Canyonville\, OR\, 97417\, United States
CATEGORIES:Entertainment
END:VEVENT
BEGIN:VEVENT
DTSTART;TZID=America/Los_Angeles:20240421T190000
DTEND;TZID=America/Los_Angeles:20240421T200000
DTSTAMP:20260424T203755
CREATED:20240404T163111Z
LAST-MODIFIED:20240807T172047Z
UID:10007850-1713726000-1713729600@sevenfeathers.com
SUMMARY:DJ Trivia
DESCRIPTION:Play DJ Trivia with us weekly for a chance to win fun prizes! Participation is free and registration begins at 6:45PM.
URL:https://sevenfeathers.com/event/dj-trivia-3/2024-04-21/
LOCATION:Elements Lounge\, 146 Chief Miwaleta Ln\, Canyonville\, OR\, 97417\, United States
CATEGORIES:Entertainment
END:VEVENT
END:VCALENDAR