BEGIN:VCALENDAR
VERSION:2.0
PRODID:-//Seven Feathers Casino - ECPv6.15.16//NONSGML v1.0//EN
CALSCALE:GREGORIAN
METHOD:PUBLISH
X-WR-CALNAME:Seven Feathers Casino
X-ORIGINAL-URL:https://sevenfeathers.com
X-WR-CALDESC:Events for Seven Feathers Casino
REFRESH-INTERVAL;VALUE=DURATION:PT1H
X-Robots-Tag:noindex
X-PUBLISHED-TTL:PT1H
BEGIN:VTIMEZONE
TZID:America/Los_Angeles
BEGIN:DAYLIGHT
TZOFFSETFROM:-0800
TZOFFSETTO:-0700
TZNAME:PDT
DTSTART:20220313T100000
END:DAYLIGHT
BEGIN:STANDARD
TZOFFSETFROM:-0700
TZOFFSETTO:-0800
TZNAME:PST
DTSTART:20221106T090000
END:STANDARD
BEGIN:DAYLIGHT
TZOFFSETFROM:-0800
TZOFFSETTO:-0700
TZNAME:PDT
DTSTART:20230312T100000
END:DAYLIGHT
BEGIN:STANDARD
TZOFFSETFROM:-0700
TZOFFSETTO:-0800
TZNAME:PST
DTSTART:20231105T090000
END:STANDARD
BEGIN:DAYLIGHT
TZOFFSETFROM:-0800
TZOFFSETTO:-0700
TZNAME:PDT
DTSTART:20240310T100000
END:DAYLIGHT
BEGIN:STANDARD
TZOFFSETFROM:-0700
TZOFFSETTO:-0800
TZNAME:PST
DTSTART:20241103T090000
END:STANDARD
BEGIN:DAYLIGHT
TZOFFSETFROM:-0800
TZOFFSETTO:-0700
TZNAME:PDT
DTSTART:20250309T100000
END:DAYLIGHT
BEGIN:STANDARD
TZOFFSETFROM:-0700
TZOFFSETTO:-0800
TZNAME:PST
DTSTART:20251102T090000
END:STANDARD
END:VTIMEZONE
BEGIN:VEVENT
DTSTART;TZID=America/Los_Angeles:20240127T000000
DTEND;TZID=America/Los_Angeles:20240127T235959
DTSTAMP:20260423T135942
CREATED:20240112T213315Z
LAST-MODIFIED:20240112T213415Z
UID:10004321-1706313600-1706399999@sevenfeathers.com
SUMMARY:Winter Marathon Bingo 2024
DESCRIPTION:Winter Marathon Bingo \nSaturday\, January 27 Tickets now on sale! \nDoors open at 8:00AM. Admission sales begin at 10:00AM. Games start at 1:00PM. Buy-Ins: Paper $20\, Electronic $60\, Extras $20. \nOver $31\,000 in Cash Prizes! 20 Regular Games pay $1\,199! \n$5\,000 MUST GO Super Jackpot! Purchase tickets in person at the Gift Gallery\, online at sevenfeathers.com or call Etix at 800.514.3849. You may purchase a seat for another person but if that seat does not have a playing guest in it by the time warm-up games have concluded\, the seat may be resold. Etix is the sole ticket provider for all Seven Feathers Casino Resort events.
URL:https://sevenfeathers.com/event/winter-marathon-bingo-2024/
LOCATION:Bingo Hall\, 146 Chief Miwaleta Ln\, Canyonville\, OR\, 97417\, United States
CATEGORIES:Bingo,Promotions
END:VEVENT
BEGIN:VEVENT
DTSTART;TZID=America/Los_Angeles:20240124T000000
DTEND;TZID=America/Los_Angeles:20240127T235959
DTSTAMP:20260423T135942
CREATED:20240112T215657Z
LAST-MODIFIED:20240112T220018Z
UID:10004848-1706054400-1706399999@sevenfeathers.com
SUMMARY:The Brothers Reed
DESCRIPTION:
URL:https://sevenfeathers.com/event/the-brothers-reed/
LOCATION:Elements Lounge\, 146 Chief Miwaleta Ln\, Canyonville\, OR\, 97417\, United States
CATEGORIES:Entertainment
END:VEVENT
BEGIN:VEVENT
DTSTART;TZID=America/Los_Angeles:20240120T170000
DTEND;TZID=America/Los_Angeles:20240120T210000
DTSTAMP:20260423T135942
CREATED:20240112T203120Z
LAST-MODIFIED:20240112T203120Z
UID:10004209-1705770000-1705784400@sevenfeathers.com
SUMMARY:Traditional Lion Dancers
DESCRIPTION:One of your favorite traditions is back! Join us Saturday\, January 20\, for a traditional Lion Dance at the main casino entrance. The main show starts at 5:00PM. \nAdditional performances will take place on the hour from 6:00 – 9:00PM across the casino floor.
URL:https://sevenfeathers.com/event/traditional-lion-dancers/
LOCATION:Main Casino Entrance\, 146 Chief Miwaleta Ln\, Canyonville\, OR\, 97417\, United States
CATEGORIES:Entertainment
ATTACH;FMTTYPE=image/jpeg:https://sevenfeathers.com/wp-content/uploads/2024/01/7F-Chinese-Lion-Dancers-2024-1920x1080-Web.jpg
END:VEVENT
BEGIN:VEVENT
DTSTART;TZID=America/Los_Angeles:20240119T200000
DTEND;TZID=America/Los_Angeles:20240119T200000
DTSTAMP:20260423T135942
CREATED:20231025T222408Z
LAST-MODIFIED:20240112T202633Z
UID:10002341-1705694400-1705694400@sevenfeathers.com
SUMMARY:Megan Moroney
DESCRIPTION:This event is sold out. \nMust be 21 or older. \nCome see one of the best up-and-coming talents in country music\, Megan Moroney! See her hit single\, Tennessee Orange\, live and in-person\, as well as other hits from her debut album\, Lucky. \nReserved Seating $35\, $45\, $55 \nTickets on sale now! Purchase tickets in person at the Gift Gallery\, online at sevenfeathers.com or call 800.514.3849. Etix is the sole ticket provider for all Seven Feathers Casino Resort events. Not responsible for third party ticket sales. Doors open at 7:00PM.
URL:https://sevenfeathers.com/event/megan-moroney/
LOCATION:Umpqua Grand Ballroom\, 146 Chief Miwaleta Ln\, Canyonville\, OR\, 97417\, United States
CATEGORIES:Entertainment
END:VEVENT
BEGIN:VEVENT
DTSTART;TZID=America/Los_Angeles:20240119T000000
DTEND;TZID=America/Los_Angeles:20240120T235959
DTSTAMP:20260423T135942
CREATED:20240112T215459Z
LAST-MODIFIED:20240112T220009Z
UID:10004847-1705622400-1705795199@sevenfeathers.com
SUMMARY:DJ Ron
DESCRIPTION:
URL:https://sevenfeathers.com/event/dj-ron/
LOCATION:Elements Lounge\, 146 Chief Miwaleta Ln\, Canyonville\, OR\, 97417\, United States
CATEGORIES:Entertainment
END:VEVENT
BEGIN:VEVENT
DTSTART;TZID=America/Los_Angeles:20240117T000000
DTEND;TZID=America/Los_Angeles:20240118T235959
DTSTAMP:20260423T135942
CREATED:20240112T215306Z
LAST-MODIFIED:20240112T215330Z
UID:10004846-1705449600-1705622399@sevenfeathers.com
SUMMARY:Copper Still
DESCRIPTION:
URL:https://sevenfeathers.com/event/copper-still/
LOCATION:Elements Lounge\, 146 Chief Miwaleta Ln\, Canyonville\, OR\, 97417\, United States
CATEGORIES:Entertainment
END:VEVENT
BEGIN:VEVENT
DTSTART;TZID=America/Los_Angeles:20240115T000000
DTEND;TZID=America/Los_Angeles:20240303T235959
DTSTAMP:20260423T135942
CREATED:20240112T213019Z
LAST-MODIFIED:20240112T213019Z
UID:10004320-1705276800-1709510399@sevenfeathers.com
SUMMARY:Chart Your Escape
DESCRIPTION:Play for your chance at over $65\,000 in cash & prizes\, including a 2024 Hewescraft 180 Sportsman Boat\, valued at $48\,000! \nEvery winner has a chance at winning the Lucky Bait Bonus Prize of $100\,000 CASH*! \nDrawings will take place from 3:00 to 6:00PM on Saturdays in February. The Grand Prize drawing for the boat on will be on Sunday\, March 3. \nGet one entry for every 100 points earned at Slots and Table Games. Plus\, you can get 2X entries on Wednesdays! \nRegular Weekly Drawings: \nSaturdays\, February 3\, 10\, 17 and 24: \n\n3:00PM – Two winners of $100-$200 FREE Slot Play\n4:00PM – Two winners of $200-$300 FREE Slot Play\n5:00PM – Two winners of $300-$400 FREE Slot Play\n6:00PM – One winner of $700-$1\,000 CASH\n\nPlatinum Elite & Diamond only Drawings: \nSaturday\, March 2: \n\n3:00PM – Two winners of $200-$300 FREE Slot Play\n4:00PM – Two winners of $400-$500 FREE Slot Play\n5:00PM – Two winners of $700-$1\,000 FREE Slot Play\n6:00PM – One winner of $3\,000-$5\,000 CASH\n\nGrand Prize Drawings: \nSunday\, March 3: \n\n3:00PM – Two (2) winners of $200-$300 FREE Slot Play\n4:00PM – Two (2) winners of $400-$500 FREE Slot Play\n5:00PM – Two (2) winners of $700-$1\,000 FREE Slot Play\n6:00PM – One winner of a 2024 Hewes Craft180 Sportsman Boat\nOne winner of $5\,000 CASH\nOne winner of $2\,000 FREE Slot Play\n\nTo be valid\, entries must be activated between 1:00PM and 5:50PM\, on EACH drawing day\, at any Players Club Kiosk or by playing table games or your favorite slot machine with your Players Club card. \n*Lucky Bait Bonus Prize can be awarded only one (1) time during promotion period.  Bonus Prize is awarded randomly and is NOT guaranteed to hit during Chart Your Escape promotion. \nVisit Players Club for details.
URL:https://sevenfeathers.com/event/chart-your-escape/
LOCATION:OR
CATEGORIES:Promotions
END:VEVENT
BEGIN:VEVENT
DTSTART;TZID=America/Los_Angeles:20240113T190000
DTEND;TZID=America/Los_Angeles:20240113T190000
DTSTAMP:20260423T135942
CREATED:20231025T220543Z
LAST-MODIFIED:20240112T202655Z
UID:10002340-1705172400-1705172400@sevenfeathers.com
SUMMARY:Justin Shandor As Elvis
DESCRIPTION:This event is sold out. \nMust be 21 or older to attend. \n“World’s Ultimate Elvis” Champion \nSaturday\, January 13 at 7:00PM \nReserved Seating $30\, $40 & $50 Tickets on sale Wednesday\, October 4 at 10:00AM. Purchase tickets in person at the Gift Gallery\, online at sevenfeathers.com or call 800.514.3849. Etix is the sole ticket provider for all Seven Feathers Casino Resort events. Not responsible for third party ticket sales. Doors open at 6:00PM. Concert Attendees – due to venue configuration standing during the concert can be expected\, please be sensitive to the mobility impaired that may surround your seat.
URL:https://sevenfeathers.com/event/justin-shandor-as-elvis/
LOCATION:Umpqua Grand Ballroom\, 146 Chief Miwaleta Ln\, Canyonville\, OR\, 97417\, United States
CATEGORIES:Entertainment
END:VEVENT
BEGIN:VEVENT
DTSTART;TZID=America/Los_Angeles:20240107T000000
DTEND;TZID=America/Los_Angeles:20240107T235959
DTSTAMP:20260423T135942
CREATED:20230907T211107Z
LAST-MODIFIED:20240112T211503Z
UID:10001495-1704585600-1704671999@sevenfeathers.com
SUMMARY:Car Essentials Gift Giveaways
DESCRIPTION:Collect the whole set! Earn 1\,000 Players Club points beginning at 7:00AM on promotion days to receive a new piece each week\, or you can buy a piece for 10\,000 points. \nEasy gift redemption starts at any Players Club Kiosk. \nCHECK your points at any Players Club Kiosk. Invited guests\, check your promotions. PRINT your voucher or vouchers. REDEEM your vouchers at the Mall Entrance Redemption Area. \nCollect your piece from 1:00 – 8:00PM on Sundays and Mondays. \nLimited quantities on hand – rainchecks will be issued through the Players Club Kiosk when product runs out. Rainchecks will only be issued during redemption periods. There is a limit of two Car Essentials pieces per guest per week. Bingo points do not apply. \nManagement reserves the right to change any event or promotion. \nVisit Players Club for details.
URL:https://sevenfeathers.com/event/car-essentials-gift-giveaway/2024-01-07/
LOCATION:OR
CATEGORIES:Promotions
END:VEVENT
BEGIN:VEVENT
DTSTART;TZID=America/Los_Angeles:20231231T210000
DTEND;TZID=America/Los_Angeles:20231231T210000
DTSTAMP:20260423T135942
CREATED:20231025T220300Z
LAST-MODIFIED:20231025T220300Z
UID:10002339-1704056400-1704056400@sevenfeathers.com
SUMMARY:24K Gold NYE Party
DESCRIPTION:Must be 21 or older to attend this show. \nRing in the new year with us! General Admission $30. \nTickets on sale 7/5! Purchase tickets in person at the Gift Gallery\, online at sevenfeathers.com or call Etix at 800.514.3849. Etix is the sole ticket provider for all Seven Feathers Casino Resort events. Not responsible for third party ticket sales. \nDoors open at 9:00PM. Party favors available at the door.
URL:https://sevenfeathers.com/event/24k-gold-nye-party/
LOCATION:Umpqua Grand Ballroom\, 146 Chief Miwaleta Ln\, Canyonville\, OR\, 97417\, United States
CATEGORIES:Entertainment
END:VEVENT
BEGIN:VEVENT
DTSTART;TZID=America/Los_Angeles:20231213T093000
DTEND;TZID=America/Los_Angeles:20231213T133000
DTSTAMP:20260423T135942
CREATED:20230914T191534Z
LAST-MODIFIED:20230918T172017Z
UID:10001872-1702459800-1702474200@sevenfeathers.com
SUMMARY:Canyonville Farmer's Market
DESCRIPTION:
URL:https://sevenfeathers.com/event/canyonville-farmers-market/2023-12-13/
LOCATION:South Parking Lot\, 146 Chief Miwaleta Ln\, Canyonville\, OR\, 97417\, United States
CATEGORIES:Shopping
ATTACH;FMTTYPE=image/jpeg:https://sevenfeathers.com/wp-content/uploads/2023/09/Canyonville-Farmers-Market-17x1l-Web-1536x864-1.jpg
END:VEVENT
BEGIN:VEVENT
DTSTART;TZID=America/Los_Angeles:20231125T160000
DTEND;TZID=America/Los_Angeles:20231125T180000
DTSTAMP:20260423T135942
CREATED:20231025T230231Z
LAST-MODIFIED:20231026T141146Z
UID:10004208-1700928000-1700935200@sevenfeathers.com
SUMMARY:Designer Holiday Hot Seats
DESCRIPTION:November 4 & 25 From 4:00 – 6:00PM \n\n\n\n\n\n\nRandom hot seat drawings will be held every half-hour. \nPick a designer wallet filled with Free Slot Play or Cash and keep the wallet too! \nYou could win up to $5\,000 CASH each day! \nPlay with your Players Club card for a chance to win! \nVisit Players Club for details. \nAll Players Club members actively playing Slots or Table Games with their Players Club card at the time of the drawing are eligible to win. Management reserves the right to change or cancel any promotion without notice.
URL:https://sevenfeathers.com/event/designer-holiday-hot-seats/2023-11-25/
LOCATION:OR
CATEGORIES:Promotions
ATTACH;FMTTYPE=image/jpeg:https://sevenfeathers.com/wp-content/uploads/2023/10/23-7FCR-0940-Designer-Holiday-Hot-Seats-1920x1080-WEB-1024x576-1.jpg
END:VEVENT
BEGIN:VEVENT
DTSTART;TZID=America/Los_Angeles:20231111T200000
DTEND;TZID=America/Los_Angeles:20231111T200000
DTSTAMP:20260423T135942
CREATED:20231025T215736Z
LAST-MODIFIED:20231025T215736Z
UID:10002338-1699732800-1699732800@sevenfeathers.com
SUMMARY:The Rocky Horror Picture Show
DESCRIPTION:48th Anniversary Spectacular Tour\nMust be 21 or older to attend this show. \nSaturday\, November 11 at 8:00PM \nReserved Seating $35\, $45\, $55 \nVIP Meet & Greet Package $100 \nFeaturing the original “Brad Majors” star\, Barry Bostwick. Tickets on sale now. Purchase tickets in person at the Gift Gallery\, online at sevenfeathers.com or call 800.514.3849. \nEtix is the sole ticket provider for all Seven Feathers Casino Resort events. Not responsible for third party ticket sales. Doors open at 7:00PM. Costumes that disguise the identity of the wearer and toy weapons are not permitted on the casino floor.
URL:https://sevenfeathers.com/event/the-rocky-horror-picture-show/
LOCATION:Umpqua Grand Ballroom\, 146 Chief Miwaleta Ln\, Canyonville\, OR\, 97417\, United States
CATEGORIES:Entertainment
END:VEVENT
BEGIN:VEVENT
DTSTART;TZID=America/Los_Angeles:20231029T000000
DTEND;TZID=America/Los_Angeles:20231029T235959
DTSTAMP:20260423T135942
CREATED:20231025T224712Z
LAST-MODIFIED:20231025T224712Z
UID:10002346-1698537600-1698623999@sevenfeathers.com
SUMMARY:Phantom Cash Blast
DESCRIPTION:Sundays in October – Hourly Drawings from 3:00 – 6:00 PM. \n\n\n\n\n\nPhantom Cash Blast Giveaway\n\n\nThrough October 29 \nOver $100\,000 in cash & prizes up for grabs! \nEarn an entry for every 100 Players Club Points\, plus 3X your entries on Thursdays. \nPlatinum Elite and Diamond Players Club members receive 2X your entries on Saturdays! \nSundays in October from 3:00 – 6:00PM. Grand Prize drawings are 3:00 – 6:00PM on Sunday\, October 29. Platinum Elite and Diamond only drawings October 7 and 27. \nRegular Weekly Drawings: \nSundays\, October 8\, 15 and 22: \n3:00PM – Two winners of $100-$1\,500 FREE Slot Play\n4:00PM – Two winners of $100-$1\,500 FREE Slot Play\n5:00PM – Two winners of $400-$2\,000 CASH\n6:00PM – Two winners of $400-$2\,000 CASH \nGrand Prize Drawings: \nSunday\, October 29 – with Prize Multipliers: \n3:00PM – Two winners of $400-$4\,000 FREE Slot Play\n4:00PM – Two winners of $400-$4\,000 FREE Slot Play\n5:00PM – Two winners of $2\,000-$20\,000 CASH\n6:00PM – Two winners of $2\,000-$20\,000 CASH \nPlatinum Elite & Diamond only Drawings: \nSaturday\, October 7: \n3:00PM – Two winners of $50-$1\,000 FREE Slot Play\n4:00PM – Two winners of $50-$1\,000 FREE Slot Play\n5:00PM – Two winners of $200-$1\,000 CASH\n6:00PM – Two winners of $200-$1\,000 CASH \nFriday\, October 27 – with Prize Multipliers: \n3:00PM – Two winners of $400-$2\,000 FREE Slot Play\n4:00PM – Two winners of $400-$2\,000 FREE Slot Play\n5:00PM – Two winners of $2\,000-$10\,000 CASH\n6:00PM – Two winners of $2\,000-$10\,000 CASH \nVisit Players Club for details.
URL:https://sevenfeathers.com/event/phantom-cash-blast/2023-10-29/
LOCATION:OR
CATEGORIES:Promotions
END:VEVENT
BEGIN:VEVENT
DTSTART;TZID=America/Los_Angeles:20231029T000000
DTEND;TZID=America/Los_Angeles:20231029T235959
DTSTAMP:20260423T135942
CREATED:20231025T214310Z
LAST-MODIFIED:20231025T215001Z
UID:10001915-1698537600-1698623999@sevenfeathers.com
SUMMARY:DJ Trivia
DESCRIPTION:
URL:https://sevenfeathers.com/event/dj-trivia-2/2023-10-29/
LOCATION:Elements Lounge\, 146 Chief Miwaleta Ln\, Canyonville\, OR\, 97417\, United States
CATEGORIES:Entertainment
END:VEVENT
BEGIN:VEVENT
DTSTART;TZID=America/Los_Angeles:20231028T000000
DTEND;TZID=America/Los_Angeles:20231028T235959
DTSTAMP:20260423T135942
CREATED:20231025T225428Z
LAST-MODIFIED:20231025T225631Z
UID:10002347-1698451200-1698537599@sevenfeathers.com
SUMMARY:Monster Cash Blacklight Bingo
DESCRIPTION:Doors open at 4:30PM • Admission sales at 6:30PM • Games begin at 8:00PM \nBuy-ins:  Paper $10 (one pack plus one FREE)\, Electronic $20 (three packs plus one FREE)\, Extras $5 \nEight Regular Games pay $500 \n$1\,000 MUST GO Jackpot! \nOne 50/50 Blackout \nCostume Contest \nPlus receive a free holiday dauber with your buy-in on Tuesday\, October 31.
URL:https://sevenfeathers.com/event/monster-cash-blacklight-bingo/
LOCATION:OR
CATEGORIES:Promotions
END:VEVENT
BEGIN:VEVENT
DTSTART;TZID=America/Los_Angeles:20231025T000000
DTEND;TZID=America/Los_Angeles:20231028T235959
DTSTAMP:20260423T135942
CREATED:20231025T214647Z
LAST-MODIFIED:20231026T180118Z
UID:10001968-1698192000-1698537599@sevenfeathers.com
SUMMARY:Aurora
DESCRIPTION:
URL:https://sevenfeathers.com/event/aurora/
LOCATION:Elements Lounge\, 146 Chief Miwaleta Ln\, Canyonville\, OR\, 97417\, United States
CATEGORIES:Entertainment
END:VEVENT
BEGIN:VEVENT
DTSTART;TZID=America/Los_Angeles:20231021T190000
DTEND;TZID=America/Los_Angeles:20231021T190000
DTSTAMP:20260423T135942
CREATED:20230915T145912Z
LAST-MODIFIED:20230918T171914Z
UID:10001913-1697914800-1697914800@sevenfeathers.com
SUMMARY:Sir Mix-A-Lot October 2023
DESCRIPTION:Must be 21 or older to attend this show.\nReserved Seating Tickets $20\, $25 & $30\nRelive the fun of the 90s when Sir Mix-A-Lot comes to Seven Feathers Casino Resort. Enjoy all of hits at this fun\, live show. \nLook for more information because Sir Mix-A-Lot will be hosting more events throughout the weekend! \nTickets on sale Wednesday\, August 30 at 10:00AM. Purchase tickets in person at the Gift Gallery\, online at sevenfeathers.com or call 800.514.3849. Etix is the sole ticket provider for all Seven Feathers Casino Resort events. Not responsible for third party ticket sales. Doors open at 6:00PM. Concert Attendees – due to venue configuration standing during the concert can be expected\, please be sensitive to the mobility impaired that may surround your seat.
URL:https://sevenfeathers.com/event/sir-mix-a-lot-october-2023/
LOCATION:Umpqua Grand Ballroom\, 146 Chief Miwaleta Ln\, Canyonville\, OR\, 97417\, United States
CATEGORIES:Entertainment
END:VEVENT
BEGIN:VEVENT
DTSTART;TZID=America/Los_Angeles:20231007T200000
DTEND;TZID=America/Los_Angeles:20231007T200000
DTSTAMP:20260423T135942
CREATED:20230915T145448Z
LAST-MODIFIED:20230918T171914Z
UID:10001912-1696708800-1696708800@sevenfeathers.com
SUMMARY:Thunder From Down Under 2023
DESCRIPTION:Girls’ Night Outback\nGet Lucky 2023 World Tour\nSaturday\, October 7 • 8:00PM\nMust be 21 or older to attend this show.\nReserved Seating Tickets $40 & $50 \nTickets on sale Wednesday\, July 12 at 10:00AM.\nPurchase tickets in person at the Gift Gallery\, online at sevenfeathers.com or call 800.514.3849.\nEtix is the sole ticket provider for all Seven Feathers Casino Resort events. Not responsible for third party ticket sales. \nDoors open at 7:00PM. Concert Attendees – due to venue configuration standing during the concert can be expected\, please be sensitive to the mobility impaired that may surround your seat.
URL:https://sevenfeathers.com/event/thunder-from-down-under-2023/
LOCATION:Umpqua Grand Ballroom\, 146 Chief Miwaleta Ln\, Canyonville\, OR\, 97417\, United States
CATEGORIES:Entertainment
END:VEVENT
BEGIN:VEVENT
DTSTART;TZID=America/Los_Angeles:20230930T170000
DTEND;TZID=America/Los_Angeles:20230930T210000
DTSTAMP:20260423T135942
CREATED:20230914T192229Z
LAST-MODIFIED:20230918T171915Z
UID:10001910-1696093200-1696107600@sevenfeathers.com
SUMMARY:Music in the Courtyard
DESCRIPTION:Join us on Friday and Saturday evenings between 5:00 & 9:00PM for live music. This is a free event that is open to the public. \nThe patio bar is open from 5:00 – 9:00PM. \nMusic in the Courtyard is each weekend from May 26 to September 30 in the hotel patio.
URL:https://sevenfeathers.com/event/music-in-the-courtyard/2023-09-30/
LOCATION:Hotel Courtyard\, 146 Chief Miwaleta Ln\, Canyonville\, OR\, 97417\, United States
CATEGORIES:Entertainment
END:VEVENT
BEGIN:VEVENT
DTSTART;TZID=America/Los_Angeles:20230927T000000
DTEND;TZID=America/Los_Angeles:20230930T235959
DTSTAMP:20260423T135942
CREATED:20230914T190824Z
LAST-MODIFIED:20230918T171914Z
UID:10001592-1695772800-1696118399@sevenfeathers.com
SUMMARY:Toyz
DESCRIPTION:
URL:https://sevenfeathers.com/event/toyz/
LOCATION:Elements Lounge\, 146 Chief Miwaleta Ln\, Canyonville\, OR\, 97417\, United States
CATEGORIES:Entertainment
END:VEVENT
BEGIN:VEVENT
DTSTART;TZID=America/Los_Angeles:20230925T000000
DTEND;TZID=America/Los_Angeles:20231231T235959
DTSTAMP:20260423T135942
CREATED:20231025T230057Z
LAST-MODIFIED:20231026T175944Z
UID:10002348-1695600000-1704067199@sevenfeathers.com
SUMMARY:Limited Time Fuel Rewards
DESCRIPTION:Starting September 25 For A Limited Time \n\n\n\n\n\n\nActive players automatically qualify for a base discount based on card tier level. Guests may earn additional fuel discounts based on play as follows: \n\n$0.05 per gallon for every 2\,000 points earned within a calendar week.\nGuests may earn up to a $2.50 total discount\, including the base discount.\nGuests begin with a base amount in the first week. Based on play (points earned) for the first week\, guests receive the earned discount in the second week as a fixed amount.\nThe earned discount continues each week while the promotion is active\, with players receiving the earned discount in the upcoming week(s).\nEach week\, guests will begin again at the base discount and play to rebuild their fuel discount in the upcoming week.\n\n \nFuel discounts will increase on a weekly basis as guests play during the promotion period. Players Club cards are automatically updated with increased discounts. Players can see their fuel discount progress on their Player Portal. \nGuests may swipe their Players Club card at a Seven Feathers Truck and Travel fuel station prior to purchase to activate the offer any time during the promotional period. Guests are limited to 25 gallons per week at the increased discounts above the base amount. \n \n\n\n\n\n\n\n\n\nMust be 21 or older and a Players Club member with an active Players Club account to qualify for fuel discounts. Fuel discounts are per gallon of non-PUC fuel\, and increasing discounts are based on play with Players Club card tracking. If you have not played recently\, please see the Players Club to make sure your card is active. Active play within the last 18 months is required to prevent your Players Club account from archiving. Visit the Players Club for more information. Management reserves the right to change or cancel any offer or promotion at any time without notice.
URL:https://sevenfeathers.com/event/limited-time-fuel-rewards/
LOCATION:OR
CATEGORIES:Promotions
ATTACH;FMTTYPE=image/jpeg:https://sevenfeathers.com/wp-content/uploads/2023/10/Fall-Fuel-Discount-Hero-1024x576-1.jpg
END:VEVENT
BEGIN:VEVENT
DTSTART;TZID=America/Los_Angeles:20230924T000000
DTEND;TZID=America/Los_Angeles:20230924T235959
DTSTAMP:20260423T135942
CREATED:20230914T191012Z
LAST-MODIFIED:20230918T171915Z
UID:10001596-1695513600-1695599999@sevenfeathers.com
SUMMARY:DJ Trivia
DESCRIPTION:
URL:https://sevenfeathers.com/event/dj-trivia/2023-09-24/
LOCATION:Elements Lounge\, 146 Chief Miwaleta Ln\, Canyonville\, OR\, 97417\, United States
CATEGORIES:Entertainment
END:VEVENT
BEGIN:VEVENT
DTSTART;TZID=America/Los_Angeles:20230923T000000
DTEND;TZID=America/Los_Angeles:20230923T235959
DTSTAMP:20260423T135942
CREATED:20230907T211535Z
LAST-MODIFIED:20230922T202624Z
UID:10000800-1695427200-1695513599@sevenfeathers.com
SUMMARY:Marathon Bingo
DESCRIPTION:Play for over $31\,000 in Cash Prizes! 20 Regular Games pay $1\,199\, and there is a $5\,000 MUST GO Super Jackpot! \nDoors open at 8:00AM. Admission sales begin at 10:00AM. Games start at 1:00PM. Buy-Ins: Paper $20\, Electronic $60\, Extras $20 Tickets on sale now. Purchase tickets online at sevenfeathers.com\, in person at the Gift Gallery or call 800.514.3849. Etix is the sole ticket provider for all Seven Feathers Casino Resort events. You may purchase a seat for another person\, but if that seat does not have a playing guest in it by the time warm-up games have concluded\, the seat may be resold. \nBuy Now
URL:https://sevenfeathers.com/event/marathon-bingo/
LOCATION:OR
CATEGORIES:Bingo,Promotions
END:VEVENT
BEGIN:VEVENT
DTSTART;TZID=America/Los_Angeles:20230920T000000
DTEND;TZID=America/Los_Angeles:20230923T235959
DTSTAMP:20260423T135942
CREATED:20230914T190005Z
LAST-MODIFIED:20230918T171915Z
UID:10001591-1695168000-1695513599@sevenfeathers.com
SUMMARY:Bump in the Road
DESCRIPTION:
URL:https://sevenfeathers.com/event/bump-in-the-road/
LOCATION:Elements Lounge\, 146 Chief Miwaleta Ln\, Canyonville\, OR\, 97417\, United States
CATEGORIES:Entertainment
END:VEVENT
BEGIN:VEVENT
DTSTART;TZID=America/Los_Angeles:20230914T000000
DTEND;TZID=America/Los_Angeles:20230916T235959
DTSTAMP:20260423T135942
CREATED:20230914T181107Z
LAST-MODIFIED:20230918T171915Z
UID:10001590-1694649600-1694908799@sevenfeathers.com
SUMMARY:California Country
DESCRIPTION:
URL:https://sevenfeathers.com/event/california-country/
LOCATION:Elements Lounge\, 146 Chief Miwaleta Ln\, Canyonville\, OR\, 97417\, United States
CATEGORIES:Entertainment
END:VEVENT
BEGIN:VEVENT
DTSTART;TZID=America/Los_Angeles:20230717T000000
DTEND;TZID=America/Los_Angeles:20230930T235959
DTSTAMP:20260423T135942
CREATED:20230723T183614Z
LAST-MODIFIED:20230907T210507Z
UID:10000002-1689552000-1696118399@sevenfeathers.com
SUMMARY:Bronco & Bucks Goldrush Giveaway
DESCRIPTION:Play now for your chance at over $90\,000 in cash & prizes\, including a 2023 Ford Bronco Sport Heritage Limited 4X4 that is valued at over $45\,000! \nEvery winner has a chance at winning the Pay Dirt Prize of $100\,000 CASH! The Pay Dirt Bonus Prize can be awarded only one time during the promotion period. It is awarded randomly\, and it is not guaranteed to hit during Bronco & Bucks Gold Rush promotion. \nEnter daily by placing your first bet at any slot machine or by playing your favorite table game with your Players Club card. \nEarn an additional entry for every 100 Players Club Points you earn per day\, and earn 3X your entries on Wednesdays. \nPlatinum Elite and Diamond Players Club members receive 5X your entries on Thursdays \nDrawing times and prizes are as follows: \nFridays August 11 – September 29 (See Below for VIP Drawing Days): \n\n5:00PM: two (2) winners win $100 – $300 Free Slot Play\n6:00PM: two (2) winners win $100 – $300 Free Slot Play\n7:00PM: two (2) winners win $300 – $500 Free Slot Play\n8:00PM: one (1) winner wins $1\,000 – $3\,000 CASH\n\nSaturday\, September 30 Grand Prize Drawing: \n\n5:00PM: two (2) winners win $100 – $300 Free Slot Play\n6:00PM: two (2) winners win $100 – $300 Free Slot Play\n7:00PM: two (2) winners win $300 – $500 Free Slot Play\n8:00PM: one (1) winner of 2023 Ford Bronco Tradition ($47\,345.92 value)\, one (1) winner of $5\,000 Cash\, one (1) winner of $2\,000 Cash\, and one (1) winner of $1\,000 Free Slot Play.\n\n  \nVIP Drawings for Platinum Elite and Diamond Members: \n  \nFriday\, August  4: \n\n5:00PM: two (2) winners win $100 – $300 Free Slot Play\n6:00PM: two (2) winners win $100 – $300 Free Slot Play\n7:00PM: two (2) winners win $300 – $500 Free Slot Play\n8:00PM: one (1) winner wins $1\,000 – $3\,000 CASH\n\n  \nFriday\, September 1: \n\n5:00PM: two (2) winners win $100 – $300 Free Slot Play\n6:00PM: two (2) winners win $100 – $300 Free Slot Play\n7:00PM: two (2) winners win $300 – $500 Free Slot Play\n8:00PM: one (1) winner wins $1\,000 – $3\,000 CASH\n\n  \nVisit Players Club for details.
URL:https://sevenfeathers.com/event/bronco-bucks-gold-rush-giveaway/
LOCATION:OR
CATEGORIES:Promotions
END:VEVENT
END:VCALENDAR