BEGIN:VCALENDAR
VERSION:2.0
PRODID:-//Seven Feathers Casino - ECPv6.15.16//NONSGML v1.0//EN
CALSCALE:GREGORIAN
METHOD:PUBLISH
X-WR-CALNAME:Seven Feathers Casino
X-ORIGINAL-URL:https://sevenfeathers.com
X-WR-CALDESC:Events for Seven Feathers Casino
REFRESH-INTERVAL;VALUE=DURATION:PT1H
X-Robots-Tag:noindex
X-PUBLISHED-TTL:PT1H
BEGIN:VTIMEZONE
TZID:America/Los_Angeles
BEGIN:DAYLIGHT
TZOFFSETFROM:-0800
TZOFFSETTO:-0700
TZNAME:PDT
DTSTART:20230312T100000
END:DAYLIGHT
BEGIN:STANDARD
TZOFFSETFROM:-0700
TZOFFSETTO:-0800
TZNAME:PST
DTSTART:20231105T090000
END:STANDARD
BEGIN:DAYLIGHT
TZOFFSETFROM:-0800
TZOFFSETTO:-0700
TZNAME:PDT
DTSTART:20240310T100000
END:DAYLIGHT
BEGIN:STANDARD
TZOFFSETFROM:-0700
TZOFFSETTO:-0800
TZNAME:PST
DTSTART:20241103T090000
END:STANDARD
BEGIN:DAYLIGHT
TZOFFSETFROM:-0800
TZOFFSETTO:-0700
TZNAME:PDT
DTSTART:20250309T100000
END:DAYLIGHT
BEGIN:STANDARD
TZOFFSETFROM:-0700
TZOFFSETTO:-0800
TZNAME:PST
DTSTART:20251102T090000
END:STANDARD
END:VTIMEZONE
BEGIN:VEVENT
DTSTART;TZID=America/Los_Angeles:20240928T210000
DTEND;TZID=America/Los_Angeles:20240929T010000
DTSTAMP:20260423T150957
CREATED:20240901T152726Z
LAST-MODIFIED:20240901T152726Z
UID:10007907-1727557200-1727571600@sevenfeathers.com
SUMMARY:Revolution
DESCRIPTION:See free live music in the Elements Lounge!
URL:https://sevenfeathers.com/event/revolution-6/2024-09-28/
LOCATION:Elements Lounge\, 146 Chief Miwaleta Ln\, Canyonville\, OR\, 97417\, United States
CATEGORIES:Entertainment
END:VEVENT
BEGIN:VEVENT
DTSTART;TZID=America/Los_Angeles:20240928T180000
DTEND;TZID=America/Los_Angeles:20240928T210000
DTSTAMP:20260423T150957
CREATED:20240724T171647Z
LAST-MODIFIED:20240729T164553Z
UID:10007385-1727546400-1727557200@sevenfeathers.com
SUMMARY:Squatchee Safari Grand Prize Drawings
DESCRIPTION:Play from July 22 through September 29 \nOver $75\,000 in cash & prizes\, including four Vacation Packages\, valued at over $10\,000 each! Plus\, you have a chance at winning the Wild Ride Bonus Prize of $20\,000 cash*! \nDrawings are from 6:00 to 9:00PM on Saturdays in August and September\, with the two Grand Prize drawings! \nEarn one entry for every 100 points at Slots and Table Games. Plus\, you can earn 3X entries on Wednesdays! \nPlatinum Elite and Diamond only drawings August 3 and September 7\, 6:00 – 9:00PM. \nPlatinum Elite & Diamond only Drawings: \nSaturdays\, August 3 and September 7: \n\n6:00PM – Two winners of $50-$680 Free Slot Play\n7:00PM – Two winners of $50-$680 Free Slot Play\n8:00PM – Two winners of $50-$680 Free Slot Play\n9:00PM – One winner of $250-$3\,400 Cash and one Wildlife Safari carload pass\n\nRegular Weekly Drawings: \nSaturdays\, August 10\, 17\, 24\, September 14 and 21: \n\n6:00PM – Two winners of $50-$680 Free Slot Play\n7:00PM – Two winners of $50-$680 Free Slot Play\n8:00PM – Two winners of $50-$680 Free Slot Play\n9:00PM – One winner of $250-$3\,400 Cash and one Wildlife Safari carload pass\n\nGrand Prize Drawing Days: \nSaturday\, August 31\, \nSunday\, September 1\, \nSaturday\, September 28 and \nSunday\, September 29: \n\n6:00PM: two (2) winners win $50 – $680 Free Slot Play\n7:00PM: two (2) winners win $50 – $680 Free Slot Play\n8:00PM: two (2) winners win $50 – $680 Free Slot Play\n9:00PM: one (1) winner wins a Squatchee Safari Vacation Package valued at $10\,213.\n\n                Includes:\n– $7\,000 Travel Voucher to Fly Away Travel\n– $3\,000 CASH\n– Basic One-Year Membership Pass to Wildlife Safari (valued at $170)\n– Safari Squatchee Plushy \nTo be valid\, entries must be activated between 4:00PM and 8:50PM\, on EACH drawing day\, at any Players Club Kiosk or by playing table games or your favorite slot machine with your Players Club card. \n*Wild Ride Bonus Prize can be awarded only one (1) time during promotion period. Bonus Prize is awarded randomly and is NOT guaranteed to hit during Squatchee Safari Vacation promotion. \nVisit Players Club for details.
URL:https://sevenfeathers.com/event/squatchee-safari-grand-prize-drawings-4/
CATEGORIES:Promotions
END:VEVENT
BEGIN:VEVENT
DTSTART;TZID=America/Los_Angeles:20240928T180000
DTEND;TZID=America/Los_Angeles:20240928T210000
DTSTAMP:20260423T150957
CREATED:20240719T133715Z
LAST-MODIFIED:20240729T164826Z
UID:10007395-1727546400-1727557200@sevenfeathers.com
SUMMARY:Squatchee Safari Vacation Giveaway
DESCRIPTION:Play from July 22 through September 29 \n  \nOver $75\,000 in cash & prizes\, including four Vacation Packages\, valued at over $10\,000 each! Plus\, you have a chance at winning the Wild Ride Bonus Prize of $20\,000 cash*! \nDrawings are from 6:00 to 9:00PM on Saturdays in August and September\, with the four Grand Prize drawings! \nEarn one entry for every 100 points at Slots and Table Games. Plus\, you can earn 3X entries on Wednesdays! \nPlatinum Elite and Diamond only drawings August 3 and September 7\, 6:00 – 9:00PM. \nPlatinum Elite & Diamond only Drawings: \nSaturdays\, August 3 and September 7: \n\n6:00PM – Two winners of $50-$680 Free Slot Play\n7:00PM – Two winners of $50-$680 Free Slot Play\n8:00PM – Two winners of $50-$680 Free Slot Play\n9:00PM – One winner of $250-$3\,400 Cash and one Wildlife Safari carload pass\n\nRegular Weekly Drawings: \nSaturdays\, August 10\, 17\, 24\, September 14 and 21: \n\n6:00PM – Two winners of $50-$680 Free Slot Play\n7:00PM – Two winners of $50-$680 Free Slot Play\n8:00PM – Two winners of $50-$680 Free Slot Play\n9:00PM – One winner of $250-$3\,400 Cash and one Wildlife Safari carload pass\n\nGrand Prize Drawing Days: \nSaturday\, August 31\, \nSunday\, September 1\, \nSaturday\, September 28 and \nSunday\, September 29: \n\n6:00PM: two (2) winners win $50 – $680 Free Slot Play\n7:00PM: two (2) winners win $50 – $680 Free Slot Play\n8:00PM: two (2) winners win $50 – $680 Free Slot Play\n9:00PM: one (1) winner wins a Squatchee Safari Vacation Package valued at $10\,213.\n\n                Includes:\n– $7\,000 Travel Voucher to Fly Away Travel\n– $3\,000 CASH\n– Basic One-Year Membership Pass to Wildlife Safari (valued at $170)\n– Safari Squatchee Plushy \nTo be valid\, entries must be activated between 4:00PM and 8:50PM\, on EACH drawing day\, at any Players Club Kiosk or by playing table games or your favorite slot machine with your Players Club card. \n*Wild Ride Bonus Prize can be awarded only one (1) time during promotion period. Bonus Prize is awarded randomly and is NOT guaranteed to hit during Squatchee Safari Vacation promotion. \nVisit Players Club for details.
URL:https://sevenfeathers.com/event/squatchee-safari-vacation-giveaway/2024-09-28/
CATEGORIES:Promotions
END:VEVENT
BEGIN:VEVENT
DTSTART;TZID=America/Los_Angeles:20240928T080000
DTEND;TZID=America/Los_Angeles:20240928T080000
DTSTAMP:20260423T150957
CREATED:20240731T154955Z
LAST-MODIFIED:20240924T205731Z
UID:10007449-1727510400-1727510400@sevenfeathers.com
SUMMARY:September Marathon Bingo
DESCRIPTION:Saturday\, September 28 \nDoors open at 8:00AM. Admission sales begin at 10:00AM. Games start at 1:00PM. \n  \nBuy-Ins: Paper $20\, Electronic $60\, Extras $20 \n  \nPlay for your chance to win a share of over $31\,000 in Cash Prizes! \nWe will have 20 Regular Games that pay $1\,199. \nPlay for the $5\,000 MUST GO Super Jackpot! \n  \nTickets on sale August 1 at 10:00AM. Purchase tickets online at sevenfeathers.com\, in person at the Gift Gallery or call Etix at 800.514.3849. Etix is the sole ticket provider for all Seven Feathers Casino Resort events. You may purchase a seat for another person\, but if that seat does not have a playing guest in it by the time warm-up games have concluded\, the seat may be resold.
URL:https://sevenfeathers.com/event/september-marathon-bingo/
LOCATION:Bingo Hall\, 146 Chief Miwaleta Ln\, Canyonville\, OR\, 97417\, United States
CATEGORIES:Bingo
END:VEVENT
BEGIN:VEVENT
DTSTART;TZID=America/Los_Angeles:20240926T190000
DTEND;TZID=America/Los_Angeles:20240926T230000
DTSTAMP:20260423T150957
CREATED:20240901T152557Z
LAST-MODIFIED:20240901T152557Z
UID:10007905-1727377200-1727391600@sevenfeathers.com
SUMMARY:Revolution
DESCRIPTION:Enjoy free live music in Elements Lounge!
URL:https://sevenfeathers.com/event/revolution-5/2024-09-26/
LOCATION:Elements Lounge\, 146 Chief Miwaleta Ln\, Canyonville\, OR\, 97417\, United States
CATEGORIES:Entertainment
END:VEVENT
BEGIN:VEVENT
DTSTART;TZID=America/Los_Angeles:20240922T110000
DTEND;TZID=America/Los_Angeles:20240922T170000
DTSTAMP:20260423T150957
CREATED:20240729T232850Z
LAST-MODIFIED:20240729T232850Z
UID:10007448-1727002800-1727024400@sevenfeathers.com
SUMMARY:Fall Classic Rodeo
DESCRIPTION:Saturday\, September 21 & Sunday\, September 22 at 2:00PM \nLocated at the Seven Feathers Rodeo Grounds off Exit 101. \nEntrance Fee: $5 per person at the gate and Kids 5 & under enter free. \nGate opens at 11:00AM each day. \n  \nKIDS EVENTS \nMutton Bustin’ \nPig Scramble \nSign up at the Rodeo \n  \nTEAM ROPING CLASSIC \nFor entries call: Randy – 541.784.8667 \n  \nRODEO EVENTS \nBareback\, Saddle Bronc\, Jr. Bull Riding\, Bull Riding\, Team Roping\, Invitational Century Muley Ropin’ \nFor entries call: Longhorn Productions – 541.912.5811 \n  \nEntries open September 10 • 7:00AM – 12:00PM • 541.912.5811 \n  \nBarrel Racing & Jr. Barrel Racing \nFor entries call: Longhorn Productions – 541.912.5811
URL:https://sevenfeathers.com/event/fall-classic-rodeo-2/2024-09-22/
CATEGORIES:Entertainment
END:VEVENT
BEGIN:VEVENT
DTSTART;TZID=America/Los_Angeles:20240921T210000
DTEND;TZID=America/Los_Angeles:20240922T010000
DTSTAMP:20260423T150957
CREATED:20240901T152422Z
LAST-MODIFIED:20240901T152422Z
UID:10007903-1726952400-1726966800@sevenfeathers.com
SUMMARY:Strawberry Roan
DESCRIPTION:Enjoy free live music in Elements Lounge!
URL:https://sevenfeathers.com/event/strawberry-roan-6/2024-09-21/
LOCATION:Elements Lounge\, 146 Chief Miwaleta Ln\, Canyonville\, OR\, 97417\, United States
CATEGORIES:Entertainment
END:VEVENT
BEGIN:VEVENT
DTSTART;TZID=America/Los_Angeles:20240921T170000
DTEND;TZID=America/Los_Angeles:20240921T190000
DTSTAMP:20260423T150957
CREATED:20240829T232603Z
LAST-MODIFIED:20240829T232639Z
UID:10007891-1726938000-1726945200@sevenfeathers.com
SUMMARY:Rodeo Weekend Line Dancing
DESCRIPTION:Rodeo Weekend Free Line-Dancing Lessons \nPlan for this fun activity in addition to our Fall Classic Rodeo and Nate Smith concert. \nFriday & Saturday\, September 20 & 21 \n5:00 – 7:00PM \nThere will be 2 60-minute Lessons\, and beginners are welcome! \nInstructors Cass Gould and Katie Wilder teach all your favorite line dances from “The Wolf” to “Bury Me in Georgia”. \nMust be 21 or older.
URL:https://sevenfeathers.com/event/rodeo-weekend-line-dancing/2024-09-21/
LOCATION:Elements Lounge\, 146 Chief Miwaleta Ln\, Canyonville\, OR\, 97417\, United States
CATEGORIES:Entertainment
END:VEVENT
BEGIN:VEVENT
DTSTART;TZID=America/Los_Angeles:20240920T200000
DTEND;TZID=America/Los_Angeles:20240920T213000
DTSTAMP:20260423T150957
CREATED:20240509T170044Z
LAST-MODIFIED:20240813T213910Z
UID:10006075-1726862400-1726867800@sevenfeathers.com
SUMMARY:Nate Smith
DESCRIPTION:Friday\, September 20 at 8:00PM \n  \nReserved Seating $35\, $45\, $55 \n  \nTickets on sale Wednesday\, May 15 at 10:00AM. Purchase tickets in person at the Gift Gallery\, online at sevenfeathers.com or call Etix at 800.514.3849. Etix is the sole ticket provider for all Seven Feathers Casino Resort events. Not responsible for third party ticket sales. Doors open at 7:00PM. Must be 21 or older. Concert Attendees – due to venue configuration\, standing during the concert can be expected\, please be sensitive to the mobility impaired that may surround your seat. \nClick here to purchase your tickets.
URL:https://sevenfeathers.com/event/nate-smith/
LOCATION:Umpqua Grand Ballroom\, 146 Chief Miwaleta Ln\, Canyonville\, OR\, 97417\, United States
CATEGORIES:Entertainment,Exit 99 Landing Page Events
END:VEVENT
BEGIN:VEVENT
DTSTART;TZID=America/Los_Angeles:20240919T190000
DTEND;TZID=America/Los_Angeles:20240919T230000
DTSTAMP:20260423T150957
CREATED:20240901T152251Z
LAST-MODIFIED:20240901T152251Z
UID:10007901-1726772400-1726786800@sevenfeathers.com
SUMMARY:Strawberry Roan
DESCRIPTION:Enjoy free live music in the Elements Lounge!
URL:https://sevenfeathers.com/event/strawberry-roan-5/2024-09-19/
LOCATION:Elements Lounge\, 146 Chief Miwaleta Ln\, Canyonville\, OR\, 97417\, United States
CATEGORIES:Entertainment
END:VEVENT
BEGIN:VEVENT
DTSTART;TZID=America/Los_Angeles:20240914T210000
DTEND;TZID=America/Los_Angeles:20240915T010000
DTSTAMP:20260423T150957
CREATED:20240901T151928Z
LAST-MODIFIED:20240901T151928Z
UID:10007899-1726347600-1726362000@sevenfeathers.com
SUMMARY:Brett Lucich
DESCRIPTION:See free live music in the Elements Lounge!
URL:https://sevenfeathers.com/event/brett-lucich-2/2024-09-14/
LOCATION:Elements Lounge\, 146 Chief Miwaleta Ln\, Canyonville\, OR\, 97417\, United States
CATEGORIES:Entertainment
END:VEVENT
BEGIN:VEVENT
DTSTART;TZID=America/Los_Angeles:20240912T190000
DTEND;TZID=America/Los_Angeles:20240912T230000
DTSTAMP:20260423T150957
CREATED:20240901T151755Z
LAST-MODIFIED:20240901T151755Z
UID:10007897-1726167600-1726182000@sevenfeathers.com
SUMMARY:Brett Lucich
DESCRIPTION:Enjoy free live music in the Elements Lounge!
URL:https://sevenfeathers.com/event/brett-lucich/2024-09-12/
LOCATION:Elements Lounge\, 146 Chief Miwaleta Ln\, Canyonville\, OR\, 97417\, United States
CATEGORIES:Entertainment
END:VEVENT
BEGIN:VEVENT
DTSTART;TZID=America/Los_Angeles:20240907T210000
DTEND;TZID=America/Los_Angeles:20240908T010000
DTSTAMP:20260423T150957
CREATED:20240901T151601Z
LAST-MODIFIED:20240901T151601Z
UID:10007895-1725742800-1725757200@sevenfeathers.com
SUMMARY:DJ Ron
DESCRIPTION:See free live music in Elements Lounge!
URL:https://sevenfeathers.com/event/dj-ron-3/2024-09-07/
LOCATION:Elements Lounge\, 146 Chief Miwaleta Ln\, Canyonville\, OR\, 97417\, United States
CATEGORIES:Entertainment
END:VEVENT
BEGIN:VEVENT
DTSTART;TZID=America/Los_Angeles:20240905T190000
DTEND;TZID=America/Los_Angeles:20240905T230000
DTSTAMP:20260423T150957
CREATED:20240901T151420Z
LAST-MODIFIED:20240901T151420Z
UID:10007893-1725562800-1725577200@sevenfeathers.com
SUMMARY:Bri Marie
DESCRIPTION:Enjoy free live music in the Elements Lounge!
URL:https://sevenfeathers.com/event/bri-marie-3/2024-09-05/
LOCATION:Elements Lounge\, 146 Chief Miwaleta Ln\, Canyonville\, OR\, 97417\, United States
CATEGORIES:Entertainment
END:VEVENT
BEGIN:VEVENT
DTSTART;TZID=America/Los_Angeles:20240901T180000
DTEND;TZID=America/Los_Angeles:20240901T210000
DTSTAMP:20260423T150957
CREATED:20240719T134019Z
LAST-MODIFIED:20240729T164639Z
UID:10007382-1725213600-1725224400@sevenfeathers.com
SUMMARY:Squatchee Safari Grand Prize Drawings
DESCRIPTION:Play from July 22 through September 29 \nOver $75\,000 in cash & prizes\, including four Vacation Packages\, valued at over $10\,000 each! Plus\, you have a chance at winning the Wild Ride Bonus Prize of $20\,000 cash*! \nDrawings are from 6:00 to 9:00PM on Saturdays in August and September\, with the two Grand Prize drawings! \nEarn one entry for every 100 points at Slots and Table Games. Plus\, you can earn 3X entries on Wednesdays! \nPlatinum Elite and Diamond only drawings August 3 and September 7\, 6:00 – 9:00PM. \nPlatinum Elite & Diamond only Drawings: \nSaturdays\, August 3 and September 7: \n\n6:00PM – Two winners of $50-$680 Free Slot Play\n7:00PM – Two winners of $50-$680 Free Slot Play\n8:00PM – Two winners of $50-$680 Free Slot Play\n9:00PM – One winner of $250-$3\,400 Cash and one Wildlife Safari carload pass\n\nRegular Weekly Drawings: \nSaturdays\, August 10\, 17\, 24\, September 14 and 21: \n\n6:00PM – Two winners of $50-$680 Free Slot Play\n7:00PM – Two winners of $50-$680 Free Slot Play\n8:00PM – Two winners of $50-$680 Free Slot Play\n9:00PM – One winner of $250-$3\,400 Cash and one Wildlife Safari carload pass\n\nGrand Prize Drawing Days: \nSaturday\, August 31\, \nSunday\, September 1\, \nSaturday\, September 28 and \nSunday\, September 29: \n\n6:00PM: two (2) winners win $50 – $680 Free Slot Play\n7:00PM: two (2) winners win $50 – $680 Free Slot Play\n8:00PM: two (2) winners win $50 – $680 Free Slot Play\n9:00PM: one (1) winner wins a Squatchee Safari Vacation Package valued at $10\,213.\n\n                Includes:\n– $7\,000 Travel Voucher to Fly Away Travel\n– $3\,000 CASH\n– Basic One-Year Membership Pass to Wildlife Safari (valued at $170)\n– Safari Squatchee Plushy \nTo be valid\, entries must be activated between 4:00PM and 8:50PM\, on EACH drawing day\, at any Players Club Kiosk or by playing table games or your favorite slot machine with your Players Club card. \n*Wild Ride Bonus Prize can be awarded only one (1) time during promotion period. Bonus Prize is awarded randomly and is NOT guaranteed to hit during Squatchee Safari Vacation promotion. \nVisit Players Club for details.
URL:https://sevenfeathers.com/event/squatchee-safari-grand-prize-drawings/
CATEGORIES:Promotions
END:VEVENT
BEGIN:VEVENT
DTSTART;TZID=America/Los_Angeles:20240831T180000
DTEND;TZID=America/Los_Angeles:20240831T210000
DTSTAMP:20260423T150957
CREATED:20240724T171607Z
LAST-MODIFIED:20240729T164244Z
UID:10007384-1725127200-1725138000@sevenfeathers.com
SUMMARY:Squatchee Safari Grand Prize Drawings
DESCRIPTION:Play from July 22 through September 29 \nOver $75\,000 in cash & prizes\, including four Vacation Packages\, valued at over $10\,000 each! Plus\, you have a chance at winning the Wild Ride Bonus Prize of $20\,000 cash*! \nDrawings are from 6:00 to 9:00PM on Saturdays in August and September\, with the two Grand Prize drawings! \nEarn one entry for every 100 points at Slots and Table Games. Plus\, you can earn 3X entries on Wednesdays! \nPlatinum Elite and Diamond only drawings August 3 and September 7\, 6:00 – 9:00PM. \nPlatinum Elite & Diamond only Drawings: \nSaturdays\, August 3 and September 7: \n\n6:00PM – Two winners of $50-$680 Free Slot Play\n7:00PM – Two winners of $50-$680 Free Slot Play\n8:00PM – Two winners of $50-$680 Free Slot Play\n9:00PM – One winner of $250-$3\,400 Cash and one Wildlife Safari carload pass\n\nRegular Weekly Drawings: \nSaturdays\, August 10\, 17\, 24\, September 14 and 21: \n\n6:00PM – Two winners of $50-$680 Free Slot Play\n7:00PM – Two winners of $50-$680 Free Slot Play\n8:00PM – Two winners of $50-$680 Free Slot Play\n9:00PM – One winner of $250-$3\,400 Cash and one Wildlife Safari carload pass\n\nGrand Prize Drawing Days: \nSaturday\, August 31\, \nSunday\, September 1\, \nSaturday\, September 28 and \nSunday\, September 29: \n\n6:00PM: two (2) winners win $50 – $680 Free Slot Play\n7:00PM: two (2) winners win $50 – $680 Free Slot Play\n8:00PM: two (2) winners win $50 – $680 Free Slot Play\n9:00PM: one (1) winner wins a Squatchee Safari Vacation Package valued at $10\,213.\n\n                Includes:\n– $7\,000 Travel Voucher to Fly Away Travel\n– $3\,000 CASH\n– Basic One-Year Membership Pass to Wildlife Safari (valued at $170)\n– Safari Squatchee Plushy \nTo be valid\, entries must be activated between 4:00PM and 8:50PM\, on EACH drawing day\, at any Players Club Kiosk or by playing table games or your favorite slot machine with your Players Club card. \n*Wild Ride Bonus Prize can be awarded only one (1) time during promotion period. Bonus Prize is awarded randomly and is NOT guaranteed to hit during Squatchee Safari Vacation promotion. \nVisit Players Club for details.
URL:https://sevenfeathers.com/event/squatchee-safari-grand-prize-drawings-3/
CATEGORIES:Promotions
END:VEVENT
BEGIN:VEVENT
DTSTART;TZID=America/Los_Angeles:20240831T170000
DTEND;TZID=America/Los_Angeles:20240831T210000
DTSTAMP:20260423T150957
CREATED:20240801T152914Z
LAST-MODIFIED:20240801T153140Z
UID:10007839-1725123600-1725138000@sevenfeathers.com
SUMMARY:Music In The Courtyard
DESCRIPTION:Join us Fridays and Saturdays from 5:00 – 9:00PM! \n  \n\nAugust 2 & 3: The Mini Max\nAugust 9 & 10: Dave & Skip\nAugust 16 & 17: Dylan James Clark\nAugust 23 & 24: Lady and the Tramp\nAugust 30 & 31: Gary Margason
URL:https://sevenfeathers.com/event/music-in-the-courtyard-12/2024-08-31/
LOCATION:Hotel Courtyard\, 146 Chief Miwaleta Ln\, Canyonville\, OR\, 97417\, United States
CATEGORIES:Entertainment
END:VEVENT
BEGIN:VEVENT
DTSTART;TZID=America/Los_Angeles:20240830T210000
DTEND;TZID=America/Los_Angeles:20240831T010000
DTSTAMP:20260423T150957
CREATED:20240801T144919Z
LAST-MODIFIED:20240801T144919Z
UID:10007450-1725051600-1725066000@sevenfeathers.com
SUMMARY:DJ Marc Eazy
DESCRIPTION:See DJ Marc Eazy perform a free live show in the Elements Lounge!
URL:https://sevenfeathers.com/event/dj-marc-eazy-3/
LOCATION:Elements Lounge\, 146 Chief Miwaleta Ln\, Canyonville\, OR\, 97417\, United States
CATEGORIES:Entertainment
END:VEVENT
BEGIN:VEVENT
DTSTART;TZID=America/Los_Angeles:20240817T180000
DTEND;TZID=America/Los_Angeles:20240817T193000
DTSTAMP:20260423T150957
CREATED:20240812T184818Z
LAST-MODIFIED:20240812T184818Z
UID:10007887-1723917600-1723923000@sevenfeathers.com
SUMMARY:Tyzen
DESCRIPTION:Come see this unique event on Saturday\, August 17 from 6:00 – 7:30PM. \n\nOne Night Only! \n\nFree Admission. Must be 21 or older.
URL:https://sevenfeathers.com/event/tyzen/
LOCATION:Elements Lounge\, 146 Chief Miwaleta Ln\, Canyonville\, OR\, 97417\, United States
CATEGORIES:Entertainment
END:VEVENT
BEGIN:VEVENT
DTSTART;TZID=America/Los_Angeles:20240809T210000
DTEND;TZID=America/Los_Angeles:20240810T010000
DTSTAMP:20260423T150957
CREATED:20240801T145933Z
LAST-MODIFIED:20240801T145933Z
UID:10007453-1723237200-1723251600@sevenfeathers.com
SUMMARY:Isaac Barrager
DESCRIPTION:Join us in the Elements Lounge for FREE on August 7-10 to watch Oregon Singer/Songwriter Isaac Barrager perform!
URL:https://sevenfeathers.com/event/isaac-barrager-3/
CATEGORIES:Entertainment
END:VEVENT
BEGIN:VEVENT
DTSTART;TZID=America/Los_Angeles:20240808T190000
DTEND;TZID=America/Los_Angeles:20240808T230000
DTSTAMP:20260423T150957
CREATED:20240801T145822Z
LAST-MODIFIED:20240801T145822Z
UID:10007452-1723143600-1723158000@sevenfeathers.com
SUMMARY:Isaac Barrager
DESCRIPTION:Join us in the Elements Lounge for FREE on August 7-10 to watch Oregon Singer/Songwriter Isaac Barrager perform!
URL:https://sevenfeathers.com/event/isaac-barrager-2/
CATEGORIES:Entertainment
END:VEVENT
BEGIN:VEVENT
DTSTART;TZID=America/Los_Angeles:20240807T190000
DTEND;TZID=America/Los_Angeles:20240807T230000
DTSTAMP:20260423T150957
CREATED:20240801T145506Z
LAST-MODIFIED:20240801T145652Z
UID:10007451-1723057200-1723071600@sevenfeathers.com
SUMMARY:Isaac Barrager
DESCRIPTION:Join us in the Elements Lounge for FREE on August 7-10 to watch Oregon Singer/Songwriter Isaac Barrager perform!
URL:https://sevenfeathers.com/event/isaac-barrager/
CATEGORIES:Entertainment
END:VEVENT
BEGIN:VEVENT
DTSTART;TZID=America/Los_Angeles:20240803T210000
DTEND;TZID=America/Los_Angeles:20240804T010000
DTSTAMP:20260423T150957
CREATED:20240701T224837Z
LAST-MODIFIED:20240701T224837Z
UID:10007361-1722718800-1722733200@sevenfeathers.com
SUMMARY:Jeff Crossman
DESCRIPTION:Join us for free live music in the Elements Lounge!
URL:https://sevenfeathers.com/event/jeff-crossman-6/2024-08-03/
LOCATION:Elements Lounge\, 146 Chief Miwaleta Ln\, Canyonville\, OR\, 97417\, United States
CATEGORIES:Entertainment
END:VEVENT
BEGIN:VEVENT
DTSTART;TZID=America/Los_Angeles:20240801T190000
DTEND;TZID=America/Los_Angeles:20240801T230000
DTSTAMP:20260423T150957
CREATED:20240701T224624Z
LAST-MODIFIED:20240701T224624Z
UID:10007359-1722538800-1722553200@sevenfeathers.com
SUMMARY:Jeff Crossman
DESCRIPTION:
URL:https://sevenfeathers.com/event/jeff-crossman-5/2024-08-01/
LOCATION:Elements Lounge\, 146 Chief Miwaleta Ln\, Canyonville\, OR\, 97417\, United States
CATEGORIES:Entertainment
END:VEVENT
BEGIN:VEVENT
DTSTART;TZID=America/Los_Angeles:20240728T180000
DTEND;TZID=America/Los_Angeles:20240728T210000
DTSTAMP:20260423T150957
CREATED:20240529T024056Z
LAST-MODIFIED:20240531T195333Z
UID:10006124-1722189600-1722200400@sevenfeathers.com
SUMMARY:Muscle Town Giveaway Grand Prize Drawing
DESCRIPTION:May 20 through July 28 \nWin a share of over $70\,000 in cash & prizes\, including a 2024 Ford Mustang GT Coupe\, valued at over $55\,000! \nEnter daily by placing your first bet at any slot machine or by playing your favorite table game with your Players Club card. \nEarn an additional entry for every 200 Players Club Points you earn per day. Plus\, you can earn 3X your entries on Wednesdays during the promotion period. \nDrawings will be held Saturdays in June and July\, 6:00 to 9:00PM\, with the Grand Prize drawing at 9:00PM on Sunday\, July 28. Platinum Elite and Diamond only drawings June 8 and July 6. \nDrawings will be held on the following dates & times: \nSaturday\, June 15\, 22 & 29; July 13\, 20 & 27: \n6:00PM – Two winners of $200 FREE Slot Play \n7:00PM – Two winners of $300 FREE Slot Play \n8:00PM – Two winners of $400 FREE Slot Play \n9:00PM – One winner of $1\,000 CASH \nGrand Prize Drawing: \nSunday\, July 28: \n6:00PM – Two winners of $200 FREE Slot Play \n7:00PM – Two winners of $300 FREE Slot Play \n8:00PM – Two winners of $400 FREE Slot Play \n9:00PM – One winner of a 2024 Ford Mustang GT Coupe\, valued at $55\,900 \nPlatinum Elite & Diamond only Drawings: \nSaturday\, June 8 & July 6: \n6:00PM – Two winners of $300 FREE Slot Play \n7:00PM – Two winners of $400 FREE Slot Play \n8:00PM – Two winners of $500 FREE Slot Play \n9:00PM – One winner of $5\,000 CASH \nTo be valid\, entries must be activated between 4:00PM and 8:50PM\, on each drawing day\, at any Players Club Kiosk or by playing table games or your favorite slot machine with your Players Club card. \nVisit Players Club for details.
URL:https://sevenfeathers.com/event/muscle-town-giveaway-grand-prize-drawing/
CATEGORIES:Promotions
END:VEVENT
BEGIN:VEVENT
DTSTART;TZID=America/Los_Angeles:20240728T120000
DTEND;TZID=America/Los_Angeles:20240728T220000
DTSTAMP:20260423T150957
CREATED:20240620T064514Z
LAST-MODIFIED:20240707T233909Z
UID:10006187-1722168000-1722204000@sevenfeathers.com
SUMMARY:Muscle Town Points Race
DESCRIPTION:Muscle Town Baseball Cap Points Race \nPlay every Sunday in July\, beginning at Noon to enter the race! \nBe one of the first 100 guests to earn 1\,000 Players Club points and receive a Muscle Town baseball cap each week! \nVisit Players Club for details.
URL:https://sevenfeathers.com/event/muscle-town-points-race/2024-07-28/
CATEGORIES:Promotions
END:VEVENT
BEGIN:VEVENT
DTSTART;TZID=America/Los_Angeles:20240719T210000
DTEND;TZID=America/Los_Angeles:20240720T010000
DTSTAMP:20260423T150957
CREATED:20240701T224051Z
LAST-MODIFIED:20240701T225326Z
UID:10006259-1721422800-1721437200@sevenfeathers.com
SUMMARY:Little Town
DESCRIPTION:Join us for free live music in the Elements Lounge!
URL:https://sevenfeathers.com/event/little-town-2/2024-07-19/
LOCATION:Elements Lounge\, 146 Chief Miwaleta Ln\, Canyonville\, OR\, 97417\, United States
CATEGORIES:Entertainment
END:VEVENT
BEGIN:VEVENT
DTSTART;TZID=America/Los_Angeles:20240718T190000
DTEND;TZID=America/Los_Angeles:20240718T230000
DTSTAMP:20260423T150957
CREATED:20240701T223925Z
LAST-MODIFIED:20240701T223925Z
UID:10006258-1721329200-1721343600@sevenfeathers.com
SUMMARY:Little Town
DESCRIPTION:Join us for free live music in the Elements Lounge!
URL:https://sevenfeathers.com/event/little-town/2024-07-18/
LOCATION:Elements Lounge\, 146 Chief Miwaleta Ln\, Canyonville\, OR\, 97417\, United States
CATEGORIES:Entertainment
END:VEVENT
BEGIN:VEVENT
DTSTART;TZID=America/Los_Angeles:20240714T090000
DTEND;TZID=America/Los_Angeles:20240714T130000
DTSTAMP:20260423T150957
CREATED:20240524T174333Z
LAST-MODIFIED:20240524T174333Z
UID:10006105-1720947600-1720962000@sevenfeathers.com
SUMMARY:Takelma Run Cars ‘N’ Coffee
DESCRIPTION:Sunday\, July 14 from 9:00AM to 1:00PM in the West Parking Lot of the Casino. \nThis event has free admission and is open to all ages\, so bring the family to enjoy classic cars! \nThere will be: \nClassic Cars on Display\, the People’s Choice Contest\, the Best in Show Contest\, the Seven Feathers Food Truck and a Takelma Roasting Company coffee booth. \nRegister your vehicle for Cars ‘N’ Coffee by filling out a registration form at the event by 12:15PM.* \nWinners of the People’s Choice & Judges Choice Contests will be announced at 12:30PM. \nVehicle participants will receive a Takelma goodie bag. \nThe People’s choice winner will receive 1 night stay and dinner for 2 at K-bar Steak House. The Judge’s choice winner will receive $1\,000 cash. \n  \n*First 200 registrants only. Must be 21 or over. All decisions are final. Management reserves all rights.
URL:https://sevenfeathers.com/event/takelma-run-cars-n-coffee/
LOCATION:South Parking Lot\, 146 Chief Miwaleta Ln\, Canyonville\, OR\, 97417\, United States
CATEGORIES:Entertainment
END:VEVENT
BEGIN:VEVENT
DTSTART;TZID=America/Los_Angeles:20240713T210000
DTEND;TZID=America/Los_Angeles:20240714T010000
DTSTAMP:20260423T150957
CREATED:20240701T202956Z
LAST-MODIFIED:20240701T202956Z
UID:10006256-1720904400-1720918800@sevenfeathers.com
SUMMARY:Aurora
DESCRIPTION:Join us for a free live show in the Elements Lounge!
URL:https://sevenfeathers.com/event/aurora-7/2024-07-13/
LOCATION:Elements Lounge\, 146 Chief Miwaleta Ln\, Canyonville\, OR\, 97417\, United States
CATEGORIES:Entertainment
END:VEVENT
END:VCALENDAR