BEGIN:VCALENDAR
VERSION:2.0
PRODID:-//Seven Feathers Casino - ECPv6.15.16//NONSGML v1.0//EN
CALSCALE:GREGORIAN
METHOD:PUBLISH
X-WR-CALNAME:Seven Feathers Casino
X-ORIGINAL-URL:https://sevenfeathers.com
X-WR-CALDESC:Events for Seven Feathers Casino
REFRESH-INTERVAL;VALUE=DURATION:PT1H
X-Robots-Tag:noindex
X-PUBLISHED-TTL:PT1H
BEGIN:VTIMEZONE
TZID:America/Los_Angeles
BEGIN:DAYLIGHT
TZOFFSETFROM:-0800
TZOFFSETTO:-0700
TZNAME:PDT
DTSTART:20230312T100000
END:DAYLIGHT
BEGIN:STANDARD
TZOFFSETFROM:-0700
TZOFFSETTO:-0800
TZNAME:PST
DTSTART:20231105T090000
END:STANDARD
BEGIN:DAYLIGHT
TZOFFSETFROM:-0800
TZOFFSETTO:-0700
TZNAME:PDT
DTSTART:20240310T100000
END:DAYLIGHT
BEGIN:STANDARD
TZOFFSETFROM:-0700
TZOFFSETTO:-0800
TZNAME:PST
DTSTART:20241103T090000
END:STANDARD
BEGIN:DAYLIGHT
TZOFFSETFROM:-0800
TZOFFSETTO:-0700
TZNAME:PDT
DTSTART:20250309T100000
END:DAYLIGHT
BEGIN:STANDARD
TZOFFSETFROM:-0700
TZOFFSETTO:-0800
TZNAME:PST
DTSTART:20251102T090000
END:STANDARD
END:VTIMEZONE
BEGIN:VEVENT
DTSTART;TZID=America/Los_Angeles:20241211T190000
DTEND;TZID=America/Los_Angeles:20241211T220000
DTSTAMP:20260423T134226
CREATED:20241203T003058Z
LAST-MODIFIED:20241203T003058Z
UID:10008011-1733943600-1733954400@sevenfeathers.com
SUMMARY:The Hank Shreve Band
DESCRIPTION:Join us December 11 through December 14 for live Music. This is a free event that is open to the public. \nFeaturing Southern Oregon Blues artists “The Hank Shreve Band”! \nThey will be performing 7 PM to 11 PM on Wednesday & Thursday and 9 PM to 1 AM on Friday and Saturday.
URL:https://sevenfeathers.com/event/the-hank-shreve-band-5/
CATEGORIES:Entertainment
END:VEVENT
BEGIN:VEVENT
DTSTART;TZID=America/Los_Angeles:20241207T210000
DTEND;TZID=America/Los_Angeles:20241208T010000
DTSTAMP:20260423T134226
CREATED:20241203T002535Z
LAST-MODIFIED:20241203T002655Z
UID:10008010-1733605200-1733619600@sevenfeathers.com
SUMMARY:The Brothers Reed
DESCRIPTION:Join us December 4-7 for live music from The Brothers Reed\, the Southern Oregon Duo. Admission is FREE!
URL:https://sevenfeathers.com/event/the-brothers-reed-5/
LOCATION:Elements Lounge\, 146 Chief Miwaleta Ln\, Canyonville\, OR\, 97417\, United States
CATEGORIES:Entertainment
END:VEVENT
BEGIN:VEVENT
DTSTART;TZID=America/Los_Angeles:20241206T210000
DTEND;TZID=America/Los_Angeles:20241207T010000
DTSTAMP:20260423T134226
CREATED:20241203T002402Z
LAST-MODIFIED:20241203T002513Z
UID:10008009-1733518800-1733533200@sevenfeathers.com
SUMMARY:The Brothers Reed
DESCRIPTION:Join us December 4-7 for live music from The Brothers Reed\, the Southern Oregon Duo. Admission is FREE!
URL:https://sevenfeathers.com/event/the-brothers-reed-4/
LOCATION:Elements Lounge\, 146 Chief Miwaleta Ln\, Canyonville\, OR\, 97417\, United States
CATEGORIES:Entertainment
END:VEVENT
BEGIN:VEVENT
DTSTART;TZID=America/Los_Angeles:20241205T190000
DTEND;TZID=America/Los_Angeles:20241205T230000
DTSTAMP:20260423T134226
CREATED:20241203T002305Z
LAST-MODIFIED:20241203T002305Z
UID:10008008-1733425200-1733439600@sevenfeathers.com
SUMMARY:The Brothers Reed
DESCRIPTION:Join us December 4-7 for live music from The Brothers Reed\, the Southern Oregon Duo. Admission is FREE!
URL:https://sevenfeathers.com/event/the-brothers-reed-3/
LOCATION:Elements Lounge\, 146 Chief Miwaleta Ln\, Canyonville\, OR\, 97417\, United States
CATEGORIES:Entertainment
END:VEVENT
BEGIN:VEVENT
DTSTART;TZID=America/Los_Angeles:20241204T190000
DTEND;TZID=America/Los_Angeles:20241204T230000
DTSTAMP:20260423T134226
CREATED:20241203T001925Z
LAST-MODIFIED:20241203T002218Z
UID:10008007-1733338800-1733353200@sevenfeathers.com
SUMMARY:The Brothers Reed
DESCRIPTION:Join us December 4-7 for live music from The Brothers Reed\, the Southern Oregon Duo. Admission is FREE!
URL:https://sevenfeathers.com/event/the-brothers-reed-2/
LOCATION:Elements Lounge\, 146 Chief Miwaleta Ln\, Canyonville\, OR\, 97417\, United States
CATEGORIES:Entertainment
END:VEVENT
BEGIN:VEVENT
DTSTART;TZID=America/Los_Angeles:20241130T210000
DTEND;TZID=America/Los_Angeles:20241201T010000
DTSTAMP:20260423T134226
CREATED:20241031T232717Z
LAST-MODIFIED:20241031T232717Z
UID:10007984-1733000400-1733014800@sevenfeathers.com
SUMMARY:The Koz
DESCRIPTION:Enjoy free live music weekly in the Elements Lounge!
URL:https://sevenfeathers.com/event/the-koz-5/2024-11-30/
LOCATION:Elements Lounge\, 146 Chief Miwaleta Ln\, Canyonville\, OR\, 97417\, United States
CATEGORIES:Entertainment
END:VEVENT
BEGIN:VEVENT
DTSTART;TZID=America/Los_Angeles:20241130T190000
DTEND;TZID=America/Los_Angeles:20241130T203000
DTSTAMP:20260423T134226
CREATED:20240812T191931Z
LAST-MODIFIED:20241003T164230Z
UID:10007888-1732993200-1732998600@sevenfeathers.com
SUMMARY:A Very Cher-y Christmas™
DESCRIPTION:Saturday\, November 30 • 7:00PM \nReserved Seating $25 & $30 \nClick here to purchase your tickets. \nFrom the producers of The Beat Goes On Cher Tribute Show starring Lisa McClowry. \n  \nTickets on sale Wednesday\, August 7 at 10:00AM. Purchase tickets in person at the Gift Gallery\, online\, or call Etix at 800.514.3849. Etix is the sole ticket provider for all Seven Feathers Casino Resort events. Not responsible for third party ticket sales.  Doors open at 6:00PM. Must be 21 or older. Concert Attendees – due to venue configuration\, standing during the concert can be expected\, please be sensitive to the mobility impaired that may surround your seat. \n  \nClick here to purchase your tickets.
URL:https://sevenfeathers.com/event/a-very-cher-y-christmas/
LOCATION:Umpqua Grand Ballroom\, 146 Chief Miwaleta Ln\, Canyonville\, OR\, 97417\, United States
CATEGORIES:Entertainment
END:VEVENT
BEGIN:VEVENT
DTSTART;TZID=America/Los_Angeles:20241128T190000
DTEND;TZID=America/Los_Angeles:20241128T230000
DTSTAMP:20260423T134226
CREATED:20241031T233217Z
LAST-MODIFIED:20241031T233217Z
UID:10007990-1732820400-1732834800@sevenfeathers.com
SUMMARY:Bri Marie
DESCRIPTION:Enjoy free live music weekly in the Elements Lounge!
URL:https://sevenfeathers.com/event/bri-marie-5/2024-11-28/
LOCATION:Elements Lounge\, 146 Chief Miwaleta Ln\, Canyonville\, OR\, 97417\, United States
CATEGORIES:Entertainment
END:VEVENT
BEGIN:VEVENT
DTSTART;TZID=America/Los_Angeles:20241125T070000
DTEND;TZID=America/Los_Angeles:20241125T200000
DTSTAMP:20260423T134226
CREATED:20240904T201132Z
LAST-MODIFIED:20241018T184636Z
UID:10007925-1732518000-1732564800@sevenfeathers.com
SUMMARY:Chef On The Go
DESCRIPTION:https://sevenfeathers.com/wp-content/uploads/2024/10/Chef-on-the-Go-Nov-2024-1.mp4\nHell’s Kitchen™ Chef on the Go Gift Giveaway \nSundays & Mondays in November \nEarn 1\,000 Players Club points beginning at 7:00AM on promotion days to receive a new piece each week or buy a piece for 10\,000 points. \nCollect the whole set to be automatically entered to win one of six Cuisinart Air Fryer + Convection Toaster Ovens (valued at $259.99)!* Drawing will be held December 1 at Noon. \nEasy gift redemption at any Players Club Kiosk! \n\nCHECK your points at any Players Club Kiosk. Invited guests\, check your promotions.\nPRINT your voucher or vouchers.\nREDEEM your voucher or vouchers at the Mall Entrance Redemption Area.\n\nCollect your piece from 1:00 – 8:00PM\, on Sundays and Mondays. \nLimited quantities on hand – rainchecks will be issued through Players Club Kiosk when product runs out.  Rainchecks will only be issued during redemption periods.  Limit two pieces per guest per week.  Bingo and Keno points do not apply. \nVisit Players Club for details. Management reserves the right to change any event or promotion. \n*Must redeem at least one piece from all four weeks of the Chef on the Go Gift Giveaway collection to be eligible. Need not be present to win.
URL:https://sevenfeathers.com/event/chef-on-the-go/2024-11-25/
CATEGORIES:Promotions
END:VEVENT
BEGIN:VEVENT
DTSTART;TZID=America/Los_Angeles:20241121T190000
DTEND;TZID=America/Los_Angeles:20241121T230000
DTSTAMP:20260423T134226
CREATED:20241031T232925Z
LAST-MODIFIED:20241031T232925Z
UID:10007986-1732215600-1732230000@sevenfeathers.com
SUMMARY:Bump In The Road
DESCRIPTION:Enjoy free live music weekly in the Elements Lounge!
URL:https://sevenfeathers.com/event/bump-in-the-road-6/2024-11-21/
LOCATION:Elements Lounge\, 146 Chief Miwaleta Ln\, Canyonville\, OR\, 97417\, United States
CATEGORIES:Entertainment
END:VEVENT
BEGIN:VEVENT
DTSTART;TZID=America/Los_Angeles:20241116T210000
DTEND;TZID=America/Los_Angeles:20241117T010000
DTSTAMP:20260423T134226
CREATED:20241031T232551Z
LAST-MODIFIED:20241031T232551Z
UID:10007982-1731790800-1731805200@sevenfeathers.com
SUMMARY:The Koz
DESCRIPTION:Enjoy free live music weekly in the Elements Lounge!
URL:https://sevenfeathers.com/event/the-koz-4/2024-11-16/
LOCATION:Elements Lounge\, 146 Chief Miwaleta Ln\, Canyonville\, OR\, 97417\, United States
CATEGORIES:Entertainment
END:VEVENT
BEGIN:VEVENT
DTSTART;TZID=America/Los_Angeles:20241114T190000
DTEND;TZID=America/Los_Angeles:20241114T230000
DTSTAMP:20260423T134226
CREATED:20241031T232258Z
LAST-MODIFIED:20241031T232258Z
UID:10007980-1731610800-1731625200@sevenfeathers.com
SUMMARY:The Koz
DESCRIPTION:Enjoy free live music weekly in the Elements Lounge!
URL:https://sevenfeathers.com/event/the-koz-3/2024-11-14/
LOCATION:Elements Lounge\, 146 Chief Miwaleta Ln\, Canyonville\, OR\, 97417\, United States
CATEGORIES:Entertainment
END:VEVENT
BEGIN:VEVENT
DTSTART;TZID=America/Los_Angeles:20241109T210000
DTEND;TZID=America/Los_Angeles:20241110T010000
DTSTAMP:20260423T134226
CREATED:20241031T232032Z
LAST-MODIFIED:20241031T232032Z
UID:10007978-1731186000-1731200400@sevenfeathers.com
SUMMARY:Strawberry Roan
DESCRIPTION:Enjoy free live music every week in the Elements Lounge!
URL:https://sevenfeathers.com/event/strawberry-roan-8/2024-11-09/
LOCATION:Elements Lounge\, 146 Chief Miwaleta Ln\, Canyonville\, OR\, 97417\, United States
CATEGORIES:Entertainment
END:VEVENT
BEGIN:VEVENT
DTSTART;TZID=America/Los_Angeles:20241107T190000
DTEND;TZID=America/Los_Angeles:20241107T230000
DTSTAMP:20260423T134226
CREATED:20241031T231823Z
LAST-MODIFIED:20241031T231823Z
UID:10007976-1731006000-1731020400@sevenfeathers.com
SUMMARY:Strawberry Roan
DESCRIPTION:Enjoy free live music every week in the Elements Lounge!
URL:https://sevenfeathers.com/event/strawberry-roan-7/2024-11-07/
LOCATION:Elements Lounge\, 146 Chief Miwaleta Ln\, Canyonville\, OR\, 97417\, United States
CATEGORIES:Entertainment
END:VEVENT
BEGIN:VEVENT
DTSTART;TZID=America/Los_Angeles:20241102T210000
DTEND;TZID=America/Los_Angeles:20241103T010000
DTSTAMP:20260423T134226
CREATED:20241031T231601Z
LAST-MODIFIED:20241031T231601Z
UID:10007974-1730581200-1730595600@sevenfeathers.com
SUMMARY:DJ Marc Eazy
DESCRIPTION:Enjoy free live music every week in the Elements Lounge!
URL:https://sevenfeathers.com/event/dj-marc-eazy-4/2024-11-02/
LOCATION:Elements Lounge\, 146 Chief Miwaleta Ln\, Canyonville\, OR\, 97417\, United States
CATEGORIES:Entertainment
END:VEVENT
BEGIN:VEVENT
DTSTART;TZID=America/Los_Angeles:20241031T190000
DTEND;TZID=America/Los_Angeles:20241031T230000
DTSTAMP:20260423T134226
CREATED:20240930T040509Z
LAST-MODIFIED:20240930T040509Z
UID:10007952-1730401200-1730415600@sevenfeathers.com
SUMMARY:Bri Marie
DESCRIPTION:Local favorite Bri Marie returns!
URL:https://sevenfeathers.com/event/bri-marie-4/2024-10-31/
LOCATION:Elements Lounge\, 146 Chief Miwaleta Ln\, Canyonville\, OR\, 97417\, United States
CATEGORIES:Entertainment
END:VEVENT
BEGIN:VEVENT
DTSTART;TZID=America/Los_Angeles:20241027T170000
DTEND;TZID=America/Los_Angeles:20241027T200000
DTSTAMP:20260423T134226
CREATED:20240904T222819Z
LAST-MODIFIED:20240904T222819Z
UID:10007929-1730048400-1730059200@sevenfeathers.com
SUMMARY:Monster Smash For Cash
DESCRIPTION:Monster Smash for Cash Giveaway \nSeptember 23 – October 27 \n\nOver $30\,000 in cash & prizes! \nEvery winner has a chance at winning the Creature Feature Bonus Prize of $25\,000 CASH*! \n\nDrawings 5:00 – 8:00PM\, Sundays in October\, with the Grand Prize drawings for up to $15\,000 CASH on October 27. \n\nOne entry for every 100 points at Slots and Table Games.  Plus 3X entries on Fridays! \n\nRegular Weekly Drawings: \nSundays\, October 6\, 13 and 20^: \n\n5:00PM: Three winners of $100-$500 FREE Slot Play and/or CASH\n6:00PM: Three winners of $100-$500 FREE Slot Play and/or CASH\n7:00PM: Three winners of $100-$500 FREE Slot Play and/or CASH\n8:00PM: Two winners of $100-$500 FREE Slot Play and/or CASH\n\n\nGrand Prize Drawings: \nSunday\, October 27^: \n\n5:00PM: Three winners of $100-$500 FREE Slot Play and/or CASH\n6:00PM: Three winners of $100-$500 FREE Slot Play and/or CASH\n7:00PM: Three winners of $100-$500 FREE Slot Play and/or CASH\n8:00PM: Two winners of $8\,000-$15\,000 CASH\n\n\nTo be valid\, entries must be activated between 3:00PM and 7:50PM\, on EACH drawing day\, at any Players Club Kiosk or by playing table games or your favorite slot machine with your Players Club card. \n\n*Creature Feature Bonus Prize can be awarded only one (1) time during promotion period. Bonus Prize is awarded randomly and is NOT guaranteed to hit during Monster Smash for Cash promotion. \n\n^Prizes listed above are the range of prizes possible without the consideration of a consolation prize. A consolation prize is awarded when a winner activates the digital game and lands on a “Whammy” during game play. In this instance\, the winner forfeits prizes collected and will receive the consolation prize of a $100 Truck & Travel Fuel Card. \n\nVisit Players Club for details.
URL:https://sevenfeathers.com/event/monster-smash-for-cash/2024-10-27/
CATEGORIES:Promotions
END:VEVENT
BEGIN:VEVENT
DTSTART;TZID=America/Los_Angeles:20241026T210000
DTEND;TZID=America/Los_Angeles:20241026T210000
DTSTAMP:20260423T134226
CREATED:20240930T040307Z
LAST-MODIFIED:20241017T165738Z
UID:10007950-1729976400-1729976400@sevenfeathers.com
SUMMARY:Isaac Barrager
DESCRIPTION:Homegrown talent Isaac Barrager takes the stage to close out October!
URL:https://sevenfeathers.com/event/isaac-barrager-5/2024-10-26/
LOCATION:Elements Lounge\, 146 Chief Miwaleta Ln\, Canyonville\, OR\, 97417\, United States
CATEGORIES:Entertainment
END:VEVENT
BEGIN:VEVENT
DTSTART;TZID=America/Los_Angeles:20241026T190000
DTEND;TZID=America/Los_Angeles:20241026T230000
DTSTAMP:20260423T134226
CREATED:20240724T215055Z
LAST-MODIFIED:20241014T165008Z
UID:10007386-1729969200-1729983600@sevenfeathers.com
SUMMARY:Halloween Spooktacular
DESCRIPTION:Halloween Spooktacular Dance Party & $10K Costume Contest – Saturday\, October 26 \nThis event is sold out. \nEnjoy DJ & Dancing from 7:00 to 11:00PM. \nJoin the Costume Contest at 9:30PM. The are four categories:  Scariest\, Most Creative\, Funniest and Group (3 or more people to be eligible for the Group category). \nPrizes for each category:  First Place $1\,200\, Second Place $800\, Third Place $500. \nPlease note that costumes that disguise the identity of the wearer and toy weapons are not permitted on the casino floor. \nVisit Players Club for full contest rules. \nTickets on sale Wednesday\, July 31 at 10:00AM. Purchase tickets in person at the Gift Gallery\, online at sevenfeathers.com or call Etix at 800.514.3849. Etix is the sole ticket provider for all Seven Feathers Casino Resort events. Not responsible for third party ticket sales. Doors open at 7:00PM.  Must be 21 or older. \n 
URL:https://sevenfeathers.com/event/halloween-spooktacular/
LOCATION:Umpqua Grand Ballroom\, 146 Chief Miwaleta Ln\, Canyonville\, OR\, 97417\, United States
CATEGORIES:Entertainment
END:VEVENT
BEGIN:VEVENT
DTSTART;TZID=America/Los_Angeles:20241026T120000
DTEND;TZID=America/Los_Angeles:20241026T233000
DTSTAMP:20260423T134226
CREATED:20240919T215202Z
LAST-MODIFIED:20240919T215202Z
UID:10007934-1729944000-1729985400@sevenfeathers.com
SUMMARY:Squatchee Points Race
DESCRIPTION:Squatchee Points Race \nREADY! Get your Players Club card ready! \nSET! Race begins at Noon on Saturdays\, October 5 – 26. \nGO! Start earning points using your Players Club card! \n\n\nStarting at Noon\, play using your Players Club card.\nSwipe at any Players Club kiosk and touch the Squatchee Points Race icon to check your points earned.\nAfter earning 1\,000 points\, print your voucher at the Players Club kiosk. Must be one of the first 150 guests to earn the required points on each promotion day to print voucher.\nBring your voucher to the Players Club to collect your Squatchee!\n\n\nOctober 5 – Collect the original Squatchee. \nOctober 12 – Collect the female Squatchee. \nOctober 19 – Collect the small Squatchee. \nOctober 26 – Collect one Squatchee of your choice. \n\nSquatchees are limited to stock on hand. Limit one (1) Squatchee per person per promotion day. Points must be earned between 12:00PM and 11:59PM\, on designated Saturdays. Points do not carry over to the next promotion day. Must have card properly inserted in slot machine or present card for tracked play at Table Games to receive points. Management reserves all rights.
URL:https://sevenfeathers.com/event/squatchee-points-race-2/2024-10-26/
CATEGORIES:Promotions
END:VEVENT
BEGIN:VEVENT
DTSTART;TZID=America/Los_Angeles:20241026T083000
DTEND;TZID=America/Los_Angeles:20241026T160000
DTSTAMP:20260423T134226
CREATED:20241002T224144Z
LAST-MODIFIED:20241015T180613Z
UID:10007954-1729931400-1729958400@sevenfeathers.com
SUMMARY:Fall Frenzy Bingo Bash
DESCRIPTION:Fall Frenzy Bingo Bash \nSaturday\, October 26 \nDoors open at 8:30AM. Admission sales start at 10:30AM. Games begin at 1:00PM. \nBuy-ins:  Paper $50 (Includes 2 packs)\, Electronic $65 (includes three packs)\, Extras $15\, Jackpot Pack $20 (includes Seven Feathers Blackout\, Reverse Blackout\, Oregon Blackout\, Super Jackpot) \nTen Regular Games pay $2000\, and you can play for the $5\,000 MUST GO Jackpot! \nPlus receive a free holiday dauber with your buy-in on Thursday\, October 31. \nVisit Bingo for details.
URL:https://sevenfeathers.com/event/fall-frenzy-bingo-bash/
LOCATION:Bingo Hall\, 146 Chief Miwaleta Ln\, Canyonville\, OR\, 97417\, United States
CATEGORIES:Bingo,Promotions
END:VEVENT
BEGIN:VEVENT
DTSTART;TZID=America/Los_Angeles:20241024T190000
DTEND;TZID=America/Los_Angeles:20241024T230000
DTSTAMP:20260423T134226
CREATED:20240930T040024Z
LAST-MODIFIED:20240930T040024Z
UID:10007948-1729796400-1729810800@sevenfeathers.com
SUMMARY:Isaac Barrager
DESCRIPTION:Homegrown talent Isaac Barrager takes the stage to close out October!
URL:https://sevenfeathers.com/event/isaac-barrager-4/2024-10-24/
LOCATION:Elements Lounge\, 146 Chief Miwaleta Ln\, Canyonville\, OR\, 97417\, United States
CATEGORIES:Entertainment
END:VEVENT
BEGIN:VEVENT
DTSTART;TZID=America/Los_Angeles:20241017T190000
DTEND;TZID=America/Los_Angeles:20241017T230000
DTSTAMP:20260423T134226
CREATED:20240930T035620Z
LAST-MODIFIED:20240930T035620Z
UID:10007944-1729191600-1729206000@sevenfeathers.com
SUMMARY:Aurora
DESCRIPTION:Enjoy a night of free live music with Aurora!
URL:https://sevenfeathers.com/event/aurora-8/2024-10-17/
LOCATION:Elements Lounge\, 146 Chief Miwaleta Ln\, Canyonville\, OR\, 97417\, United States
CATEGORIES:Entertainment
END:VEVENT
BEGIN:VEVENT
DTSTART;TZID=America/Los_Angeles:20241012T190000
DTEND;TZID=America/Los_Angeles:20241012T220000
DTSTAMP:20260423T134226
CREATED:20240507T215839Z
LAST-MODIFIED:20240514T204553Z
UID:10006076-1728759600-1728770400@sevenfeathers.com
SUMMARY:Clash At The Casino
DESCRIPTION:Clash at the Casino \nLive Professional Boxing \nSaturday\, October 12 at 7:00PM \n  \nReserved Seating $45\, $55 & $65 \n  \nTickets on sale Wednesday\, May 15 at 10:00AM. Purchase tickets in person at the Gift Gallery\, online at sevenfeathers.com or call Etix at 800.514.3849. Etix is the sole ticket provider for all Seven Feathers Casino Resort events. Not responsible for third party ticket sales. Doors open at 6:00PM. Must be 21 or older. \nPre-fight interviews and weigh-in\, Friday\, October 11 • 5:00 – 7:00PM in Elements Lounge. FREE admission. Must be 21 or older. \nClick here to purchase your tickets.
URL:https://sevenfeathers.com/event/clash-at-the-casino/
LOCATION:Umpqua Grand Ballroom\, 146 Chief Miwaleta Ln\, Canyonville\, OR\, 97417\, United States
CATEGORIES:Entertainment,Exit 99 Landing Page Events
END:VEVENT
BEGIN:VEVENT
DTSTART;TZID=America/Los_Angeles:20241010T190000
DTEND;TZID=America/Los_Angeles:20241010T230000
DTSTAMP:20260423T134226
CREATED:20240930T034745Z
LAST-MODIFIED:20240930T034745Z
UID:10007940-1728586800-1728601200@sevenfeathers.com
SUMMARY:Jeff Crossman
DESCRIPTION:Country rock artist Jeff Crossman takes the stage for an incredible show!
URL:https://sevenfeathers.com/event/jeff-crossman-7/2024-10-10/
LOCATION:Elements Lounge\, 146 Chief Miwaleta Ln\, Canyonville\, OR\, 97417\, United States
CATEGORIES:Entertainment
END:VEVENT
BEGIN:VEVENT
DTSTART;TZID=America/Los_Angeles:20241005T210000
DTEND;TZID=America/Los_Angeles:20241006T010000
DTSTAMP:20260423T134226
CREATED:20240930T034433Z
LAST-MODIFIED:20240930T034433Z
UID:10007938-1728162000-1728176400@sevenfeathers.com
SUMMARY:The Ashes
DESCRIPTION:Enjoy a night of classic rock when The Ashes take the stage!
URL:https://sevenfeathers.com/event/the-ashes-7/2024-10-05/
LOCATION:Elements Lounge\, 146 Chief Miwaleta Ln\, Canyonville\, OR\, 97417\, United States
CATEGORIES:Entertainment
END:VEVENT
BEGIN:VEVENT
DTSTART;TZID=America/Los_Angeles:20241005T190000
DTEND;TZID=America/Los_Angeles:20241005T203000
DTSTAMP:20260423T134226
CREATED:20240711T160040Z
LAST-MODIFIED:20240718T201329Z
UID:10007370-1728154800-1728160200@sevenfeathers.com
SUMMARY:Halestorm
DESCRIPTION:Saturday\, October 5 at 7:00PM \nCome see American rock icons\, Halestorm\, when they perform live in our Umpqua Grand Ballroom. Known for hits like “Love Bites” and “Apocalyptic\,” Halestorm has been a rock powerhouse since the late ‘90s. Join us for a fun evening of rock and great music! \nReserved Seating $50\, $60\, $70 \nTickets on sale Wednesday\, July 17 at 10:00AM. Purchase tickets in person at the Gift Gallery\, online at sevenfeathers.com or call Etix at 800.514.3849. Etix is the sole ticket provider for all Seven Feathers Casino Resort events. Not responsible for third party ticket sales. Doors open at 6:00PM. Must be 21 or older. Concert Attendees – due to venue configuration\, standing during the concert can be expected\, please be sensitive to the mobility impaired that may surround your seat. \nClick here to purchase your tickets.
URL:https://sevenfeathers.com/event/halestorm/
LOCATION:Umpqua Grand Ballroom\, 146 Chief Miwaleta Ln\, Canyonville\, OR\, 97417\, United States
CATEGORIES:Entertainment
END:VEVENT
BEGIN:VEVENT
DTSTART;TZID=America/Los_Angeles:20241003T190000
DTEND;TZID=America/Los_Angeles:20241003T230000
DTSTAMP:20260423T134226
CREATED:20240930T034239Z
LAST-MODIFIED:20240930T034239Z
UID:10007936-1727982000-1727996400@sevenfeathers.com
SUMMARY:The Ashes
DESCRIPTION:Enjoy a night of classic rock when The Ashes take the stage!
URL:https://sevenfeathers.com/event/the-ashes-6/2024-10-03/
CATEGORIES:Entertainment
END:VEVENT
BEGIN:VEVENT
DTSTART;TZID=America/Los_Angeles:20240930T070000
DTEND;TZID=America/Los_Angeles:20240930T200000
DTSTAMP:20260423T134226
CREATED:20240904T200850Z
LAST-MODIFIED:20240904T200850Z
UID:10007917-1727679600-1727726400@sevenfeathers.com
SUMMARY:Pizza & Pasta Gift Giveaway
DESCRIPTION:Sundays & Mondays in September \nEarn 1\,000 Players Club points beginning at 7:00AM on promotion days to receive a new piece each week or buy a piece for 10\,000 points. \nCollect the whole set of pizza and pasta cookware! \n\nEasy gift redemption starts at any Players Club Kiosk: \n\n\nCHECK your points at any Players Club Kiosk; Invited guests\, check your promotions.\nPRINT your voucher or vouchers.\nREDEEM your voucher or vouchers at the Mall Entrance Redemption Area.\n\n\nCollect your piece from 1:00 – 8:00PM\, on Sundays and Mondays. \n\nLimited quantities on hand \, and rainchecks will be issued through Players Club Kiosk when product runs out. Rainchecks will only be issued during redemption periods. Limit two pieces per guest per week. Bingo points do not apply. \n\nVisit Players Club for details. Management reserves the right to change any event or promotion.
URL:https://sevenfeathers.com/event/pizza-pasta-gift-giveaway/2024-09-30/
CATEGORIES:Promotions
END:VEVENT
BEGIN:VEVENT
DTSTART;TZID=America/Los_Angeles:20240929T180000
DTEND;TZID=America/Los_Angeles:20240929T210000
DTSTAMP:20260423T134226
CREATED:20240719T134203Z
LAST-MODIFIED:20240729T164525Z
UID:10007383-1727632800-1727643600@sevenfeathers.com
SUMMARY:Squatchee Safari Grand Prize Drawings
DESCRIPTION:Play from July 22 through September 29 \nOver $75\,000 in cash & prizes\, including four Vacation Packages\, valued at over $10\,000 each! Plus\, you have a chance at winning the Wild Ride Bonus Prize of $20\,000 cash*! \nDrawings are from 6:00 to 9:00PM on Saturdays in August and September\, with the two Grand Prize drawings! \nEarn one entry for every 100 points at Slots and Table Games. Plus\, you can earn 3X entries on Wednesdays! \nPlatinum Elite and Diamond only drawings August 3 and September 7\, 6:00 – 9:00PM. \nPlatinum Elite & Diamond only Drawings: \nSaturdays\, August 3 and September 7: \n\n6:00PM – Two winners of $50-$680 Free Slot Play\n7:00PM – Two winners of $50-$680 Free Slot Play\n8:00PM – Two winners of $50-$680 Free Slot Play\n9:00PM – One winner of $250-$3\,400 Cash and one Wildlife Safari carload pass\n\nRegular Weekly Drawings: \nSaturdays\, August 10\, 17\, 24\, September 14 and 21: \n\n6:00PM – Two winners of $50-$680 Free Slot Play\n7:00PM – Two winners of $50-$680 Free Slot Play\n8:00PM – Two winners of $50-$680 Free Slot Play\n9:00PM – One winner of $250-$3\,400 Cash and one Wildlife Safari carload pass\n\nGrand Prize Drawing Days: \nSaturday\, August 31\, \nSunday\, September 1\, \nSaturday\, September 28 and \nSunday\, September 29: \n\n6:00PM: two (2) winners win $50 – $680 Free Slot Play\n7:00PM: two (2) winners win $50 – $680 Free Slot Play\n8:00PM: two (2) winners win $50 – $680 Free Slot Play\n9:00PM: one (1) winner wins a Squatchee Safari Vacation Package valued at $10\,213.\n\n                Includes:\n– $7\,000 Travel Voucher to Fly Away Travel\n– $3\,000 CASH\n– Basic One-Year Membership Pass to Wildlife Safari (valued at $170)\n– Safari Squatchee Plushy \nTo be valid\, entries must be activated between 4:00PM and 8:50PM\, on EACH drawing day\, at any Players Club Kiosk or by playing table games or your favorite slot machine with your Players Club card. \n*Wild Ride Bonus Prize can be awarded only one (1) time during promotion period. Bonus Prize is awarded randomly and is NOT guaranteed to hit during Squatchee Safari Vacation promotion. \nVisit Players Club for details.
URL:https://sevenfeathers.com/event/squatchee-safari-grand-prize-drawings-2/
CATEGORIES:Promotions
END:VEVENT
END:VCALENDAR