BEGIN:VCALENDAR
VERSION:2.0
PRODID:-//Seven Feathers Casino - ECPv6.15.16//NONSGML v1.0//EN
CALSCALE:GREGORIAN
METHOD:PUBLISH
X-WR-CALNAME:Seven Feathers Casino
X-ORIGINAL-URL:https://sevenfeathers.com
X-WR-CALDESC:Events for Seven Feathers Casino
REFRESH-INTERVAL;VALUE=DURATION:PT1H
X-Robots-Tag:noindex
X-PUBLISHED-TTL:PT1H
BEGIN:VTIMEZONE
TZID:America/Los_Angeles
BEGIN:DAYLIGHT
TZOFFSETFROM:-0800
TZOFFSETTO:-0700
TZNAME:PDT
DTSTART:20240310T100000
END:DAYLIGHT
BEGIN:STANDARD
TZOFFSETFROM:-0700
TZOFFSETTO:-0800
TZNAME:PST
DTSTART:20241103T090000
END:STANDARD
BEGIN:DAYLIGHT
TZOFFSETFROM:-0800
TZOFFSETTO:-0700
TZNAME:PDT
DTSTART:20250309T100000
END:DAYLIGHT
BEGIN:STANDARD
TZOFFSETFROM:-0700
TZOFFSETTO:-0800
TZNAME:PST
DTSTART:20251102T090000
END:STANDARD
BEGIN:DAYLIGHT
TZOFFSETFROM:-0800
TZOFFSETTO:-0700
TZNAME:PDT
DTSTART:20260308T100000
END:DAYLIGHT
BEGIN:STANDARD
TZOFFSETFROM:-0700
TZOFFSETTO:-0800
TZNAME:PST
DTSTART:20261101T090000
END:STANDARD
END:VTIMEZONE
BEGIN:VEVENT
DTSTART;TZID=America/Los_Angeles:20251025T190000
DTEND;TZID=America/Los_Angeles:20251025T230000
DTSTAMP:20260423T172125
CREATED:20230915T151229Z
LAST-MODIFIED:20250730T164831Z
UID:10001914-1761418800-1761433200@sevenfeathers.com
SUMMARY:Halloween Spooktacular
DESCRIPTION:General Admission Tickets $30. \nDJ & Dancing 7:00 to 11:00PM.\nCostume Contest 9:30PM. \nClick here to get your tickets.  \nThere are four costume categories: Scariest\, Most Creative\, Funniest and Group. \nCostumes that disguise the identity of the wearer and toy weapons are not permitted on the casino floor. \nVisit the Players Club for full contest rules. \nTickets go on sale Wednesday\, July 30. Purchase tickets in person at the Gift Gallery or call 800.514.3849.\nEtix is the sole ticket provider for all Seven Feathers Casino Resort events. Not responsible for third party ticket sales. Doors open at 7:00PM. Must be 21 or over.
URL:https://sevenfeathers.com/event/2025-halloween-spooktacular/
LOCATION:Umpqua Grand Ballroom\, 146 Chief Miwaleta Ln\, Canyonville\, OR\, 97417\, United States
CATEGORIES:Entertainment
ATTACH;FMTTYPE=image/jpeg:https://sevenfeathers.com/wp-content/uploads/2023/09/7F-Halloween-Spooktacular-2025-1920x1080-WEB.jpg
END:VEVENT
BEGIN:VEVENT
DTSTART;TZID=America/Los_Angeles:20251025T130000
DTEND;TZID=America/Los_Angeles:20251025T180000
DTSTAMP:20260423T172125
CREATED:20250822T221627Z
LAST-MODIFIED:20251003T230617Z
UID:10010673-1761397200-1761415200@sevenfeathers.com
SUMMARY:Fall Marathon Bingo
DESCRIPTION:Saturday\, October 25 \nDoors open at 8:00AM. Admission sales begin at 10:00AM. Games start at 1:00PM. \nBuy-Ins: Paper $20\, Electronic $60\, Extras $20 \nplay for your chance to win a share of over $31\,000 in Cash Prizes! \n20 Regular Games pay $1\,199\, and there will be a $5\,000 MUST GO Super Jackpot! \nView the program by clicking here. \nTickets on Sale September 29 at 10:00AM \nPurchase tickets in person at the Gift Gallery\, online at sevenfeathers.com or call Etix at 800.514.3849. You may purchase a seat for another person but if that seat does not have a playing guest in it by the time warm-up games have concluded\, the seat may be resold. Etix is the sole ticket provider for all Seven Feathers Casino Resort events.
URL:https://sevenfeathers.com/event/fall-marathon-bingo/
LOCATION:Bingo Hall\, 146 Chief Miwaleta Ln\, Canyonville\, OR\, 97417\, United States
CATEGORIES:Bingo,Promotions
END:VEVENT
BEGIN:VEVENT
DTSTART;TZID=America/Los_Angeles:20251023T190000
DTEND;TZID=America/Los_Angeles:20251023T230000
DTSTAMP:20260423T172125
CREATED:20250929T214430Z
LAST-MODIFIED:20250929T214430Z
UID:10011739-1761246000-1761260400@sevenfeathers.com
SUMMARY:The Ashes
DESCRIPTION:Be our guest! Admission is free! \nMust be 21 or older. Hours and performers are subject to change.
URL:https://sevenfeathers.com/event/the-ashes-10/2025-10-23/
LOCATION:Elements Lounge\, 146 Chief Miwaleta Ln\, Canyonville\, OR\, 97417\, United States
CATEGORIES:Entertainment
END:VEVENT
BEGIN:VEVENT
DTSTART;TZID=America/Los_Angeles:20251022T093000
DTEND;TZID=America/Los_Angeles:20251022T133000
DTSTAMP:20260423T172125
CREATED:20250507T210302Z
LAST-MODIFIED:20250507T210754Z
UID:10010281-1761125400-1761139800@sevenfeathers.com
SUMMARY:Canyonville Farmer's Market
DESCRIPTION:Canyonville Farmer’s Market \nEvery Wednesday from 9:30AM – 1:30PM. Located in Seven Feathers’ south parking lot. \nCome check out local vendors at this weekly market. \nMay 7 – October 22 \n 
URL:https://sevenfeathers.com/event/canyonville-farmers-market-2-2/2025-10-22/
LOCATION:South Parking Lot\, 146 Chief Miwaleta Ln\, Canyonville\, OR\, 97417\, United States
CATEGORIES:Entertainment
END:VEVENT
BEGIN:VEVENT
DTSTART;TZID=America/Los_Angeles:20251018T210000
DTEND;TZID=America/Los_Angeles:20251019T010000
DTSTAMP:20260423T172125
CREATED:20250929T214312Z
LAST-MODIFIED:20250929T214312Z
UID:10011737-1760821200-1760835600@sevenfeathers.com
SUMMARY:Strawberry Roan
DESCRIPTION:Be our guest! Admission is free! \nMust be 21 or older. Hours and performers are subject to change.
URL:https://sevenfeathers.com/event/strawberry-roan-10/2025-10-18/
LOCATION:Elements Lounge\, 146 Chief Miwaleta Ln\, Canyonville\, OR\, 97417\, United States
CATEGORIES:Entertainment
END:VEVENT
BEGIN:VEVENT
DTSTART;TZID=America/Los_Angeles:20251016T190000
DTEND;TZID=America/Los_Angeles:20251016T230000
DTSTAMP:20260423T172125
CREATED:20250929T214201Z
LAST-MODIFIED:20250929T214201Z
UID:10011735-1760641200-1760655600@sevenfeathers.com
SUMMARY:Strawberry Roan
DESCRIPTION:Be our guest! Admission is free! \nMust be 21 or older. Hours and performers are subject to change.
URL:https://sevenfeathers.com/event/strawberry-roan-9/2025-10-16/
LOCATION:Elements Lounge\, 146 Chief Miwaleta Ln\, Canyonville\, OR\, 97417\, United States
CATEGORIES:Entertainment
END:VEVENT
BEGIN:VEVENT
DTSTART;TZID=America/Los_Angeles:20251011T210000
DTEND;TZID=America/Los_Angeles:20251012T010000
DTSTAMP:20260423T172125
CREATED:20250929T214021Z
LAST-MODIFIED:20250929T214021Z
UID:10011733-1760216400-1760230800@sevenfeathers.com
SUMMARY:Saucy
DESCRIPTION:Be our guest! Admission is free! \nMust be 21 or older. Hours and performers are subject to change.
URL:https://sevenfeathers.com/event/saucy-6/2025-10-11/
LOCATION:Elements Lounge\, 146 Chief Miwaleta Ln\, Canyonville\, OR\, 97417\, United States
CATEGORIES:Entertainment
END:VEVENT
BEGIN:VEVENT
DTSTART;TZID=America/Los_Angeles:20251009T190000
DTEND;TZID=America/Los_Angeles:20251009T230000
DTSTAMP:20260423T172125
CREATED:20250929T213908Z
LAST-MODIFIED:20250929T213908Z
UID:10011731-1760036400-1760050800@sevenfeathers.com
SUMMARY:Saucy
DESCRIPTION:Be our guest! Admission is free! \nMust be 21 or older. Hours and performers are subject to change.
URL:https://sevenfeathers.com/event/saucy-5/2025-10-09/
LOCATION:Elements Lounge\, 146 Chief Miwaleta Ln\, Canyonville\, OR\, 97417\, United States
CATEGORIES:Entertainment
END:VEVENT
BEGIN:VEVENT
DTSTART;TZID=America/Los_Angeles:20251004T210000
DTEND;TZID=America/Los_Angeles:20251005T010000
DTSTAMP:20260423T172125
CREATED:20250929T213701Z
LAST-MODIFIED:20250929T213701Z
UID:10011729-1759611600-1759626000@sevenfeathers.com
SUMMARY:DJ Marc Eazy
DESCRIPTION:Be our guest! Admission is free! \nMust be 21 or older. Hours and performers are subject to change.
URL:https://sevenfeathers.com/event/dj-marc-eazy-11/2025-10-04/
LOCATION:Elements Lounge\, 146 Chief Miwaleta Ln\, Canyonville\, OR\, 97417\, United States
CATEGORIES:Entertainment
END:VEVENT
BEGIN:VEVENT
DTSTART;TZID=America/Los_Angeles:20251004T190000
DTEND;TZID=America/Los_Angeles:20251004T203000
DTSTAMP:20260423T172125
CREATED:20250620T171224Z
LAST-MODIFIED:20250709T171027Z
UID:10010382-1759604400-1759609800@sevenfeathers.com
SUMMARY:Thunder From Down Under 2025
DESCRIPTION:Girls’ Night Outback\nTemptation Tour 2025 \nSaturday\, October 4 at 7:00PM\nMust be 21 or older to attend this show.\nReserved Seating Tickets $40\, $50\, & $55 \n\nClick here to get your tickets. \n\nTickets on sale now. Purchase tickets in person at the Gift Gallery or call 800.514.3849. Etix is the sole ticket provider for all Seven Feathers Casino Resort events. Not responsible for third party ticket sales. \nDoors open at 6:00PM. Concert Attendees – due to venue configuration standing during the concert can be expected\, please be sensitive to the mobility impaired that may surround your seat.
URL:https://sevenfeathers.com/event/thunder-from-down-under-2025/
LOCATION:Umpqua Grand Ballroom\, 146 Chief Miwaleta Ln\, Canyonville\, OR\, 97417\, United States
CATEGORIES:Entertainment
END:VEVENT
BEGIN:VEVENT
DTSTART;TZID=America/Los_Angeles:20251002T190000
DTEND;TZID=America/Los_Angeles:20251002T230000
DTSTAMP:20260423T172125
CREATED:20250929T213543Z
LAST-MODIFIED:20250929T213543Z
UID:10011727-1759431600-1759446000@sevenfeathers.com
SUMMARY:DJ Marc Eazy
DESCRIPTION:Be our guest! Admission is free! \nMust be 21 or older. Hours and performers are subject to change.
URL:https://sevenfeathers.com/event/dj-marc-eazy-10/
LOCATION:Elements Lounge\, 146 Chief Miwaleta Ln\, Canyonville\, OR\, 97417\, United States
CATEGORIES:Entertainment
END:VEVENT
BEGIN:VEVENT
DTSTART;TZID=America/Los_Angeles:20251001T190000
DTEND;TZID=America/Los_Angeles:20251001T230000
DTSTAMP:20260423T172125
CREATED:20250929T213416Z
LAST-MODIFIED:20250929T213416Z
UID:10011726-1759345200-1759359600@sevenfeathers.com
SUMMARY:The Brothers Reed
DESCRIPTION:Be our guest! Admission is free! \nMust be 21 or older. Hours and performers are subject to change.
URL:https://sevenfeathers.com/event/the-brothers-reed-6/
LOCATION:Elements Lounge\, 146 Chief Miwaleta Ln\, Canyonville\, OR\, 97417\, United States
CATEGORIES:Entertainment
END:VEVENT
BEGIN:VEVENT
DTSTART;TZID=America/Los_Angeles:20250929T130000
DTEND;TZID=America/Los_Angeles:20250929T200000
DTSTAMP:20260423T172125
CREATED:20250827T221443Z
LAST-MODIFIED:20250827T221934Z
UID:10011159-1759150800-1759176000@sevenfeathers.com
SUMMARY:Wolfgang Puck Prep & Go Set Gift Giveaway
DESCRIPTION:Get your pieces on Sundays & Mondays in September. \nEarn 1\,000 Players Club points beginning at 7:00AM on promotion days to receive a new Prep & Go piece each week or buy a piece for 10\,000 points.  Come each week to collect the whole set! \n  \nTry our easy gift redemption at any Players Club Kiosk! \n  \nCHECK your points at any Players Club Kiosk; Invited guests\, check your promotions. \nPRINT your voucher\, then REDEEM your voucher at the Gift Redemption Area. \n  \nCollect your piece from 1:00 to 8:00PM\, on Sundays and Mondays. \n  \nLimited quantities on hand – rainchecks will be issued through a Players Club Kiosk when product runs out. Rainchecks will only be issued during redemption periods. Limit two Prep & Go pieces per guest per week. Bingo and Keno points do not apply. \n  \nVisit Players Club for details. Management reserves the right to change any event or promotion.
URL:https://sevenfeathers.com/event/wolfgang-puck-prep-go-set-gift-giveaway-2/2025-09-29/
CATEGORIES:Promotions
END:VEVENT
BEGIN:VEVENT
DTSTART;TZID=America/Los_Angeles:20250928T113000
DTEND;TZID=America/Los_Angeles:20250928T170000
DTSTAMP:20260423T172125
CREATED:20250625T223417Z
LAST-MODIFIED:20250716T224536Z
UID:10010406-1759059000-1759078800@sevenfeathers.com
SUMMARY:Wine Trolley Tours
DESCRIPTION:Saturdays & Sundays from 11:30AM – 5:00PM \nTours run from July 12 to September 28. \nTickets are $69 each. \nTour Schedule: \n11:30AM – Depart Casino \n12:00PM – Arrive at First Winery \n2:00PM – Depart \n2:30PM – Arrive at Second Winery \n4:00 – Depart \n4:30 – Return to Casino \n  \nIncludes light lunch and wine tastings at two wineries. Purchase tickets in person at the Gift Gallery\, by clicking here\, or by calling Etix at 800-514-3849. Etix is the sole ticket provider for all Seven Feathers Casino Resort events. Visit Hotel Front Desk for more information.* Some exclusions apply. Must be 21 or older. \n  \nEvent pickup will take place at the casino main entrance. \nPurchase tickets
URL:https://sevenfeathers.com/event/wine-trolley-tours/2025-09-28/
CATEGORIES:Entertainment
END:VEVENT
BEGIN:VEVENT
DTSTART;TZID=America/Los_Angeles:20250927T210000
DTEND;TZID=America/Los_Angeles:20250928T010000
DTSTAMP:20260423T172125
CREATED:20250902T162301Z
LAST-MODIFIED:20250902T162301Z
UID:10011605-1759006800-1759021200@sevenfeathers.com
SUMMARY:Jeff Crossman
DESCRIPTION:Be our guest! Admission is free. \nMust be 21 or older. Hours and performers are subject to change.
URL:https://sevenfeathers.com/event/jeff-crossman-12/2025-09-27/
LOCATION:Elements Lounge\, 146 Chief Miwaleta Ln\, Canyonville\, OR\, 97417\, United States
CATEGORIES:Entertainment
END:VEVENT
BEGIN:VEVENT
DTSTART;TZID=America/Los_Angeles:20250927T190000
DTEND;TZID=America/Los_Angeles:20250927T210000
DTSTAMP:20260423T172125
CREATED:20250717T220116Z
LAST-MODIFIED:20250717T220116Z
UID:10010643-1758999600-1759006800@sevenfeathers.com
SUMMARY:Jurassic Expedition Grand Prize Drawing
DESCRIPTION:July 21 – September 27 \n  \nPlay for your chance to win a share in over $60\,000 in cash and prizes! \n  \nDrawings will be held from 7:00 to 9:00PM\, every Sunday in August and every Saturday in September. Join us for two Grand Prize drawings on August 31 and September 27 for a $10\,000 Travel Package or a 2025 Ford Maverick XLT! \n  \nGuests earn one entry for every 100 points at Slots and Table Games. \n  \nTo be valid\, entries must be activated between 6:00 to 8:50PM\, on EACH drawing day\, at any Players Club Kiosk or by playing table games or your favorite slot machine with your Players Club card. \n  \nVisit Players Club for details.
URL:https://sevenfeathers.com/event/jurassic-expedition-grand-prize-drawing-2/
CATEGORIES:Promotions
END:VEVENT
BEGIN:VEVENT
DTSTART;TZID=America/Los_Angeles:20250927T170000
DTEND;TZID=America/Los_Angeles:20250927T210000
DTSTAMP:20260423T172125
CREATED:20250901T051434Z
LAST-MODIFIED:20250901T051434Z
UID:10011589-1758992400-1759006800@sevenfeathers.com
SUMMARY:Music In The Courtyard
DESCRIPTION:Join us for free live music in the courtyard every Friday and Saturday night this month!
URL:https://sevenfeathers.com/event/music-in-the-courtyard-16/2025-09-27/
LOCATION:Hotel Courtyard\, 146 Chief Miwaleta Ln\, Canyonville\, OR\, 97417\, United States
CATEGORIES:Entertainment
END:VEVENT
BEGIN:VEVENT
DTSTART;TZID=America/Los_Angeles:20250925T190000
DTEND;TZID=America/Los_Angeles:20250925T230000
DTSTAMP:20260423T172125
CREATED:20250902T162127Z
LAST-MODIFIED:20250902T162127Z
UID:10011603-1758826800-1758841200@sevenfeathers.com
SUMMARY:Jeff Crossman
DESCRIPTION:Be our guest! Admission is free. \nMust be 21 or older. Hours and performers are subject to change.
URL:https://sevenfeathers.com/event/jeff-crossman-11/2025-09-25/
LOCATION:Elements Lounge\, 146 Chief Miwaleta Ln\, Canyonville\, OR\, 97417\, United States
CATEGORIES:Entertainment
END:VEVENT
BEGIN:VEVENT
DTSTART;TZID=America/Los_Angeles:20250921T140000
DTEND;TZID=America/Los_Angeles:20250921T170000
DTSTAMP:20260423T172125
CREATED:20250827T213534Z
LAST-MODIFIED:20250828T000019Z
UID:10010678-1758463200-1758474000@sevenfeathers.com
SUMMARY:Fall Classic Rodeo
DESCRIPTION:Saturday\, September 20 and Sunday\, September 21 at 2:00PM located on Rodeo Grounds off Exit 101. \n  \nEntrance Fee:  $5 per person at the gate. \nKids 5 & under get free entry. \n  \nGate opens at 11:00AM each day. \n  \nKIDS EVENTS \nMutton Bustin’ \nPig Scramble \nSign up at the Rodeo. \n  \nRODEO EVENTS \nBareback\, Saddle Bronc\, Bull Riding\, Jr. Bull Riding\, Barrel Racing & Jr. Barrel Racing\, Team Roping\,  and Invitational Century Muley Ropin’ \nEntries open September 10 from 7:00AM to 2:00PM. Call 541.912.5811 for entry information. \n  \nTEAM ROPING CLASSIC \nFor entries call:  Randy – 541-784-8667 \n  \nBarrel Racing and Jr. Barrel Racing \nFor entries call:  Longhorn Productions – 541-912-5811
URL:https://sevenfeathers.com/event/fall-classic-rodeo-3/2025-09-21/
CATEGORIES:Entertainment
END:VEVENT
BEGIN:VEVENT
DTSTART;TZID=America/Los_Angeles:20250920T210000
DTEND;TZID=America/Los_Angeles:20250921T010000
DTSTAMP:20260423T172125
CREATED:20250902T161955Z
LAST-MODIFIED:20250902T161955Z
UID:10011601-1758402000-1758416400@sevenfeathers.com
SUMMARY:Isaac Barrager
DESCRIPTION:Be our guest! Admission is free. \nMust be 21 or older. Hours and performers are subject to change.
URL:https://sevenfeathers.com/event/isaac-barrager-7/2025-09-20/
LOCATION:Elements Lounge\, 146 Chief Miwaleta Ln\, Canyonville\, OR\, 97417\, United States
CATEGORIES:Entertainment
END:VEVENT
BEGIN:VEVENT
DTSTART;TZID=America/Los_Angeles:20250920T190000
DTEND;TZID=America/Los_Angeles:20250920T210000
DTSTAMP:20260423T172125
CREATED:20250717T215416Z
LAST-MODIFIED:20250826T175300Z
UID:10010676-1758394800-1758402000@sevenfeathers.com
SUMMARY:Jurassic Expedition Travel & Truck Giveaway
DESCRIPTION:July 21 – September 27 \n  \nPlay for your chance to win a share in over $60\,000 in cash and prizes! \n  \nDrawings will be held from 7:00 to 9:00PM\, every Sunday in August and every Saturday in September. Join us for two Grand Prize drawings on August 31 and September 27 for a $10\,000 Travel Package or a 2025 Ford Maverick XLT! \n  \nGuests earn one entry for every 100 points at Slots and Table Games. \n  \nTo be valid\, entries must be activated between 6:00 to 8:50PM\, on EACH drawing day\, at any Players Club Kiosk or by playing table games or your favorite slot machine with your Players Club card. \n  \nVisit Players Club for details.
URL:https://sevenfeathers.com/event/jurassic-expedition-travel-truck-giveaway-2/2025-09-20/
CATEGORIES:Promotions
END:VEVENT
BEGIN:VEVENT
DTSTART;TZID=America/Los_Angeles:20250920T170000
DTEND;TZID=America/Los_Angeles:20250920T190000
DTSTAMP:20260423T172125
CREATED:20250827T223557Z
LAST-MODIFIED:20250828T004155Z
UID:10011581-1758387600-1758394800@sevenfeathers.com
SUMMARY:Rodeo Weekend Line Dancing
DESCRIPTION:Friday and Saturday\, September 19 & 20 from 5:00 to 7:00PM. \n  \nThere a 60-minute Line Dancing lessons and beginners are welcome! Line Dancing is a free event in Elements Lounge. \nJoin us with instructors Cassie Gould and Katherine Baker. \nMust be 21 or older.
URL:https://sevenfeathers.com/event/rodeo-weekend-line-dancing-2/2025-09-20/
LOCATION:Elements Lounge\, 146 Chief Miwaleta Ln\, Canyonville\, OR\, 97417\, United States
CATEGORIES:Entertainment
END:VEVENT
BEGIN:VEVENT
DTSTART;TZID=America/Los_Angeles:20250919T200000
DTEND;TZID=America/Los_Angeles:20250919T213000
DTSTAMP:20260423T172125
CREATED:20250522T231624Z
LAST-MODIFIED:20250709T171108Z
UID:10010300-1758312000-1758317400@sevenfeathers.com
SUMMARY:Dylan Marlowe
DESCRIPTION:Friday\, September 19 at 8:00PM \n \nGet ready for a night of modern country grit and heartfelt lyrics as rising star Dylan Marlowe takes the stage! With his raw vocals\, Southern charm and chart-climbing hits\, Dylan brings an unforgettable energy that’s sure to have you singing along all night. Don’t miss your chance to catch one of country music’s fastest-rising talents live in concert! \nReserved Seating $35\, $40\, $45 \nGet your tickets here. \nTickets on sale Wednesday\, May 28 at 10:00AM. Purchase tickets in person at the Gift Gallery\, online at sevenfeathers.com or call Etix at 800.514.3849. Etix is the sole ticket provider for all Seven Feathers Casino Resort events. Not responsible for third party ticket sales. Doors open at 7:00PM. Must be 21 or older.
URL:https://sevenfeathers.com/event/dylan-marlowe/
LOCATION:Umpqua Grand Ballroom\, 146 Chief Miwaleta Ln\, Canyonville\, OR\, 97417\, United States
CATEGORIES:Entertainment
END:VEVENT
BEGIN:VEVENT
DTSTART;TZID=America/Los_Angeles:20250918T190000
DTEND;TZID=America/Los_Angeles:20250918T230000
DTSTAMP:20260423T172125
CREATED:20250902T161834Z
LAST-MODIFIED:20250902T161834Z
UID:10011599-1758222000-1758236400@sevenfeathers.com
SUMMARY:Isaac Barrager
DESCRIPTION:Be our guest! Admission is free. \nMust be 21 or older. Hours and performers are subject to change.
URL:https://sevenfeathers.com/event/isaac-barrager-6/2025-09-18/
LOCATION:Elements Lounge\, 146 Chief Miwaleta Ln\, Canyonville\, OR\, 97417\, United States
CATEGORIES:Entertainment
END:VEVENT
BEGIN:VEVENT
DTSTART;TZID=America/Los_Angeles:20250913T210000
DTEND;TZID=America/Los_Angeles:20250914T010000
DTSTAMP:20260423T172125
CREATED:20250902T161649Z
LAST-MODIFIED:20250902T161649Z
UID:10011597-1757797200-1757811600@sevenfeathers.com
SUMMARY:DJ Marc Eazy
DESCRIPTION:Be our guest! Admission is free. \nMust be 21 or older. Hours and performers are subject to change.
URL:https://sevenfeathers.com/event/dj-marc-eazy-9/2025-09-13/
LOCATION:Elements Lounge\, 146 Chief Miwaleta Ln\, Canyonville\, OR\, 97417\, United States
CATEGORIES:Entertainment
END:VEVENT
BEGIN:VEVENT
DTSTART;TZID=America/Los_Angeles:20250913T130000
DTEND;TZID=America/Los_Angeles:20250913T183000
DTSTAMP:20260423T172125
CREATED:20250731T165719Z
LAST-MODIFIED:20250822T221311Z
UID:10010654-1757768400-1757788200@sevenfeathers.com
SUMMARY:MEGA Marathon Bingo
DESCRIPTION:Saturday\, September 13 \nDoors open at 8:00AM. Admission sales begin at 10:00AM. Games start at 1:00PM. \nBuy-Ins: Paper $200\, Electronic $240\, Extras $20 \nPlay for a share of over $80\,000 in Cash Prizes! 20 Regular Games pay $3\,000\, and there will be $5\,000 and $10\,000 MUST GO Super Jackpots! \nClick here to get your tickets. \nClick here to view the program.  \nTickets go on sale August 1 at 10:00AM. \nPurchase tickets in person at the Gift Gallery\, online at sevenfeathers.com or call Etix at 800.514.3849. You may purchase a seat for another person but if that seat does not have a playing guest in it by the time warm-up games have concluded\, the seat may be resold. Etix is the sole ticket provider for all Seven Feathers Casino Resort events.
URL:https://sevenfeathers.com/event/mega-marathon-bingo/
LOCATION:Bingo Hall\, 146 Chief Miwaleta Ln\, Canyonville\, OR\, 97417\, United States
CATEGORIES:Bingo,Promotions
ATTACH;FMTTYPE=image/jpeg:https://sevenfeathers.com/wp-content/uploads/2025/07/7F-MEGA-Marathon-Bingo-September-2025-1920x1080-WEB.jpg
END:VEVENT
BEGIN:VEVENT
DTSTART;TZID=America/Los_Angeles:20250913T110000
DTEND;TZID=America/Los_Angeles:20250913T170000
DTSTAMP:20260423T172125
CREATED:20240712T221411Z
LAST-MODIFIED:20250814T170722Z
UID:10007371-1757761200-1757782800@sevenfeathers.com
SUMMARY:Tacotopia
DESCRIPTION:Tacotopia is Saturday\, September 13 from 11:00AM to 5:00PM an the Seven Feathers Casino Resort main entrance. \nOregon’s favorite taco and tequila festival is back! This annual celebration has free entry and is available to guests of all ages. \nTequila\, Craft Beer\, Tacos & More will be available for purchase from visiting food trucks and vendors. \nEnjoy live entertainment by The Koz! \n 
URL:https://sevenfeathers.com/event/tacotopia/
LOCATION:Main Casino Entrance\, 146 Chief Miwaleta Ln\, Canyonville\, OR\, 97417\, United States
CATEGORIES:Entertainment
ATTACH;FMTTYPE=image/jpeg:https://sevenfeathers.com/wp-content/uploads/2024/07/7F-Tacotopia-SEP-2025-1920x1080-Web.jpg
END:VEVENT
BEGIN:VEVENT
DTSTART;TZID=America/Los_Angeles:20250911T190000
DTEND;TZID=America/Los_Angeles:20250911T230000
DTSTAMP:20260423T172125
CREATED:20250902T161512Z
LAST-MODIFIED:20250902T161512Z
UID:10011595-1757617200-1757631600@sevenfeathers.com
SUMMARY:Chad Freeman
DESCRIPTION:Be our guest! Admission is free. \nMust be 21 or older. Hours and performers are subject to change.
URL:https://sevenfeathers.com/event/chad-freeman-3/2025-09-11/
LOCATION:Elements Lounge\, 146 Chief Miwaleta Ln\, Canyonville\, OR\, 97417\, United States
CATEGORIES:Entertainment
END:VEVENT
BEGIN:VEVENT
DTSTART;TZID=America/Los_Angeles:20250906T210000
DTEND;TZID=America/Los_Angeles:20250907T010000
DTSTAMP:20260423T172125
CREATED:20250902T161352Z
LAST-MODIFIED:20250902T161352Z
UID:10011593-1757192400-1757206800@sevenfeathers.com
SUMMARY:Toyz
DESCRIPTION:Be our guest! Admission is free. \nMust be 21 or older. Hours and performers are subject to change.
URL:https://sevenfeathers.com/event/toyz-13/2025-09-06/
LOCATION:Elements Lounge\, 146 Chief Miwaleta Ln\, Canyonville\, OR\, 97417\, United States
CATEGORIES:Entertainment
END:VEVENT
BEGIN:VEVENT
DTSTART;TZID=America/Los_Angeles:20250904T190000
DTEND;TZID=America/Los_Angeles:20250904T230000
DTSTAMP:20260423T172125
CREATED:20250902T160944Z
LAST-MODIFIED:20250902T160944Z
UID:10011591-1757012400-1757026800@sevenfeathers.com
SUMMARY:Toyz
DESCRIPTION:Be our guest! Admission is free. \nMust be 21 or older. Hours and performers are subject to change.
URL:https://sevenfeathers.com/event/toyz-12/2025-09-04/
LOCATION:Elements Lounge\, 146 Chief Miwaleta Ln\, Canyonville\, OR\, 97417\, United States
CATEGORIES:Entertainment
END:VEVENT
END:VCALENDAR