BEGIN:VCALENDAR
VERSION:2.0
PRODID:-//Seven Feathers Casino - ECPv6.15.16//NONSGML v1.0//EN
CALSCALE:GREGORIAN
METHOD:PUBLISH
X-WR-CALNAME:Seven Feathers Casino
X-ORIGINAL-URL:https://sevenfeathers.com
X-WR-CALDESC:Events for Seven Feathers Casino
REFRESH-INTERVAL;VALUE=DURATION:PT1H
X-Robots-Tag:noindex
X-PUBLISHED-TTL:PT1H
BEGIN:VTIMEZONE
TZID:America/Los_Angeles
BEGIN:DAYLIGHT
TZOFFSETFROM:-0800
TZOFFSETTO:-0700
TZNAME:PDT
DTSTART:20240310T100000
END:DAYLIGHT
BEGIN:STANDARD
TZOFFSETFROM:-0700
TZOFFSETTO:-0800
TZNAME:PST
DTSTART:20241103T090000
END:STANDARD
BEGIN:DAYLIGHT
TZOFFSETFROM:-0800
TZOFFSETTO:-0700
TZNAME:PDT
DTSTART:20250309T100000
END:DAYLIGHT
BEGIN:STANDARD
TZOFFSETFROM:-0700
TZOFFSETTO:-0800
TZNAME:PST
DTSTART:20251102T090000
END:STANDARD
BEGIN:DAYLIGHT
TZOFFSETFROM:-0800
TZOFFSETTO:-0700
TZNAME:PDT
DTSTART:20260308T100000
END:DAYLIGHT
BEGIN:STANDARD
TZOFFSETFROM:-0700
TZOFFSETTO:-0800
TZNAME:PST
DTSTART:20261101T090000
END:STANDARD
END:VTIMEZONE
BEGIN:VEVENT
DTSTART;TZID=America/Los_Angeles:20250722T190000
DTEND;TZID=America/Los_Angeles:20250722T220000
DTSTAMP:20260421T113543
CREATED:20250401T204839Z
LAST-MODIFIED:20260102T204146Z
UID:10008928-1753210800-1753221600@sevenfeathers.com
SUMMARY:Line Dancing
DESCRIPTION:FREE Line-Dancing Lessons! \nEvery Tuesday at 7:00PM in Elements Lounge \nThere will be 2-hour lessons\, and beginners are welcome. \nInstructors Cass Gould and Katie Wilder teach all your favorite line dances from “The Wolf” to “Bury Me in Georgia”.
URL:https://sevenfeathers.com/event/line-dancing-2/2025-07-22/
LOCATION:Elements Lounge
CATEGORIES:Entertainment,Ongoing
END:VEVENT
BEGIN:VEVENT
DTSTART;TZID=America/Los_Angeles:20250723T190000
DTEND;TZID=America/Los_Angeles:20250723T230000
DTSTAMP:20260421T113543
CREATED:20250630T202529Z
LAST-MODIFIED:20250630T202529Z
UID:10010427-1753297200-1753311600@sevenfeathers.com
SUMMARY:Chad Freeman
DESCRIPTION:Be our guest! Admission to this show is free. \nGuests must be 21 or older. Hours and performers subject to change.
URL:https://sevenfeathers.com/event/chad-freeman-2/2025-07-23/
LOCATION:Elements Lounge
CATEGORIES:Entertainment
END:VEVENT
BEGIN:VEVENT
DTSTART;TZID=America/Los_Angeles:20250724T190000
DTEND;TZID=America/Los_Angeles:20250724T230000
DTSTAMP:20260421T113543
CREATED:20250630T202529Z
LAST-MODIFIED:20250630T202529Z
UID:10010428-1753383600-1753398000@sevenfeathers.com
SUMMARY:Chad Freeman
DESCRIPTION:Be our guest! Admission to this show is free. \nGuests must be 21 or older. Hours and performers subject to change.
URL:https://sevenfeathers.com/event/chad-freeman-2/2025-07-24/
LOCATION:Elements Lounge
CATEGORIES:Entertainment
END:VEVENT
BEGIN:VEVENT
DTSTART;TZID=America/Los_Angeles:20250725T210000
DTEND;TZID=America/Los_Angeles:20250726T010000
DTSTAMP:20260421T113543
CREATED:20250630T202728Z
LAST-MODIFIED:20250630T202728Z
UID:10010429-1753477200-1753491600@sevenfeathers.com
SUMMARY:DJ Marc Eazy
DESCRIPTION:Be our guest! Admission to this show is free. \nGuests must be 21 or older. Hours and performers subject to change.
URL:https://sevenfeathers.com/event/dj-marc-eazy-7/2025-07-25/
LOCATION:Elements Lounge
CATEGORIES:Entertainment
END:VEVENT
BEGIN:VEVENT
DTSTART;TZID=America/Los_Angeles:20250726T210000
DTEND;TZID=America/Los_Angeles:20250727T010000
DTSTAMP:20260421T113543
CREATED:20250630T202728Z
LAST-MODIFIED:20250630T202728Z
UID:10010430-1753563600-1753578000@sevenfeathers.com
SUMMARY:DJ Marc Eazy
DESCRIPTION:Be our guest! Admission to this show is free. \nGuests must be 21 or older. Hours and performers subject to change.
URL:https://sevenfeathers.com/event/dj-marc-eazy-7/2025-07-26/
LOCATION:Elements Lounge
CATEGORIES:Entertainment
END:VEVENT
BEGIN:VEVENT
DTSTART;TZID=America/Los_Angeles:20250727T190000
DTEND;TZID=America/Los_Angeles:20250727T200000
DTSTAMP:20260421T113543
CREATED:20250401T204520Z
LAST-MODIFIED:20260101T040356Z
UID:10008878-1753642800-1753646400@sevenfeathers.com
SUMMARY:DJ Trivia in Elements
DESCRIPTION:Play DJ Trivia with us weekly for a chance to win fun prizes! Participation is free and registration begins at 6:45PM.
URL:https://sevenfeathers.com/event/dj-trivia-3-2/2025-07-27/
LOCATION:Elements Lounge
CATEGORIES:Entertainment,Ongoing
END:VEVENT
BEGIN:VEVENT
DTSTART;TZID=America/Los_Angeles:20250729T190000
DTEND;TZID=America/Los_Angeles:20250729T220000
DTSTAMP:20260421T113543
CREATED:20250401T204839Z
LAST-MODIFIED:20260102T204146Z
UID:10008929-1753815600-1753826400@sevenfeathers.com
SUMMARY:Line Dancing
DESCRIPTION:FREE Line-Dancing Lessons! \nEvery Tuesday at 7:00PM in Elements Lounge \nThere will be 2-hour lessons\, and beginners are welcome. \nInstructors Cass Gould and Katie Wilder teach all your favorite line dances from “The Wolf” to “Bury Me in Georgia”.
URL:https://sevenfeathers.com/event/line-dancing-2/2025-07-29/
LOCATION:Elements Lounge
CATEGORIES:Entertainment,Ongoing
END:VEVENT
BEGIN:VEVENT
DTSTART;TZID=America/Los_Angeles:20250730T190000
DTEND;TZID=America/Los_Angeles:20250730T230000
DTSTAMP:20260421T113543
CREATED:20250630T202923Z
LAST-MODIFIED:20250630T202923Z
UID:10010431-1753902000-1753916400@sevenfeathers.com
SUMMARY:Saucy
DESCRIPTION:Be our guest! Admission to this show is free. \nGuests must be 21 or older. Hours and performers subject to change.
URL:https://sevenfeathers.com/event/saucy-3/2025-07-30/
LOCATION:Elements Lounge
CATEGORIES:Entertainment
END:VEVENT
BEGIN:VEVENT
DTSTART;TZID=America/Los_Angeles:20250731T190000
DTEND;TZID=America/Los_Angeles:20250731T230000
DTSTAMP:20260421T113543
CREATED:20250630T202923Z
LAST-MODIFIED:20250630T202923Z
UID:10010432-1753988400-1754002800@sevenfeathers.com
SUMMARY:Saucy
DESCRIPTION:Be our guest! Admission to this show is free. \nGuests must be 21 or older. Hours and performers subject to change.
URL:https://sevenfeathers.com/event/saucy-3/2025-07-31/
LOCATION:Elements Lounge
CATEGORIES:Entertainment
END:VEVENT
BEGIN:VEVENT
DTSTART;TZID=America/Los_Angeles:20250801T210000
DTEND;TZID=America/Los_Angeles:20250802T010000
DTSTAMP:20260421T113543
CREATED:20250630T203045Z
LAST-MODIFIED:20250630T203045Z
UID:10010433-1754082000-1754096400@sevenfeathers.com
SUMMARY:Saucy
DESCRIPTION:Be our guest! Admission to this show is free. \nGuests must be 21 or older. Hours and performers subject to change.
URL:https://sevenfeathers.com/event/saucy-4/2025-08-01/
LOCATION:Elements Lounge
CATEGORIES:Entertainment
END:VEVENT
BEGIN:VEVENT
DTSTART;TZID=America/Los_Angeles:20250802T210000
DTEND;TZID=America/Los_Angeles:20250803T010000
DTSTAMP:20260421T113543
CREATED:20250630T203045Z
LAST-MODIFIED:20250630T203045Z
UID:10010434-1754168400-1754182800@sevenfeathers.com
SUMMARY:Saucy
DESCRIPTION:Be our guest! Admission to this show is free. \nGuests must be 21 or older. Hours and performers subject to change.
URL:https://sevenfeathers.com/event/saucy-4/2025-08-02/
LOCATION:Elements Lounge
CATEGORIES:Entertainment
END:VEVENT
BEGIN:VEVENT
DTSTART;TZID=America/Los_Angeles:20250803T190000
DTEND;TZID=America/Los_Angeles:20250803T200000
DTSTAMP:20260421T113543
CREATED:20250401T204520Z
LAST-MODIFIED:20260101T040356Z
UID:10008879-1754247600-1754251200@sevenfeathers.com
SUMMARY:DJ Trivia in Elements
DESCRIPTION:Play DJ Trivia with us weekly for a chance to win fun prizes! Participation is free and registration begins at 6:45PM.
URL:https://sevenfeathers.com/event/dj-trivia-3-2/2025-08-03/
LOCATION:Elements Lounge
CATEGORIES:Entertainment,Ongoing
END:VEVENT
BEGIN:VEVENT
DTSTART;TZID=America/Los_Angeles:20250805T190000
DTEND;TZID=America/Los_Angeles:20250805T220000
DTSTAMP:20260421T113543
CREATED:20250401T204839Z
LAST-MODIFIED:20260102T204146Z
UID:10008930-1754420400-1754431200@sevenfeathers.com
SUMMARY:Line Dancing
DESCRIPTION:FREE Line-Dancing Lessons! \nEvery Tuesday at 7:00PM in Elements Lounge \nThere will be 2-hour lessons\, and beginners are welcome. \nInstructors Cass Gould and Katie Wilder teach all your favorite line dances from “The Wolf” to “Bury Me in Georgia”.
URL:https://sevenfeathers.com/event/line-dancing-2/2025-08-05/
LOCATION:Elements Lounge
CATEGORIES:Entertainment,Ongoing
END:VEVENT
BEGIN:VEVENT
DTSTART;TZID=America/Los_Angeles:20250806T190000
DTEND;TZID=America/Los_Angeles:20250806T230000
DTSTAMP:20260421T113543
CREATED:20250801T174950Z
LAST-MODIFIED:20250801T174950Z
UID:10010655-1754506800-1754521200@sevenfeathers.com
SUMMARY:The Ashes
DESCRIPTION:Be our guest! Admission is FREE. \n  \nMust be 21 or older. Hours and performers subject to change.
URL:https://sevenfeathers.com/event/the-ashes-8/2025-08-06/
LOCATION:Elements Lounge
CATEGORIES:Entertainment
ATTACH;FMTTYPE=image/jpeg:https://sevenfeathers.com/wp-content/uploads/2025/08/7F-Elements-Ent-AUG-2025-The-Ashes-1920x1080-1.jpg
END:VEVENT
BEGIN:VEVENT
DTSTART;TZID=America/Los_Angeles:20250807T190000
DTEND;TZID=America/Los_Angeles:20250807T230000
DTSTAMP:20260421T113543
CREATED:20250801T174950Z
LAST-MODIFIED:20250801T174950Z
UID:10010656-1754593200-1754607600@sevenfeathers.com
SUMMARY:The Ashes
DESCRIPTION:Be our guest! Admission is FREE. \n  \nMust be 21 or older. Hours and performers subject to change.
URL:https://sevenfeathers.com/event/the-ashes-8/2025-08-07/
LOCATION:Elements Lounge
CATEGORIES:Entertainment
ATTACH;FMTTYPE=image/jpeg:https://sevenfeathers.com/wp-content/uploads/2025/08/7F-Elements-Ent-AUG-2025-The-Ashes-1920x1080-1.jpg
END:VEVENT
BEGIN:VEVENT
DTSTART;TZID=America/Los_Angeles:20250808T210000
DTEND;TZID=America/Los_Angeles:20250809T010000
DTSTAMP:20260421T113543
CREATED:20250801T175226Z
LAST-MODIFIED:20250801T175226Z
UID:10010657-1754686800-1754701200@sevenfeathers.com
SUMMARY:The Ashes
DESCRIPTION:Be our guest! Admission is FREE. \n  \nMust be 21 or older. Hours and performers subject to change.
URL:https://sevenfeathers.com/event/the-ashes-9/2025-08-08/
LOCATION:Elements Lounge
CATEGORIES:Entertainment
ATTACH;FMTTYPE=image/jpeg:https://sevenfeathers.com/wp-content/uploads/2025/08/7F-Elements-Ent-AUG-2025-The-Ashes-1920x1080-1.jpg
END:VEVENT
BEGIN:VEVENT
DTSTART;TZID=America/Los_Angeles:20250809T210000
DTEND;TZID=America/Los_Angeles:20250810T010000
DTSTAMP:20260421T113543
CREATED:20250801T175226Z
LAST-MODIFIED:20250801T175226Z
UID:10010658-1754773200-1754787600@sevenfeathers.com
SUMMARY:The Ashes
DESCRIPTION:Be our guest! Admission is FREE. \n  \nMust be 21 or older. Hours and performers subject to change.
URL:https://sevenfeathers.com/event/the-ashes-9/2025-08-09/
LOCATION:Elements Lounge
CATEGORIES:Entertainment
ATTACH;FMTTYPE=image/jpeg:https://sevenfeathers.com/wp-content/uploads/2025/08/7F-Elements-Ent-AUG-2025-The-Ashes-1920x1080-1.jpg
END:VEVENT
BEGIN:VEVENT
DTSTART;TZID=America/Los_Angeles:20250810T190000
DTEND;TZID=America/Los_Angeles:20250810T200000
DTSTAMP:20260421T113543
CREATED:20250401T204520Z
LAST-MODIFIED:20260101T040356Z
UID:10008880-1754852400-1754856000@sevenfeathers.com
SUMMARY:DJ Trivia in Elements
DESCRIPTION:Play DJ Trivia with us weekly for a chance to win fun prizes! Participation is free and registration begins at 6:45PM.
URL:https://sevenfeathers.com/event/dj-trivia-3-2/2025-08-10/
LOCATION:Elements Lounge
CATEGORIES:Entertainment,Ongoing
END:VEVENT
BEGIN:VEVENT
DTSTART;TZID=America/Los_Angeles:20250812T190000
DTEND;TZID=America/Los_Angeles:20250812T220000
DTSTAMP:20260421T113543
CREATED:20250401T204839Z
LAST-MODIFIED:20260102T204146Z
UID:10008931-1755025200-1755036000@sevenfeathers.com
SUMMARY:Line Dancing
DESCRIPTION:FREE Line-Dancing Lessons! \nEvery Tuesday at 7:00PM in Elements Lounge \nThere will be 2-hour lessons\, and beginners are welcome. \nInstructors Cass Gould and Katie Wilder teach all your favorite line dances from “The Wolf” to “Bury Me in Georgia”.
URL:https://sevenfeathers.com/event/line-dancing-2/2025-08-12/
LOCATION:Elements Lounge
CATEGORIES:Entertainment,Ongoing
END:VEVENT
BEGIN:VEVENT
DTSTART;TZID=America/Los_Angeles:20250813T190000
DTEND;TZID=America/Los_Angeles:20250813T230000
DTSTAMP:20260421T113543
CREATED:20250801T175535Z
LAST-MODIFIED:20250801T175535Z
UID:10010659-1755111600-1755126000@sevenfeathers.com
SUMMARY:Bri Marie
DESCRIPTION:Be our guest! Admission is FREE. \n  \nMust be 21 or older. Hours and performers subject to change.
URL:https://sevenfeathers.com/event/bri-marie-7/2025-08-13/
LOCATION:Elements Lounge
CATEGORIES:Entertainment
ATTACH;FMTTYPE=image/jpeg:https://sevenfeathers.com/wp-content/uploads/2025/08/7F-Elements-Ent-AUG-2025-Bri-Marie-17x11-1.jpg
END:VEVENT
BEGIN:VEVENT
DTSTART;TZID=America/Los_Angeles:20250814T190000
DTEND;TZID=America/Los_Angeles:20250814T230000
DTSTAMP:20260421T113543
CREATED:20250801T175535Z
LAST-MODIFIED:20250801T175535Z
UID:10010660-1755198000-1755212400@sevenfeathers.com
SUMMARY:Bri Marie
DESCRIPTION:Be our guest! Admission is FREE. \n  \nMust be 21 or older. Hours and performers subject to change.
URL:https://sevenfeathers.com/event/bri-marie-7/2025-08-14/
LOCATION:Elements Lounge
CATEGORIES:Entertainment
ATTACH;FMTTYPE=image/jpeg:https://sevenfeathers.com/wp-content/uploads/2025/08/7F-Elements-Ent-AUG-2025-Bri-Marie-17x11-1.jpg
END:VEVENT
BEGIN:VEVENT
DTSTART;TZID=America/Los_Angeles:20250815T210000
DTEND;TZID=America/Los_Angeles:20250816T010000
DTSTAMP:20260421T113543
CREATED:20250801T175713Z
LAST-MODIFIED:20250801T175713Z
UID:10010661-1755291600-1755306000@sevenfeathers.com
SUMMARY:DJ Marc Eazy
DESCRIPTION:Be our guest! Admission is FREE. \n  \nMust be 21 or older. Hours and performers subject to change.
URL:https://sevenfeathers.com/event/dj-marc-eazy-8/2025-08-15/
LOCATION:Elements Lounge
CATEGORIES:Entertainment
ATTACH;FMTTYPE=image/jpeg:https://sevenfeathers.com/wp-content/uploads/2025/08/7F-Elements-Ent-AUG-2025-DJ-Marc-Eazy-17x11-1.jpg
END:VEVENT
BEGIN:VEVENT
DTSTART;TZID=America/Los_Angeles:20250816T210000
DTEND;TZID=America/Los_Angeles:20250817T010000
DTSTAMP:20260421T113543
CREATED:20250801T175713Z
LAST-MODIFIED:20250801T175713Z
UID:10010662-1755378000-1755392400@sevenfeathers.com
SUMMARY:DJ Marc Eazy
DESCRIPTION:Be our guest! Admission is FREE. \n  \nMust be 21 or older. Hours and performers subject to change.
URL:https://sevenfeathers.com/event/dj-marc-eazy-8/2025-08-16/
LOCATION:Elements Lounge
CATEGORIES:Entertainment
ATTACH;FMTTYPE=image/jpeg:https://sevenfeathers.com/wp-content/uploads/2025/08/7F-Elements-Ent-AUG-2025-DJ-Marc-Eazy-17x11-1.jpg
END:VEVENT
BEGIN:VEVENT
DTSTART;TZID=America/Los_Angeles:20250817T190000
DTEND;TZID=America/Los_Angeles:20250817T200000
DTSTAMP:20260421T113543
CREATED:20250401T204520Z
LAST-MODIFIED:20260101T040356Z
UID:10008881-1755457200-1755460800@sevenfeathers.com
SUMMARY:DJ Trivia in Elements
DESCRIPTION:Play DJ Trivia with us weekly for a chance to win fun prizes! Participation is free and registration begins at 6:45PM.
URL:https://sevenfeathers.com/event/dj-trivia-3-2/2025-08-17/
LOCATION:Elements Lounge
CATEGORIES:Entertainment,Ongoing
END:VEVENT
BEGIN:VEVENT
DTSTART;TZID=America/Los_Angeles:20250819T190000
DTEND;TZID=America/Los_Angeles:20250819T220000
DTSTAMP:20260421T113543
CREATED:20250401T204839Z
LAST-MODIFIED:20260102T204146Z
UID:10008932-1755630000-1755640800@sevenfeathers.com
SUMMARY:Line Dancing
DESCRIPTION:FREE Line-Dancing Lessons! \nEvery Tuesday at 7:00PM in Elements Lounge \nThere will be 2-hour lessons\, and beginners are welcome. \nInstructors Cass Gould and Katie Wilder teach all your favorite line dances from “The Wolf” to “Bury Me in Georgia”.
URL:https://sevenfeathers.com/event/line-dancing-2/2025-08-19/
LOCATION:Elements Lounge
CATEGORIES:Entertainment,Ongoing
END:VEVENT
BEGIN:VEVENT
DTSTART;TZID=America/Los_Angeles:20250824T190000
DTEND;TZID=America/Los_Angeles:20250824T200000
DTSTAMP:20260421T113543
CREATED:20250401T204520Z
LAST-MODIFIED:20260101T040356Z
UID:10008882-1756062000-1756065600@sevenfeathers.com
SUMMARY:DJ Trivia in Elements
DESCRIPTION:Play DJ Trivia with us weekly for a chance to win fun prizes! Participation is free and registration begins at 6:45PM.
URL:https://sevenfeathers.com/event/dj-trivia-3-2/2025-08-24/
LOCATION:Elements Lounge
CATEGORIES:Entertainment,Ongoing
END:VEVENT
BEGIN:VEVENT
DTSTART;TZID=America/Los_Angeles:20250826T190000
DTEND;TZID=America/Los_Angeles:20250826T220000
DTSTAMP:20260421T113543
CREATED:20250401T204839Z
LAST-MODIFIED:20260102T204146Z
UID:10008933-1756234800-1756245600@sevenfeathers.com
SUMMARY:Line Dancing
DESCRIPTION:FREE Line-Dancing Lessons! \nEvery Tuesday at 7:00PM in Elements Lounge \nThere will be 2-hour lessons\, and beginners are welcome. \nInstructors Cass Gould and Katie Wilder teach all your favorite line dances from “The Wolf” to “Bury Me in Georgia”.
URL:https://sevenfeathers.com/event/line-dancing-2/2025-08-26/
LOCATION:Elements Lounge
CATEGORIES:Entertainment,Ongoing
END:VEVENT
BEGIN:VEVENT
DTSTART;TZID=America/Los_Angeles:20250827T190000
DTEND;TZID=America/Los_Angeles:20250827T230000
DTSTAMP:20260421T113543
CREATED:20250801T175910Z
LAST-MODIFIED:20250801T175910Z
UID:10010663-1756321200-1756335600@sevenfeathers.com
SUMMARY:The Hank Shreve Band
DESCRIPTION:Be our guest! Admission is FREE. \n  \nMust be 21 or older. Hours and performers subject to change.
URL:https://sevenfeathers.com/event/the-hank-shreve-band-9/2025-08-27/
LOCATION:Elements Lounge
CATEGORIES:Entertainment
ATTACH;FMTTYPE=image/jpeg:https://sevenfeathers.com/wp-content/uploads/2025/08/7F-Elements-Ent-AUG-2025-Hank-Shreve-17X11.jpg
END:VEVENT
BEGIN:VEVENT
DTSTART;TZID=America/Los_Angeles:20250828T190000
DTEND;TZID=America/Los_Angeles:20250828T230000
DTSTAMP:20260421T113543
CREATED:20250801T175910Z
LAST-MODIFIED:20250801T175910Z
UID:10010664-1756407600-1756422000@sevenfeathers.com
SUMMARY:The Hank Shreve Band
DESCRIPTION:Be our guest! Admission is FREE. \n  \nMust be 21 or older. Hours and performers subject to change.
URL:https://sevenfeathers.com/event/the-hank-shreve-band-9/2025-08-28/
LOCATION:Elements Lounge
CATEGORIES:Entertainment
ATTACH;FMTTYPE=image/jpeg:https://sevenfeathers.com/wp-content/uploads/2025/08/7F-Elements-Ent-AUG-2025-Hank-Shreve-17X11.jpg
END:VEVENT
BEGIN:VEVENT
DTSTART;TZID=America/Los_Angeles:20250829T210000
DTEND;TZID=America/Los_Angeles:20250830T010000
DTSTAMP:20260421T113543
CREATED:20250801T180038Z
LAST-MODIFIED:20250801T180038Z
UID:10010665-1756501200-1756515600@sevenfeathers.com
SUMMARY:The Hank Shreve Band
DESCRIPTION:Be our guest! Admission is FREE. \n  \nMust be 21 or older. Hours and performers subject to change.
URL:https://sevenfeathers.com/event/the-hank-shreve-band-10/2025-08-29/
LOCATION:Elements Lounge
CATEGORIES:Entertainment
ATTACH;FMTTYPE=image/jpeg:https://sevenfeathers.com/wp-content/uploads/2025/08/7F-Elements-Ent-AUG-2025-Hank-Shreve-17X11.jpg
END:VEVENT
END:VCALENDAR