BEGIN:VCALENDAR
VERSION:2.0
PRODID:-//Seven Feathers Casino - ECPv6.15.16//NONSGML v1.0//EN
CALSCALE:GREGORIAN
METHOD:PUBLISH
X-WR-CALNAME:Seven Feathers Casino
X-ORIGINAL-URL:https://sevenfeathers.com
X-WR-CALDESC:Events for Seven Feathers Casino
REFRESH-INTERVAL;VALUE=DURATION:PT1H
X-Robots-Tag:noindex
X-PUBLISHED-TTL:PT1H
BEGIN:VTIMEZONE
TZID:America/Los_Angeles
BEGIN:DAYLIGHT
TZOFFSETFROM:-0800
TZOFFSETTO:-0700
TZNAME:PDT
DTSTART:20240310T100000
END:DAYLIGHT
BEGIN:STANDARD
TZOFFSETFROM:-0700
TZOFFSETTO:-0800
TZNAME:PST
DTSTART:20241103T090000
END:STANDARD
BEGIN:DAYLIGHT
TZOFFSETFROM:-0800
TZOFFSETTO:-0700
TZNAME:PDT
DTSTART:20250309T100000
END:DAYLIGHT
BEGIN:STANDARD
TZOFFSETFROM:-0700
TZOFFSETTO:-0800
TZNAME:PST
DTSTART:20251102T090000
END:STANDARD
BEGIN:DAYLIGHT
TZOFFSETFROM:-0800
TZOFFSETTO:-0700
TZNAME:PDT
DTSTART:20260308T100000
END:DAYLIGHT
BEGIN:STANDARD
TZOFFSETFROM:-0700
TZOFFSETTO:-0800
TZNAME:PST
DTSTART:20261101T090000
END:STANDARD
END:VTIMEZONE
BEGIN:VEVENT
DTSTART;TZID=America/Los_Angeles:20250429T190000
DTEND;TZID=America/Los_Angeles:20250429T220000
DTSTAMP:20260423T140334
CREATED:20250401T204839Z
LAST-MODIFIED:20260102T204146Z
UID:10008916-1745953200-1745964000@sevenfeathers.com
SUMMARY:Line Dancing
DESCRIPTION:FREE Line-Dancing Lessons! \nEvery Tuesday at 7:00PM in Elements Lounge \nThere will be 2-hour lessons\, and beginners are welcome. \nInstructors Cass Gould and Katie Wilder teach all your favorite line dances from “The Wolf” to “Bury Me in Georgia”.
URL:https://sevenfeathers.com/event/line-dancing-2/2025-04-29/
LOCATION:Elements Lounge\, 146 Chief Miwaleta Ln\, Canyonville\, OR\, 97417\, United States
CATEGORIES:Entertainment,Ongoing
END:VEVENT
BEGIN:VEVENT
DTSTART;TZID=America/Los_Angeles:20250430T190000
DTEND;TZID=America/Los_Angeles:20250430T230000
DTSTAMP:20260423T140334
CREATED:20250411T212639Z
LAST-MODIFIED:20250411T212744Z
UID:10007942-1746039600-1746054000@sevenfeathers.com
SUMMARY:Jeff Crossman
DESCRIPTION:Country rock artist Jeff Crossman takes the stage for an incredible show!
URL:https://sevenfeathers.com/event/jeff-crossman-8-2/2025-04-30/
LOCATION:Elements Lounge\, 146 Chief Miwaleta Ln\, Canyonville\, OR\, 97417\, United States
CATEGORIES:Entertainment
END:VEVENT
BEGIN:VEVENT
DTSTART;TZID=America/Los_Angeles:20250504T190000
DTEND;TZID=America/Los_Angeles:20250504T200000
DTSTAMP:20260423T140334
CREATED:20250401T204520Z
LAST-MODIFIED:20260101T040356Z
UID:10008866-1746385200-1746388800@sevenfeathers.com
SUMMARY:DJ Trivia in Elements
DESCRIPTION:Play DJ Trivia with us weekly for a chance to win fun prizes! Participation is free and registration begins at 6:45PM.
URL:https://sevenfeathers.com/event/dj-trivia-3-2/2025-05-04/
LOCATION:Elements Lounge\, 146 Chief Miwaleta Ln\, Canyonville\, OR\, 97417\, United States
CATEGORIES:Entertainment,Ongoing
END:VEVENT
BEGIN:VEVENT
DTSTART;TZID=America/Los_Angeles:20250507T190000
DTEND;TZID=America/Los_Angeles:20250507T230000
DTSTAMP:20260423T140334
CREATED:20250501T232003Z
LAST-MODIFIED:20250501T233941Z
UID:10010241-1746644400-1746658800@sevenfeathers.com
SUMMARY:Dan Harmon and Cascade Country
DESCRIPTION:Be our guest! Admission to this show is free. \nGuests must be 21 or older. Hours and performers subject to change.
URL:https://sevenfeathers.com/event/dan-harmon-and-cascade-country-5/2025-05-07/
LOCATION:Elements Lounge\, 146 Chief Miwaleta Ln\, Canyonville\, OR\, 97417\, United States
CATEGORIES:Entertainment
END:VEVENT
BEGIN:VEVENT
DTSTART;TZID=America/Los_Angeles:20250509T210000
DTEND;TZID=America/Los_Angeles:20250510T010000
DTSTAMP:20260423T140334
CREATED:20250501T232250Z
LAST-MODIFIED:20250501T233919Z
UID:10010243-1746824400-1746838800@sevenfeathers.com
SUMMARY:Dan Harmon and Cascade Country
DESCRIPTION:Be our guest! Admission to this show is free. \nGuests must be 21 or older. Hours and performers subject to change.
URL:https://sevenfeathers.com/event/dan-harmon-and-cascade-country-6/2025-05-09/
LOCATION:Elements Lounge\, 146 Chief Miwaleta Ln\, Canyonville\, OR\, 97417\, United States
CATEGORIES:Entertainment
END:VEVENT
BEGIN:VEVENT
DTSTART;TZID=America/Los_Angeles:20250514T190000
DTEND;TZID=America/Los_Angeles:20250514T230000
DTSTAMP:20260423T140334
CREATED:20250501T232410Z
LAST-MODIFIED:20250501T233828Z
UID:10010245-1747249200-1747263600@sevenfeathers.com
SUMMARY:Saucy
DESCRIPTION:Be our guest! Admission to this show is free. \nGuests must be 21 or older. Hours and performers subject to change.
URL:https://sevenfeathers.com/event/saucy/2025-05-14/
LOCATION:Elements Lounge\, 146 Chief Miwaleta Ln\, Canyonville\, OR\, 97417\, United States
CATEGORIES:Entertainment
END:VEVENT
BEGIN:VEVENT
DTSTART;TZID=America/Los_Angeles:20250516T210000
DTEND;TZID=America/Los_Angeles:20250517T010000
DTSTAMP:20260423T140334
CREATED:20250501T232554Z
LAST-MODIFIED:20250501T233852Z
UID:10010247-1747429200-1747443600@sevenfeathers.com
SUMMARY:Saucy
DESCRIPTION:Be our guest! Admission to this show is free. \nGuests must be 21 or older. Hours and performers subject to change.
URL:https://sevenfeathers.com/event/saucy-2/2025-05-16/
LOCATION:Elements Lounge\, 146 Chief Miwaleta Ln\, Canyonville\, OR\, 97417\, United States
CATEGORIES:Entertainment
END:VEVENT
BEGIN:VEVENT
DTSTART;TZID=America/Los_Angeles:20250521T190000
DTEND;TZID=America/Los_Angeles:20250521T230000
DTSTAMP:20260423T140334
CREATED:20250501T232724Z
LAST-MODIFIED:20250501T233759Z
UID:10010249-1747854000-1747868400@sevenfeathers.com
SUMMARY:Katelyn Wiggs
DESCRIPTION:Be our guest! Admission to this show is free. \nGuests must be 21 or older. Hours and performers subject to change.
URL:https://sevenfeathers.com/event/katelyn-wiggs/2025-05-21/
LOCATION:Elements Lounge\, 146 Chief Miwaleta Ln\, Canyonville\, OR\, 97417\, United States
CATEGORIES:Entertainment
END:VEVENT
BEGIN:VEVENT
DTSTART;TZID=America/Los_Angeles:20250523T210000
DTEND;TZID=America/Los_Angeles:20250524T010000
DTSTAMP:20260423T140334
CREATED:20250501T232904Z
LAST-MODIFIED:20250501T233728Z
UID:10010251-1748034000-1748048400@sevenfeathers.com
SUMMARY:DJ Marc Eazy
DESCRIPTION:Be our guest! Admission to this show is free. \nGuests must be 21 or older. Hours and performers subject to change.
URL:https://sevenfeathers.com/event/dj-marc-eazy-5/2025-05-23/
LOCATION:Elements Lounge\, 146 Chief Miwaleta Ln\, Canyonville\, OR\, 97417\, United States
CATEGORIES:Entertainment
END:VEVENT
BEGIN:VEVENT
DTSTART;TZID=America/Los_Angeles:20250528T190000
DTEND;TZID=America/Los_Angeles:20250528T230000
DTSTAMP:20260423T140334
CREATED:20250501T233017Z
LAST-MODIFIED:20250501T233630Z
UID:10010253-1748458800-1748473200@sevenfeathers.com
SUMMARY:Dylan James Clark
DESCRIPTION:Be our guest! Admission to this show is free. \nGuests must be 21 or older. Hours and performers subject to change.
URL:https://sevenfeathers.com/event/dylan-james-clark/2025-05-28/
LOCATION:Elements Lounge\, 146 Chief Miwaleta Ln\, Canyonville\, OR\, 97417\, United States
CATEGORIES:Entertainment
END:VEVENT
BEGIN:VEVENT
DTSTART;TZID=America/Los_Angeles:20250530T210000
DTEND;TZID=America/Los_Angeles:20250531T010000
DTSTAMP:20260423T140334
CREATED:20250501T233130Z
LAST-MODIFIED:20250501T233656Z
UID:10010255-1748638800-1748653200@sevenfeathers.com
SUMMARY:Dylan James Clark
DESCRIPTION:Be our guest! Admission to this show is free. \nGuests must be 21 or older. Hours and performers subject to change.
URL:https://sevenfeathers.com/event/dylan-james-clark-2/2025-05-30/
LOCATION:Elements Lounge\, 146 Chief Miwaleta Ln\, Canyonville\, OR\, 97417\, United States
CATEGORIES:Entertainment
END:VEVENT
BEGIN:VEVENT
DTSTART;TZID=America/Los_Angeles:20250618T190000
DTEND;TZID=America/Los_Angeles:20250618T230000
DTSTAMP:20260423T140334
CREATED:20250602T104846Z
LAST-MODIFIED:20250602T104846Z
UID:10010341-1750273200-1750287600@sevenfeathers.com
SUMMARY:Chad Freeman
DESCRIPTION:Chad Freeman takes the stage in the Elements Lounge for incredible shows on June 18th & 19th! \nAdmission is free. Must be 21 or older. Hours and performers are subject to change.
URL:https://sevenfeathers.com/event/chad-freeman/2025-06-18/
LOCATION:Elements Lounge\, 146 Chief Miwaleta Ln\, Canyonville\, OR\, 97417\, United States
CATEGORIES:Entertainment
END:VEVENT
BEGIN:VEVENT
DTSTART;TZID=America/Los_Angeles:20250702T190000
DTEND;TZID=America/Los_Angeles:20250702T230000
DTSTAMP:20260423T140334
CREATED:20250630T201446Z
LAST-MODIFIED:20250630T201446Z
UID:10010416-1751482800-1751497200@sevenfeathers.com
SUMMARY:Dylan James Clark
DESCRIPTION:Be our guest! Admission to this show is free. \nGuests must be 21 or older. Hours and performers subject to change.
URL:https://sevenfeathers.com/event/dylan-james-clark-3/2025-07-02/
LOCATION:Elements Lounge\, 146 Chief Miwaleta Ln\, Canyonville\, OR\, 97417\, United States
CATEGORIES:Entertainment
END:VEVENT
BEGIN:VEVENT
DTSTART;TZID=America/Los_Angeles:20250704T210000
DTEND;TZID=America/Los_Angeles:20250705T010000
DTSTAMP:20260423T140334
CREATED:20250630T201610Z
LAST-MODIFIED:20250630T201610Z
UID:10010418-1751662800-1751677200@sevenfeathers.com
SUMMARY:Dylan James Clark
DESCRIPTION:Be our guest! Admission to this show is free. \nGuests must be 21 or older. Hours and performers subject to change.
URL:https://sevenfeathers.com/event/dylan-james-clark-4/2025-07-04/
LOCATION:Elements Lounge\, 146 Chief Miwaleta Ln\, Canyonville\, OR\, 97417\, United States
CATEGORIES:Entertainment
END:VEVENT
BEGIN:VEVENT
DTSTART;TZID=America/Los_Angeles:20250709T190000
DTEND;TZID=America/Los_Angeles:20250709T230000
DTSTAMP:20260423T140334
CREATED:20250630T201811Z
LAST-MODIFIED:20250630T201811Z
UID:10010420-1752087600-1752102000@sevenfeathers.com
SUMMARY:Highway Bound
DESCRIPTION:Be our guest! Admission to this show is free. \nGuests must be 21 or older. Hours and performers subject to change.
URL:https://sevenfeathers.com/event/highway-bound-5/2025-07-09/
LOCATION:Elements Lounge\, 146 Chief Miwaleta Ln\, Canyonville\, OR\, 97417\, United States
CATEGORIES:Entertainment
END:VEVENT
BEGIN:VEVENT
DTSTART;TZID=America/Los_Angeles:20250711T210000
DTEND;TZID=America/Los_Angeles:20250712T010000
DTSTAMP:20260423T140334
CREATED:20250630T202012Z
LAST-MODIFIED:20250630T202012Z
UID:10010422-1752267600-1752282000@sevenfeathers.com
SUMMARY:Highway Bound
DESCRIPTION:Be our guest! Admission to this show is free. \nGuests must be 21 or older. Hours and performers subject to change.
URL:https://sevenfeathers.com/event/highway-bound-6/2025-07-11/
LOCATION:Elements Lounge\, 146 Chief Miwaleta Ln\, Canyonville\, OR\, 97417\, United States
CATEGORIES:Entertainment
END:VEVENT
BEGIN:VEVENT
DTSTART;TZID=America/Los_Angeles:20250717T190000
DTEND;TZID=America/Los_Angeles:20250717T230000
DTSTAMP:20260423T140334
CREATED:20250630T202201Z
LAST-MODIFIED:20250630T202201Z
UID:10010424-1752778800-1752793200@sevenfeathers.com
SUMMARY:Dugger Band
DESCRIPTION:Be our guest! Admission to this show is free. \nGuests must be 21 or older. Hours and performers subject to change.
URL:https://sevenfeathers.com/event/dugger-band/
LOCATION:Elements Lounge\, 146 Chief Miwaleta Ln\, Canyonville\, OR\, 97417\, United States
CATEGORIES:Entertainment
END:VEVENT
BEGIN:VEVENT
DTSTART;TZID=America/Los_Angeles:20250718T210000
DTEND;TZID=America/Los_Angeles:20250719T010000
DTSTAMP:20260423T140334
CREATED:20250630T202345Z
LAST-MODIFIED:20250630T202345Z
UID:10010425-1752872400-1752886800@sevenfeathers.com
SUMMARY:Dugger Band
DESCRIPTION:Be our guest! Admission to this show is free. \nGuests must be 21 or older. Hours and performers subject to change.
URL:https://sevenfeathers.com/event/dugger-band-2/2025-07-18/
LOCATION:Elements Lounge\, 146 Chief Miwaleta Ln\, Canyonville\, OR\, 97417\, United States
CATEGORIES:Entertainment
END:VEVENT
BEGIN:VEVENT
DTSTART;TZID=America/Los_Angeles:20250723T190000
DTEND;TZID=America/Los_Angeles:20250723T230000
DTSTAMP:20260423T140334
CREATED:20250630T202529Z
LAST-MODIFIED:20250630T202529Z
UID:10010427-1753297200-1753311600@sevenfeathers.com
SUMMARY:Chad Freeman
DESCRIPTION:Be our guest! Admission to this show is free. \nGuests must be 21 or older. Hours and performers subject to change.
URL:https://sevenfeathers.com/event/chad-freeman-2/2025-07-23/
LOCATION:Elements Lounge\, 146 Chief Miwaleta Ln\, Canyonville\, OR\, 97417\, United States
CATEGORIES:Entertainment
END:VEVENT
BEGIN:VEVENT
DTSTART;TZID=America/Los_Angeles:20250725T210000
DTEND;TZID=America/Los_Angeles:20250726T010000
DTSTAMP:20260423T140334
CREATED:20250630T202728Z
LAST-MODIFIED:20250630T202728Z
UID:10010429-1753477200-1753491600@sevenfeathers.com
SUMMARY:DJ Marc Eazy
DESCRIPTION:Be our guest! Admission to this show is free. \nGuests must be 21 or older. Hours and performers subject to change.
URL:https://sevenfeathers.com/event/dj-marc-eazy-7/2025-07-25/
LOCATION:Elements Lounge\, 146 Chief Miwaleta Ln\, Canyonville\, OR\, 97417\, United States
CATEGORIES:Entertainment
END:VEVENT
BEGIN:VEVENT
DTSTART;TZID=America/Los_Angeles:20250730T190000
DTEND;TZID=America/Los_Angeles:20250730T230000
DTSTAMP:20260423T140334
CREATED:20250630T202923Z
LAST-MODIFIED:20250630T202923Z
UID:10010431-1753902000-1753916400@sevenfeathers.com
SUMMARY:Saucy
DESCRIPTION:Be our guest! Admission to this show is free. \nGuests must be 21 or older. Hours and performers subject to change.
URL:https://sevenfeathers.com/event/saucy-3/2025-07-30/
LOCATION:Elements Lounge\, 146 Chief Miwaleta Ln\, Canyonville\, OR\, 97417\, United States
CATEGORIES:Entertainment
END:VEVENT
BEGIN:VEVENT
DTSTART;TZID=America/Los_Angeles:20250801T210000
DTEND;TZID=America/Los_Angeles:20250802T010000
DTSTAMP:20260423T140334
CREATED:20250630T203045Z
LAST-MODIFIED:20250630T203045Z
UID:10010433-1754082000-1754096400@sevenfeathers.com
SUMMARY:Saucy
DESCRIPTION:Be our guest! Admission to this show is free. \nGuests must be 21 or older. Hours and performers subject to change.
URL:https://sevenfeathers.com/event/saucy-4/2025-08-01/
LOCATION:Elements Lounge\, 146 Chief Miwaleta Ln\, Canyonville\, OR\, 97417\, United States
CATEGORIES:Entertainment
END:VEVENT
BEGIN:VEVENT
DTSTART;TZID=America/Los_Angeles:20250806T190000
DTEND;TZID=America/Los_Angeles:20250806T230000
DTSTAMP:20260423T140334
CREATED:20250801T174950Z
LAST-MODIFIED:20250801T174950Z
UID:10010655-1754506800-1754521200@sevenfeathers.com
SUMMARY:The Ashes
DESCRIPTION:Be our guest! Admission is FREE. \n  \nMust be 21 or older. Hours and performers subject to change.
URL:https://sevenfeathers.com/event/the-ashes-8/2025-08-06/
LOCATION:Elements Lounge\, 146 Chief Miwaleta Ln\, Canyonville\, OR\, 97417\, United States
CATEGORIES:Entertainment
ATTACH;FMTTYPE=image/jpeg:https://sevenfeathers.com/wp-content/uploads/2025/08/7F-Elements-Ent-AUG-2025-The-Ashes-1920x1080-1.jpg
END:VEVENT
BEGIN:VEVENT
DTSTART;TZID=America/Los_Angeles:20250808T210000
DTEND;TZID=America/Los_Angeles:20250809T010000
DTSTAMP:20260423T140334
CREATED:20250801T175226Z
LAST-MODIFIED:20250801T175226Z
UID:10010657-1754686800-1754701200@sevenfeathers.com
SUMMARY:The Ashes
DESCRIPTION:Be our guest! Admission is FREE. \n  \nMust be 21 or older. Hours and performers subject to change.
URL:https://sevenfeathers.com/event/the-ashes-9/2025-08-08/
LOCATION:Elements Lounge\, 146 Chief Miwaleta Ln\, Canyonville\, OR\, 97417\, United States
CATEGORIES:Entertainment
ATTACH;FMTTYPE=image/jpeg:https://sevenfeathers.com/wp-content/uploads/2025/08/7F-Elements-Ent-AUG-2025-The-Ashes-1920x1080-1.jpg
END:VEVENT
BEGIN:VEVENT
DTSTART;TZID=America/Los_Angeles:20250813T190000
DTEND;TZID=America/Los_Angeles:20250813T230000
DTSTAMP:20260423T140334
CREATED:20250801T175535Z
LAST-MODIFIED:20250801T175535Z
UID:10010659-1755111600-1755126000@sevenfeathers.com
SUMMARY:Bri Marie
DESCRIPTION:Be our guest! Admission is FREE. \n  \nMust be 21 or older. Hours and performers subject to change.
URL:https://sevenfeathers.com/event/bri-marie-7/2025-08-13/
LOCATION:Elements Lounge\, 146 Chief Miwaleta Ln\, Canyonville\, OR\, 97417\, United States
CATEGORIES:Entertainment
ATTACH;FMTTYPE=image/jpeg:https://sevenfeathers.com/wp-content/uploads/2025/08/7F-Elements-Ent-AUG-2025-Bri-Marie-17x11-1.jpg
END:VEVENT
BEGIN:VEVENT
DTSTART;TZID=America/Los_Angeles:20250815T210000
DTEND;TZID=America/Los_Angeles:20250816T010000
DTSTAMP:20260423T140334
CREATED:20250801T175713Z
LAST-MODIFIED:20250801T175713Z
UID:10010661-1755291600-1755306000@sevenfeathers.com
SUMMARY:DJ Marc Eazy
DESCRIPTION:Be our guest! Admission is FREE. \n  \nMust be 21 or older. Hours and performers subject to change.
URL:https://sevenfeathers.com/event/dj-marc-eazy-8/2025-08-15/
LOCATION:Elements Lounge\, 146 Chief Miwaleta Ln\, Canyonville\, OR\, 97417\, United States
CATEGORIES:Entertainment
ATTACH;FMTTYPE=image/jpeg:https://sevenfeathers.com/wp-content/uploads/2025/08/7F-Elements-Ent-AUG-2025-DJ-Marc-Eazy-17x11-1.jpg
END:VEVENT
BEGIN:VEVENT
DTSTART;TZID=America/Los_Angeles:20250827T190000
DTEND;TZID=America/Los_Angeles:20250827T230000
DTSTAMP:20260423T140334
CREATED:20250801T175910Z
LAST-MODIFIED:20250801T175910Z
UID:10010663-1756321200-1756335600@sevenfeathers.com
SUMMARY:The Hank Shreve Band
DESCRIPTION:Be our guest! Admission is FREE. \n  \nMust be 21 or older. Hours and performers subject to change.
URL:https://sevenfeathers.com/event/the-hank-shreve-band-9/2025-08-27/
LOCATION:Elements Lounge\, 146 Chief Miwaleta Ln\, Canyonville\, OR\, 97417\, United States
CATEGORIES:Entertainment
ATTACH;FMTTYPE=image/jpeg:https://sevenfeathers.com/wp-content/uploads/2025/08/7F-Elements-Ent-AUG-2025-Hank-Shreve-17X11.jpg
END:VEVENT
BEGIN:VEVENT
DTSTART;TZID=America/Los_Angeles:20250829T210000
DTEND;TZID=America/Los_Angeles:20250830T010000
DTSTAMP:20260423T140334
CREATED:20250801T180038Z
LAST-MODIFIED:20250801T180038Z
UID:10010665-1756501200-1756515600@sevenfeathers.com
SUMMARY:The Hank Shreve Band
DESCRIPTION:Be our guest! Admission is FREE. \n  \nMust be 21 or older. Hours and performers subject to change.
URL:https://sevenfeathers.com/event/the-hank-shreve-band-10/2025-08-29/
LOCATION:Elements Lounge\, 146 Chief Miwaleta Ln\, Canyonville\, OR\, 97417\, United States
CATEGORIES:Entertainment
ATTACH;FMTTYPE=image/jpeg:https://sevenfeathers.com/wp-content/uploads/2025/08/7F-Elements-Ent-AUG-2025-Hank-Shreve-17X11.jpg
END:VEVENT
BEGIN:VEVENT
DTSTART;TZID=America/Los_Angeles:20250903T190000
DTEND;TZID=America/Los_Angeles:20250903T230000
DTSTAMP:20260423T140334
CREATED:20250902T160944Z
LAST-MODIFIED:20250902T160944Z
UID:10011590-1756926000-1756940400@sevenfeathers.com
SUMMARY:Toyz
DESCRIPTION:Be our guest! Admission is free. \nMust be 21 or older. Hours and performers are subject to change.
URL:https://sevenfeathers.com/event/toyz-12/2025-09-03/
LOCATION:Elements Lounge\, 146 Chief Miwaleta Ln\, Canyonville\, OR\, 97417\, United States
CATEGORIES:Entertainment
END:VEVENT
BEGIN:VEVENT
DTSTART;TZID=America/Los_Angeles:20250905T210000
DTEND;TZID=America/Los_Angeles:20250906T010000
DTSTAMP:20260423T140334
CREATED:20250902T161352Z
LAST-MODIFIED:20250902T161352Z
UID:10011592-1757106000-1757120400@sevenfeathers.com
SUMMARY:Toyz
DESCRIPTION:Be our guest! Admission is free. \nMust be 21 or older. Hours and performers are subject to change.
URL:https://sevenfeathers.com/event/toyz-13/2025-09-05/
LOCATION:Elements Lounge\, 146 Chief Miwaleta Ln\, Canyonville\, OR\, 97417\, United States
CATEGORIES:Entertainment
END:VEVENT
END:VCALENDAR