BEGIN:VCALENDAR
VERSION:2.0
PRODID:-//Seven Feathers Casino - ECPv6.15.16//NONSGML v1.0//EN
CALSCALE:GREGORIAN
METHOD:PUBLISH
X-WR-CALNAME:Seven Feathers Casino
X-ORIGINAL-URL:https://sevenfeathers.com
X-WR-CALDESC:Events for Seven Feathers Casino
REFRESH-INTERVAL;VALUE=DURATION:PT1H
X-Robots-Tag:noindex
X-PUBLISHED-TTL:PT1H
BEGIN:VTIMEZONE
TZID:America/Los_Angeles
BEGIN:DAYLIGHT
TZOFFSETFROM:-0800
TZOFFSETTO:-0700
TZNAME:PDT
DTSTART:20240310T100000
END:DAYLIGHT
BEGIN:STANDARD
TZOFFSETFROM:-0700
TZOFFSETTO:-0800
TZNAME:PST
DTSTART:20241103T090000
END:STANDARD
BEGIN:DAYLIGHT
TZOFFSETFROM:-0800
TZOFFSETTO:-0700
TZNAME:PDT
DTSTART:20250309T100000
END:DAYLIGHT
BEGIN:STANDARD
TZOFFSETFROM:-0700
TZOFFSETTO:-0800
TZNAME:PST
DTSTART:20251102T090000
END:STANDARD
BEGIN:DAYLIGHT
TZOFFSETFROM:-0800
TZOFFSETTO:-0700
TZNAME:PDT
DTSTART:20260308T100000
END:DAYLIGHT
BEGIN:STANDARD
TZOFFSETFROM:-0700
TZOFFSETTO:-0800
TZNAME:PST
DTSTART:20261101T090000
END:STANDARD
END:VTIMEZONE
BEGIN:VEVENT
DTSTART;TZID=America/Los_Angeles:20250531T210000
DTEND;TZID=America/Los_Angeles:20250601T010000
DTSTAMP:20260423T025839
CREATED:20250501T233130Z
LAST-MODIFIED:20250501T233656Z
UID:10010256-1748725200-1748739600@sevenfeathers.com
SUMMARY:Dylan James Clark
DESCRIPTION:Be our guest! Admission to this show is free. \nGuests must be 21 or older. Hours and performers subject to change.
URL:https://sevenfeathers.com/event/dylan-james-clark-2/2025-05-31/
LOCATION:Elements Lounge\, 146 Chief Miwaleta Ln\, Canyonville\, OR\, 97417\, United States
CATEGORIES:Entertainment
END:VEVENT
BEGIN:VEVENT
DTSTART;TZID=America/Los_Angeles:20250601T190000
DTEND;TZID=America/Los_Angeles:20250601T200000
DTSTAMP:20260423T025839
CREATED:20250401T204520Z
LAST-MODIFIED:20260101T040356Z
UID:10008870-1748804400-1748808000@sevenfeathers.com
SUMMARY:DJ Trivia in Elements
DESCRIPTION:Play DJ Trivia with us weekly for a chance to win fun prizes! Participation is free and registration begins at 6:45PM.
URL:https://sevenfeathers.com/event/dj-trivia-3-2/2025-06-01/
LOCATION:Elements Lounge\, 146 Chief Miwaleta Ln\, Canyonville\, OR\, 97417\, United States
CATEGORIES:Entertainment,Ongoing
END:VEVENT
BEGIN:VEVENT
DTSTART;TZID=America/Los_Angeles:20250603T190000
DTEND;TZID=America/Los_Angeles:20250603T220000
DTSTAMP:20260423T025839
CREATED:20250401T204839Z
LAST-MODIFIED:20260102T204146Z
UID:10008921-1748977200-1748988000@sevenfeathers.com
SUMMARY:Line Dancing
DESCRIPTION:FREE Line-Dancing Lessons! \nEvery Tuesday at 7:00PM in Elements Lounge \nThere will be 2-hour lessons\, and beginners are welcome. \nInstructors Cass Gould and Katie Wilder teach all your favorite line dances from “The Wolf” to “Bury Me in Georgia”.
URL:https://sevenfeathers.com/event/line-dancing-2/2025-06-03/
LOCATION:Elements Lounge\, 146 Chief Miwaleta Ln\, Canyonville\, OR\, 97417\, United States
CATEGORIES:Entertainment,Ongoing
END:VEVENT
BEGIN:VEVENT
DTSTART;TZID=America/Los_Angeles:20250604T190000
DTEND;TZID=America/Los_Angeles:20250604T230000
DTSTAMP:20260423T025839
CREATED:20250602T110242Z
LAST-MODIFIED:20250602T110242Z
UID:10010357-1749063600-1749078000@sevenfeathers.com
SUMMARY:The Ashes in the Elements Lounge
DESCRIPTION:Be our guest and enjoy free live classic rock in the Elements Lounge! The Ashes will be performing live June 4 – 7! \nMust be 21 or older. Hours and performers are subject to change.
URL:https://sevenfeathers.com/event/the-ashes-in-the-elements-lounge-3/2025-06-04/
LOCATION:Elements Lounge\, 146 Chief Miwaleta Ln\, Canyonville\, OR\, 97417\, United States
CATEGORIES:Entertainment
END:VEVENT
BEGIN:VEVENT
DTSTART;TZID=America/Los_Angeles:20250605T190000
DTEND;TZID=America/Los_Angeles:20250605T230000
DTSTAMP:20260423T025839
CREATED:20250602T110242Z
LAST-MODIFIED:20250602T110242Z
UID:10010358-1749150000-1749164400@sevenfeathers.com
SUMMARY:The Ashes in the Elements Lounge
DESCRIPTION:Be our guest and enjoy free live classic rock in the Elements Lounge! The Ashes will be performing live June 4 – 7! \nMust be 21 or older. Hours and performers are subject to change.
URL:https://sevenfeathers.com/event/the-ashes-in-the-elements-lounge-3/2025-06-05/
LOCATION:Elements Lounge\, 146 Chief Miwaleta Ln\, Canyonville\, OR\, 97417\, United States
CATEGORIES:Entertainment
END:VEVENT
BEGIN:VEVENT
DTSTART;TZID=America/Los_Angeles:20250606T210000
DTEND;TZID=America/Los_Angeles:20250607T010000
DTSTAMP:20260423T025839
CREATED:20250602T110344Z
LAST-MODIFIED:20250602T110344Z
UID:10010361-1749243600-1749258000@sevenfeathers.com
SUMMARY:The Ashes in the Elements Lounge
DESCRIPTION:Be our guest and enjoy free live classic rock in the Elements Lounge! The Ashes will be performing live June 4 – 7! \nMust be 21 or older. Hours and performers are subject to change.
URL:https://sevenfeathers.com/event/the-ashes-in-the-elements-lounge-4/2025-06-06/
LOCATION:Elements Lounge\, 146 Chief Miwaleta Ln\, Canyonville\, OR\, 97417\, United States
CATEGORIES:Entertainment
END:VEVENT
BEGIN:VEVENT
DTSTART;TZID=America/Los_Angeles:20250608T190000
DTEND;TZID=America/Los_Angeles:20250608T200000
DTSTAMP:20260423T025839
CREATED:20250401T204520Z
LAST-MODIFIED:20260101T040356Z
UID:10008871-1749409200-1749412800@sevenfeathers.com
SUMMARY:DJ Trivia in Elements
DESCRIPTION:Play DJ Trivia with us weekly for a chance to win fun prizes! Participation is free and registration begins at 6:45PM.
URL:https://sevenfeathers.com/event/dj-trivia-3-2/2025-06-08/
LOCATION:Elements Lounge\, 146 Chief Miwaleta Ln\, Canyonville\, OR\, 97417\, United States
CATEGORIES:Entertainment,Ongoing
END:VEVENT
BEGIN:VEVENT
DTSTART;TZID=America/Los_Angeles:20250610T190000
DTEND;TZID=America/Los_Angeles:20250610T220000
DTSTAMP:20260423T025839
CREATED:20250401T204839Z
LAST-MODIFIED:20260102T204146Z
UID:10008922-1749582000-1749592800@sevenfeathers.com
SUMMARY:Line Dancing
DESCRIPTION:FREE Line-Dancing Lessons! \nEvery Tuesday at 7:00PM in Elements Lounge \nThere will be 2-hour lessons\, and beginners are welcome. \nInstructors Cass Gould and Katie Wilder teach all your favorite line dances from “The Wolf” to “Bury Me in Georgia”.
URL:https://sevenfeathers.com/event/line-dancing-2/2025-06-10/
LOCATION:Elements Lounge\, 146 Chief Miwaleta Ln\, Canyonville\, OR\, 97417\, United States
CATEGORIES:Entertainment,Ongoing
END:VEVENT
BEGIN:VEVENT
DTSTART;TZID=America/Los_Angeles:20250611T190000
DTEND;TZID=America/Los_Angeles:20250611T230000
DTSTAMP:20260423T025839
CREATED:20250602T105642Z
LAST-MODIFIED:20250602T105642Z
UID:10010349-1749668400-1749682800@sevenfeathers.com
SUMMARY:Strawberry Roan in the Elements Lounge
DESCRIPTION:Be our guest and enjoy free live music in the Elements Lounge! Strawberry Roan will be performing live June 11 – 14! \nMust be 21 or older. Hours and performers are subject to change.
URL:https://sevenfeathers.com/event/strawberry-roan-in-the-elements-lounge-3/2025-06-11/
LOCATION:Elements Lounge\, 146 Chief Miwaleta Ln\, Canyonville\, OR\, 97417\, United States
CATEGORIES:Entertainment
END:VEVENT
BEGIN:VEVENT
DTSTART;TZID=America/Los_Angeles:20250612T190000
DTEND;TZID=America/Los_Angeles:20250612T230000
DTSTAMP:20260423T025839
CREATED:20250602T105642Z
LAST-MODIFIED:20250602T105642Z
UID:10010350-1749754800-1749769200@sevenfeathers.com
SUMMARY:Strawberry Roan in the Elements Lounge
DESCRIPTION:Be our guest and enjoy free live music in the Elements Lounge! Strawberry Roan will be performing live June 11 – 14! \nMust be 21 or older. Hours and performers are subject to change.
URL:https://sevenfeathers.com/event/strawberry-roan-in-the-elements-lounge-3/2025-06-12/
LOCATION:Elements Lounge\, 146 Chief Miwaleta Ln\, Canyonville\, OR\, 97417\, United States
CATEGORIES:Entertainment
END:VEVENT
BEGIN:VEVENT
DTSTART;TZID=America/Los_Angeles:20250613T210000
DTEND;TZID=America/Los_Angeles:20250614T010000
DTSTAMP:20260423T025839
CREATED:20250602T105755Z
LAST-MODIFIED:20250602T105755Z
UID:10010353-1749848400-1749862800@sevenfeathers.com
SUMMARY:Strawberry Roan in the Elements Lounge
DESCRIPTION:Be our guest and enjoy free live music in the Elements Lounge! Strawberry Roan will be performing live June 11 – 14! \nMust be 21 or older. Hours and performers are subject to change.
URL:https://sevenfeathers.com/event/strawberry-roan-in-the-elements-lounge-4/2025-06-13/
LOCATION:Elements Lounge\, 146 Chief Miwaleta Ln\, Canyonville\, OR\, 97417\, United States
CATEGORIES:Entertainment
END:VEVENT
BEGIN:VEVENT
DTSTART;TZID=America/Los_Angeles:20250614T210000
DTEND;TZID=America/Los_Angeles:20250615T010000
DTSTAMP:20260423T025839
CREATED:20250602T105755Z
LAST-MODIFIED:20250602T105755Z
UID:10010354-1749934800-1749949200@sevenfeathers.com
SUMMARY:Strawberry Roan in the Elements Lounge
DESCRIPTION:Be our guest and enjoy free live music in the Elements Lounge! Strawberry Roan will be performing live June 11 – 14! \nMust be 21 or older. Hours and performers are subject to change.
URL:https://sevenfeathers.com/event/strawberry-roan-in-the-elements-lounge-4/2025-06-14/
LOCATION:Elements Lounge\, 146 Chief Miwaleta Ln\, Canyonville\, OR\, 97417\, United States
CATEGORIES:Entertainment
END:VEVENT
BEGIN:VEVENT
DTSTART;TZID=America/Los_Angeles:20250615T190000
DTEND;TZID=America/Los_Angeles:20250615T200000
DTSTAMP:20260423T025839
CREATED:20250401T204520Z
LAST-MODIFIED:20260101T040356Z
UID:10008872-1750014000-1750017600@sevenfeathers.com
SUMMARY:DJ Trivia in Elements
DESCRIPTION:Play DJ Trivia with us weekly for a chance to win fun prizes! Participation is free and registration begins at 6:45PM.
URL:https://sevenfeathers.com/event/dj-trivia-3-2/2025-06-15/
LOCATION:Elements Lounge\, 146 Chief Miwaleta Ln\, Canyonville\, OR\, 97417\, United States
CATEGORIES:Entertainment,Ongoing
END:VEVENT
BEGIN:VEVENT
DTSTART;TZID=America/Los_Angeles:20250617T190000
DTEND;TZID=America/Los_Angeles:20250617T220000
DTSTAMP:20260423T025839
CREATED:20250401T204839Z
LAST-MODIFIED:20260102T204146Z
UID:10008923-1750186800-1750197600@sevenfeathers.com
SUMMARY:Line Dancing
DESCRIPTION:FREE Line-Dancing Lessons! \nEvery Tuesday at 7:00PM in Elements Lounge \nThere will be 2-hour lessons\, and beginners are welcome. \nInstructors Cass Gould and Katie Wilder teach all your favorite line dances from “The Wolf” to “Bury Me in Georgia”.
URL:https://sevenfeathers.com/event/line-dancing-2/2025-06-17/
LOCATION:Elements Lounge\, 146 Chief Miwaleta Ln\, Canyonville\, OR\, 97417\, United States
CATEGORIES:Entertainment,Ongoing
END:VEVENT
BEGIN:VEVENT
DTSTART;TZID=America/Los_Angeles:20250618T190000
DTEND;TZID=America/Los_Angeles:20250618T230000
DTSTAMP:20260423T025839
CREATED:20250602T104846Z
LAST-MODIFIED:20250602T104846Z
UID:10010341-1750273200-1750287600@sevenfeathers.com
SUMMARY:Chad Freeman
DESCRIPTION:Chad Freeman takes the stage in the Elements Lounge for incredible shows on June 18th & 19th! \nAdmission is free. Must be 21 or older. Hours and performers are subject to change.
URL:https://sevenfeathers.com/event/chad-freeman/2025-06-18/
LOCATION:Elements Lounge\, 146 Chief Miwaleta Ln\, Canyonville\, OR\, 97417\, United States
CATEGORIES:Entertainment
END:VEVENT
BEGIN:VEVENT
DTSTART;TZID=America/Los_Angeles:20250619T190000
DTEND;TZID=America/Los_Angeles:20250619T230000
DTSTAMP:20260423T025839
CREATED:20250602T104846Z
LAST-MODIFIED:20250602T104846Z
UID:10010342-1750359600-1750374000@sevenfeathers.com
SUMMARY:Chad Freeman
DESCRIPTION:Chad Freeman takes the stage in the Elements Lounge for incredible shows on June 18th & 19th! \nAdmission is free. Must be 21 or older. Hours and performers are subject to change.
URL:https://sevenfeathers.com/event/chad-freeman/2025-06-19/
LOCATION:Elements Lounge\, 146 Chief Miwaleta Ln\, Canyonville\, OR\, 97417\, United States
CATEGORIES:Entertainment
END:VEVENT
BEGIN:VEVENT
DTSTART;TZID=America/Los_Angeles:20250620T210000
DTEND;TZID=America/Los_Angeles:20250621T010000
DTSTAMP:20260423T025839
CREATED:20250602T105142Z
LAST-MODIFIED:20250602T105142Z
UID:10010345-1750453200-1750467600@sevenfeathers.com
SUMMARY:DJ Marc Eazy
DESCRIPTION:Be our guest! Admission to this show is free. \nGuests must be 21 or older. Hours and performers subject to change.
URL:https://sevenfeathers.com/event/dj-marc-eazy-6/2025-06-20/
LOCATION:Elements Lounge\, 146 Chief Miwaleta Ln\, Canyonville\, OR\, 97417\, United States
CATEGORIES:Entertainment
END:VEVENT
BEGIN:VEVENT
DTSTART;TZID=America/Los_Angeles:20250621T210000
DTEND;TZID=America/Los_Angeles:20250622T010000
DTSTAMP:20260423T025839
CREATED:20250602T105142Z
LAST-MODIFIED:20250602T105142Z
UID:10010346-1750539600-1750554000@sevenfeathers.com
SUMMARY:DJ Marc Eazy
DESCRIPTION:Be our guest! Admission to this show is free. \nGuests must be 21 or older. Hours and performers subject to change.
URL:https://sevenfeathers.com/event/dj-marc-eazy-6/2025-06-21/
LOCATION:Elements Lounge\, 146 Chief Miwaleta Ln\, Canyonville\, OR\, 97417\, United States
CATEGORIES:Entertainment
END:VEVENT
BEGIN:VEVENT
DTSTART;TZID=America/Los_Angeles:20250622T190000
DTEND;TZID=America/Los_Angeles:20250622T200000
DTSTAMP:20260423T025839
CREATED:20250401T204520Z
LAST-MODIFIED:20260101T040356Z
UID:10008873-1750618800-1750622400@sevenfeathers.com
SUMMARY:DJ Trivia in Elements
DESCRIPTION:Play DJ Trivia with us weekly for a chance to win fun prizes! Participation is free and registration begins at 6:45PM.
URL:https://sevenfeathers.com/event/dj-trivia-3-2/2025-06-22/
LOCATION:Elements Lounge\, 146 Chief Miwaleta Ln\, Canyonville\, OR\, 97417\, United States
CATEGORIES:Entertainment,Ongoing
END:VEVENT
BEGIN:VEVENT
DTSTART;TZID=America/Los_Angeles:20250624T190000
DTEND;TZID=America/Los_Angeles:20250624T220000
DTSTAMP:20260423T025839
CREATED:20250401T204839Z
LAST-MODIFIED:20260102T204146Z
UID:10008924-1750791600-1750802400@sevenfeathers.com
SUMMARY:Line Dancing
DESCRIPTION:FREE Line-Dancing Lessons! \nEvery Tuesday at 7:00PM in Elements Lounge \nThere will be 2-hour lessons\, and beginners are welcome. \nInstructors Cass Gould and Katie Wilder teach all your favorite line dances from “The Wolf” to “Bury Me in Georgia”.
URL:https://sevenfeathers.com/event/line-dancing-2/2025-06-24/
LOCATION:Elements Lounge\, 146 Chief Miwaleta Ln\, Canyonville\, OR\, 97417\, United States
CATEGORIES:Entertainment,Ongoing
END:VEVENT
BEGIN:VEVENT
DTSTART;TZID=America/Los_Angeles:20250625T190000
DTEND;TZID=America/Los_Angeles:20250625T230000
DTSTAMP:20260423T025839
CREATED:20250602T102921Z
LAST-MODIFIED:20250602T102921Z
UID:10010333-1750878000-1750892400@sevenfeathers.com
SUMMARY:Jeff Crossman
DESCRIPTION:Country rock artist Jeff Crossman takes the stage for an incredible show! \nAdmission is free. Must be 21 or older. Hours and performers subject to change.
URL:https://sevenfeathers.com/event/jeff-crossman-9/2025-06-25/
LOCATION:Elements Lounge\, 146 Chief Miwaleta Ln\, Canyonville\, OR\, 97417\, United States
CATEGORIES:Entertainment
END:VEVENT
BEGIN:VEVENT
DTSTART;TZID=America/Los_Angeles:20250626T190000
DTEND;TZID=America/Los_Angeles:20250626T230000
DTSTAMP:20260423T025839
CREATED:20250602T102921Z
LAST-MODIFIED:20250602T102921Z
UID:10010334-1750964400-1750978800@sevenfeathers.com
SUMMARY:Jeff Crossman
DESCRIPTION:Country rock artist Jeff Crossman takes the stage for an incredible show! \nAdmission is free. Must be 21 or older. Hours and performers subject to change.
URL:https://sevenfeathers.com/event/jeff-crossman-9/2025-06-26/
LOCATION:Elements Lounge\, 146 Chief Miwaleta Ln\, Canyonville\, OR\, 97417\, United States
CATEGORIES:Entertainment
END:VEVENT
BEGIN:VEVENT
DTSTART;TZID=America/Los_Angeles:20250627T210000
DTEND;TZID=America/Los_Angeles:20250628T010000
DTSTAMP:20260423T025839
CREATED:20250602T103643Z
LAST-MODIFIED:20250602T103643Z
UID:10010337-1751058000-1751072400@sevenfeathers.com
SUMMARY:Jeff Crossman
DESCRIPTION:Country rock artist Jeff Crossman takes the stage for an incredible show! \nAdmission is free. Must be 21 or older. Hours and performers subject to change.
URL:https://sevenfeathers.com/event/jeff-crossman-10/2025-06-27/
LOCATION:Elements Lounge\, 146 Chief Miwaleta Ln\, Canyonville\, OR\, 97417\, United States
CATEGORIES:Entertainment
END:VEVENT
BEGIN:VEVENT
DTSTART;TZID=America/Los_Angeles:20250628T210000
DTEND;TZID=America/Los_Angeles:20250629T010000
DTSTAMP:20260423T025839
CREATED:20250602T103643Z
LAST-MODIFIED:20250602T103643Z
UID:10010338-1751144400-1751158800@sevenfeathers.com
SUMMARY:Jeff Crossman
DESCRIPTION:Country rock artist Jeff Crossman takes the stage for an incredible show! \nAdmission is free. Must be 21 or older. Hours and performers subject to change.
URL:https://sevenfeathers.com/event/jeff-crossman-10/2025-06-28/
LOCATION:Elements Lounge\, 146 Chief Miwaleta Ln\, Canyonville\, OR\, 97417\, United States
CATEGORIES:Entertainment
END:VEVENT
BEGIN:VEVENT
DTSTART;TZID=America/Los_Angeles:20250629T190000
DTEND;TZID=America/Los_Angeles:20250629T200000
DTSTAMP:20260423T025839
CREATED:20250401T204520Z
LAST-MODIFIED:20260101T040356Z
UID:10008874-1751223600-1751227200@sevenfeathers.com
SUMMARY:DJ Trivia in Elements
DESCRIPTION:Play DJ Trivia with us weekly for a chance to win fun prizes! Participation is free and registration begins at 6:45PM.
URL:https://sevenfeathers.com/event/dj-trivia-3-2/2025-06-29/
LOCATION:Elements Lounge\, 146 Chief Miwaleta Ln\, Canyonville\, OR\, 97417\, United States
CATEGORIES:Entertainment,Ongoing
END:VEVENT
END:VCALENDAR