BEGIN:VCALENDAR
VERSION:2.0
PRODID:-//Seven Feathers Casino - ECPv6.15.16//NONSGML v1.0//EN
CALSCALE:GREGORIAN
METHOD:PUBLISH
X-WR-CALNAME:Seven Feathers Casino
X-ORIGINAL-URL:https://sevenfeathers.com
X-WR-CALDESC:Events for Seven Feathers Casino
REFRESH-INTERVAL;VALUE=DURATION:PT1H
X-Robots-Tag:noindex
X-PUBLISHED-TTL:PT1H
BEGIN:VTIMEZONE
TZID:America/Los_Angeles
BEGIN:DAYLIGHT
TZOFFSETFROM:-0800
TZOFFSETTO:-0700
TZNAME:PDT
DTSTART:20230312T100000
END:DAYLIGHT
BEGIN:STANDARD
TZOFFSETFROM:-0700
TZOFFSETTO:-0800
TZNAME:PST
DTSTART:20231105T090000
END:STANDARD
BEGIN:DAYLIGHT
TZOFFSETFROM:-0800
TZOFFSETTO:-0700
TZNAME:PDT
DTSTART:20240310T100000
END:DAYLIGHT
BEGIN:STANDARD
TZOFFSETFROM:-0700
TZOFFSETTO:-0800
TZNAME:PST
DTSTART:20241103T090000
END:STANDARD
BEGIN:DAYLIGHT
TZOFFSETFROM:-0800
TZOFFSETTO:-0700
TZNAME:PDT
DTSTART:20250309T100000
END:DAYLIGHT
BEGIN:STANDARD
TZOFFSETFROM:-0700
TZOFFSETTO:-0800
TZNAME:PST
DTSTART:20251102T090000
END:STANDARD
END:VTIMEZONE
BEGIN:VEVENT
DTSTART;TZID=America/Los_Angeles:20241001T190000
DTEND;TZID=America/Los_Angeles:20241001T200000
DTSTAMP:20260424T020308
CREATED:20240531T214523Z
LAST-MODIFIED:20240531T214523Z
UID:10006146-1727809200-1727812800@sevenfeathers.com
SUMMARY:Line Dancing
DESCRIPTION:FREE Line-Dancing Lessons! \n\nEvery Tuesday at 7:00PM in Elements Lounge \n\nThere will be 60-minute lessons\, and beginners are welcome. \n\nInstructors Cass Gould and Katie Wilder teach all your favorite line dances from “The Wolf” to “Bury Me in Georgia”.
URL:https://sevenfeathers.com/event/line-dancing/2024-10-01/
LOCATION:Elements Lounge\, 146 Chief Miwaleta Ln\, Canyonville\, OR\, 97417\, United States
CATEGORIES:Entertainment
END:VEVENT
BEGIN:VEVENT
DTSTART;TZID=America/Los_Angeles:20241004T210000
DTEND;TZID=America/Los_Angeles:20241005T010000
DTSTAMP:20260424T020308
CREATED:20240930T034433Z
LAST-MODIFIED:20240930T034433Z
UID:10007937-1728075600-1728090000@sevenfeathers.com
SUMMARY:The Ashes
DESCRIPTION:Enjoy a night of classic rock when The Ashes take the stage!
URL:https://sevenfeathers.com/event/the-ashes-7/2024-10-04/
LOCATION:Elements Lounge\, 146 Chief Miwaleta Ln\, Canyonville\, OR\, 97417\, United States
CATEGORIES:Entertainment
END:VEVENT
BEGIN:VEVENT
DTSTART;TZID=America/Los_Angeles:20241005T210000
DTEND;TZID=America/Los_Angeles:20241006T010000
DTSTAMP:20260424T020308
CREATED:20240930T034433Z
LAST-MODIFIED:20240930T034433Z
UID:10007938-1728162000-1728176400@sevenfeathers.com
SUMMARY:The Ashes
DESCRIPTION:Enjoy a night of classic rock when The Ashes take the stage!
URL:https://sevenfeathers.com/event/the-ashes-7/2024-10-05/
LOCATION:Elements Lounge\, 146 Chief Miwaleta Ln\, Canyonville\, OR\, 97417\, United States
CATEGORIES:Entertainment
END:VEVENT
BEGIN:VEVENT
DTSTART;TZID=America/Los_Angeles:20241006T190000
DTEND;TZID=America/Los_Angeles:20241006T200000
DTSTAMP:20260424T020308
CREATED:20240404T163111Z
LAST-MODIFIED:20240807T172047Z
UID:10007874-1728241200-1728244800@sevenfeathers.com
SUMMARY:DJ Trivia
DESCRIPTION:Play DJ Trivia with us weekly for a chance to win fun prizes! Participation is free and registration begins at 6:45PM.
URL:https://sevenfeathers.com/event/dj-trivia-3/2024-10-06/
LOCATION:Elements Lounge\, 146 Chief Miwaleta Ln\, Canyonville\, OR\, 97417\, United States
CATEGORIES:Entertainment
END:VEVENT
BEGIN:VEVENT
DTSTART;TZID=America/Los_Angeles:20241008T190000
DTEND;TZID=America/Los_Angeles:20241008T200000
DTSTAMP:20260424T020308
CREATED:20240531T214523Z
LAST-MODIFIED:20240531T214523Z
UID:10006147-1728414000-1728417600@sevenfeathers.com
SUMMARY:Line Dancing
DESCRIPTION:FREE Line-Dancing Lessons! \n\nEvery Tuesday at 7:00PM in Elements Lounge \n\nThere will be 60-minute lessons\, and beginners are welcome. \n\nInstructors Cass Gould and Katie Wilder teach all your favorite line dances from “The Wolf” to “Bury Me in Georgia”.
URL:https://sevenfeathers.com/event/line-dancing/2024-10-08/
LOCATION:Elements Lounge\, 146 Chief Miwaleta Ln\, Canyonville\, OR\, 97417\, United States
CATEGORIES:Entertainment
END:VEVENT
BEGIN:VEVENT
DTSTART;TZID=America/Los_Angeles:20241009T190000
DTEND;TZID=America/Los_Angeles:20241009T230000
DTSTAMP:20260424T020308
CREATED:20240930T034745Z
LAST-MODIFIED:20240930T034745Z
UID:10007939-1728500400-1728514800@sevenfeathers.com
SUMMARY:Jeff Crossman
DESCRIPTION:Country rock artist Jeff Crossman takes the stage for an incredible show!
URL:https://sevenfeathers.com/event/jeff-crossman-7/2024-10-09/
LOCATION:Elements Lounge\, 146 Chief Miwaleta Ln\, Canyonville\, OR\, 97417\, United States
CATEGORIES:Entertainment
END:VEVENT
BEGIN:VEVENT
DTSTART;TZID=America/Los_Angeles:20241010T190000
DTEND;TZID=America/Los_Angeles:20241010T230000
DTSTAMP:20260424T020308
CREATED:20240930T034745Z
LAST-MODIFIED:20240930T034745Z
UID:10007940-1728586800-1728601200@sevenfeathers.com
SUMMARY:Jeff Crossman
DESCRIPTION:Country rock artist Jeff Crossman takes the stage for an incredible show!
URL:https://sevenfeathers.com/event/jeff-crossman-7/2024-10-10/
LOCATION:Elements Lounge\, 146 Chief Miwaleta Ln\, Canyonville\, OR\, 97417\, United States
CATEGORIES:Entertainment
END:VEVENT
BEGIN:VEVENT
DTSTART;TZID=America/Los_Angeles:20241013T190000
DTEND;TZID=America/Los_Angeles:20241013T200000
DTSTAMP:20260424T020308
CREATED:20240404T163111Z
LAST-MODIFIED:20240807T172047Z
UID:10007875-1728846000-1728849600@sevenfeathers.com
SUMMARY:DJ Trivia
DESCRIPTION:Play DJ Trivia with us weekly for a chance to win fun prizes! Participation is free and registration begins at 6:45PM.
URL:https://sevenfeathers.com/event/dj-trivia-3/2024-10-13/
LOCATION:Elements Lounge\, 146 Chief Miwaleta Ln\, Canyonville\, OR\, 97417\, United States
CATEGORIES:Entertainment
END:VEVENT
BEGIN:VEVENT
DTSTART;TZID=America/Los_Angeles:20241015T190000
DTEND;TZID=America/Los_Angeles:20241015T200000
DTSTAMP:20260424T020308
CREATED:20240531T214523Z
LAST-MODIFIED:20240531T214523Z
UID:10006148-1729018800-1729022400@sevenfeathers.com
SUMMARY:Line Dancing
DESCRIPTION:FREE Line-Dancing Lessons! \n\nEvery Tuesday at 7:00PM in Elements Lounge \n\nThere will be 60-minute lessons\, and beginners are welcome. \n\nInstructors Cass Gould and Katie Wilder teach all your favorite line dances from “The Wolf” to “Bury Me in Georgia”.
URL:https://sevenfeathers.com/event/line-dancing/2024-10-15/
LOCATION:Elements Lounge\, 146 Chief Miwaleta Ln\, Canyonville\, OR\, 97417\, United States
CATEGORIES:Entertainment
END:VEVENT
BEGIN:VEVENT
DTSTART;TZID=America/Los_Angeles:20241016T190000
DTEND;TZID=America/Los_Angeles:20241016T230000
DTSTAMP:20260424T020308
CREATED:20240930T035620Z
LAST-MODIFIED:20240930T035620Z
UID:10007943-1729105200-1729119600@sevenfeathers.com
SUMMARY:Aurora
DESCRIPTION:Enjoy a night of free live music with Aurora!
URL:https://sevenfeathers.com/event/aurora-8/2024-10-16/
LOCATION:Elements Lounge\, 146 Chief Miwaleta Ln\, Canyonville\, OR\, 97417\, United States
CATEGORIES:Entertainment
END:VEVENT
BEGIN:VEVENT
DTSTART;TZID=America/Los_Angeles:20241017T190000
DTEND;TZID=America/Los_Angeles:20241017T230000
DTSTAMP:20260424T020308
CREATED:20240930T035620Z
LAST-MODIFIED:20240930T035620Z
UID:10007944-1729191600-1729206000@sevenfeathers.com
SUMMARY:Aurora
DESCRIPTION:Enjoy a night of free live music with Aurora!
URL:https://sevenfeathers.com/event/aurora-8/2024-10-17/
LOCATION:Elements Lounge\, 146 Chief Miwaleta Ln\, Canyonville\, OR\, 97417\, United States
CATEGORIES:Entertainment
END:VEVENT
BEGIN:VEVENT
DTSTART;TZID=America/Los_Angeles:20241020T190000
DTEND;TZID=America/Los_Angeles:20241020T200000
DTSTAMP:20260424T020308
CREATED:20240404T163111Z
LAST-MODIFIED:20240807T172047Z
UID:10007876-1729450800-1729454400@sevenfeathers.com
SUMMARY:DJ Trivia
DESCRIPTION:Play DJ Trivia with us weekly for a chance to win fun prizes! Participation is free and registration begins at 6:45PM.
URL:https://sevenfeathers.com/event/dj-trivia-3/2024-10-20/
LOCATION:Elements Lounge\, 146 Chief Miwaleta Ln\, Canyonville\, OR\, 97417\, United States
CATEGORIES:Entertainment
END:VEVENT
BEGIN:VEVENT
DTSTART;TZID=America/Los_Angeles:20241022T190000
DTEND;TZID=America/Los_Angeles:20241022T200000
DTSTAMP:20260424T020308
CREATED:20240531T214523Z
LAST-MODIFIED:20240531T214523Z
UID:10006149-1729623600-1729627200@sevenfeathers.com
SUMMARY:Line Dancing
DESCRIPTION:FREE Line-Dancing Lessons! \n\nEvery Tuesday at 7:00PM in Elements Lounge \n\nThere will be 60-minute lessons\, and beginners are welcome. \n\nInstructors Cass Gould and Katie Wilder teach all your favorite line dances from “The Wolf” to “Bury Me in Georgia”.
URL:https://sevenfeathers.com/event/line-dancing/2024-10-22/
LOCATION:Elements Lounge\, 146 Chief Miwaleta Ln\, Canyonville\, OR\, 97417\, United States
CATEGORIES:Entertainment
END:VEVENT
BEGIN:VEVENT
DTSTART;TZID=America/Los_Angeles:20241023T190000
DTEND;TZID=America/Los_Angeles:20241023T230000
DTSTAMP:20260424T020308
CREATED:20240930T040024Z
LAST-MODIFIED:20240930T040024Z
UID:10007947-1729710000-1729724400@sevenfeathers.com
SUMMARY:Isaac Barrager
DESCRIPTION:Homegrown talent Isaac Barrager takes the stage to close out October!
URL:https://sevenfeathers.com/event/isaac-barrager-4/2024-10-23/
LOCATION:Elements Lounge\, 146 Chief Miwaleta Ln\, Canyonville\, OR\, 97417\, United States
CATEGORIES:Entertainment
END:VEVENT
BEGIN:VEVENT
DTSTART;TZID=America/Los_Angeles:20241024T190000
DTEND;TZID=America/Los_Angeles:20241024T230000
DTSTAMP:20260424T020308
CREATED:20240930T040024Z
LAST-MODIFIED:20240930T040024Z
UID:10007948-1729796400-1729810800@sevenfeathers.com
SUMMARY:Isaac Barrager
DESCRIPTION:Homegrown talent Isaac Barrager takes the stage to close out October!
URL:https://sevenfeathers.com/event/isaac-barrager-4/2024-10-24/
LOCATION:Elements Lounge\, 146 Chief Miwaleta Ln\, Canyonville\, OR\, 97417\, United States
CATEGORIES:Entertainment
END:VEVENT
BEGIN:VEVENT
DTSTART;TZID=America/Los_Angeles:20241025T210000
DTEND;TZID=America/Los_Angeles:20241025T210000
DTSTAMP:20260424T020308
CREATED:20240930T040307Z
LAST-MODIFIED:20241017T165738Z
UID:10007949-1729890000-1729890000@sevenfeathers.com
SUMMARY:Isaac Barrager
DESCRIPTION:Homegrown talent Isaac Barrager takes the stage to close out October!
URL:https://sevenfeathers.com/event/isaac-barrager-5/2024-10-25/
LOCATION:Elements Lounge\, 146 Chief Miwaleta Ln\, Canyonville\, OR\, 97417\, United States
CATEGORIES:Entertainment
END:VEVENT
BEGIN:VEVENT
DTSTART;TZID=America/Los_Angeles:20241026T210000
DTEND;TZID=America/Los_Angeles:20241026T210000
DTSTAMP:20260424T020308
CREATED:20240930T040307Z
LAST-MODIFIED:20241017T165738Z
UID:10007950-1729976400-1729976400@sevenfeathers.com
SUMMARY:Isaac Barrager
DESCRIPTION:Homegrown talent Isaac Barrager takes the stage to close out October!
URL:https://sevenfeathers.com/event/isaac-barrager-5/2024-10-26/
LOCATION:Elements Lounge\, 146 Chief Miwaleta Ln\, Canyonville\, OR\, 97417\, United States
CATEGORIES:Entertainment
END:VEVENT
BEGIN:VEVENT
DTSTART;TZID=America/Los_Angeles:20241027T190000
DTEND;TZID=America/Los_Angeles:20241027T200000
DTSTAMP:20260424T020308
CREATED:20240404T163111Z
LAST-MODIFIED:20240807T172047Z
UID:10007877-1730055600-1730059200@sevenfeathers.com
SUMMARY:DJ Trivia
DESCRIPTION:Play DJ Trivia with us weekly for a chance to win fun prizes! Participation is free and registration begins at 6:45PM.
URL:https://sevenfeathers.com/event/dj-trivia-3/2024-10-27/
LOCATION:Elements Lounge\, 146 Chief Miwaleta Ln\, Canyonville\, OR\, 97417\, United States
CATEGORIES:Entertainment
END:VEVENT
BEGIN:VEVENT
DTSTART;TZID=America/Los_Angeles:20241029T190000
DTEND;TZID=America/Los_Angeles:20241029T200000
DTSTAMP:20260424T020308
CREATED:20240531T214523Z
LAST-MODIFIED:20240531T214523Z
UID:10006150-1730228400-1730232000@sevenfeathers.com
SUMMARY:Line Dancing
DESCRIPTION:FREE Line-Dancing Lessons! \n\nEvery Tuesday at 7:00PM in Elements Lounge \n\nThere will be 60-minute lessons\, and beginners are welcome. \n\nInstructors Cass Gould and Katie Wilder teach all your favorite line dances from “The Wolf” to “Bury Me in Georgia”.
URL:https://sevenfeathers.com/event/line-dancing/2024-10-29/
LOCATION:Elements Lounge\, 146 Chief Miwaleta Ln\, Canyonville\, OR\, 97417\, United States
CATEGORIES:Entertainment
END:VEVENT
BEGIN:VEVENT
DTSTART;TZID=America/Los_Angeles:20241030T190000
DTEND;TZID=America/Los_Angeles:20241030T230000
DTSTAMP:20260424T020308
CREATED:20240930T040509Z
LAST-MODIFIED:20240930T040509Z
UID:10007951-1730314800-1730329200@sevenfeathers.com
SUMMARY:Bri Marie
DESCRIPTION:Local favorite Bri Marie returns!
URL:https://sevenfeathers.com/event/bri-marie-4/2024-10-30/
LOCATION:Elements Lounge\, 146 Chief Miwaleta Ln\, Canyonville\, OR\, 97417\, United States
CATEGORIES:Entertainment
END:VEVENT
BEGIN:VEVENT
DTSTART;TZID=America/Los_Angeles:20241031T190000
DTEND;TZID=America/Los_Angeles:20241031T230000
DTSTAMP:20260424T020308
CREATED:20240930T040509Z
LAST-MODIFIED:20240930T040509Z
UID:10007952-1730401200-1730415600@sevenfeathers.com
SUMMARY:Bri Marie
DESCRIPTION:Local favorite Bri Marie returns!
URL:https://sevenfeathers.com/event/bri-marie-4/2024-10-31/
LOCATION:Elements Lounge\, 146 Chief Miwaleta Ln\, Canyonville\, OR\, 97417\, United States
CATEGORIES:Entertainment
END:VEVENT
END:VCALENDAR