BEGIN:VCALENDAR
VERSION:2.0
PRODID:-//Seven Feathers Casino - ECPv6.15.16//NONSGML v1.0//EN
CALSCALE:GREGORIAN
METHOD:PUBLISH
X-WR-CALNAME:Seven Feathers Casino
X-ORIGINAL-URL:https://sevenfeathers.com
X-WR-CALDESC:Events for Seven Feathers Casino
REFRESH-INTERVAL;VALUE=DURATION:PT1H
X-Robots-Tag:noindex
X-PUBLISHED-TTL:PT1H
BEGIN:VTIMEZONE
TZID:America/Los_Angeles
BEGIN:DAYLIGHT
TZOFFSETFROM:-0800
TZOFFSETTO:-0700
TZNAME:PDT
DTSTART:20230312T100000
END:DAYLIGHT
BEGIN:STANDARD
TZOFFSETFROM:-0700
TZOFFSETTO:-0800
TZNAME:PST
DTSTART:20231105T090000
END:STANDARD
BEGIN:DAYLIGHT
TZOFFSETFROM:-0800
TZOFFSETTO:-0700
TZNAME:PDT
DTSTART:20240310T100000
END:DAYLIGHT
BEGIN:STANDARD
TZOFFSETFROM:-0700
TZOFFSETTO:-0800
TZNAME:PST
DTSTART:20241103T090000
END:STANDARD
BEGIN:DAYLIGHT
TZOFFSETFROM:-0800
TZOFFSETTO:-0700
TZNAME:PDT
DTSTART:20250309T100000
END:DAYLIGHT
BEGIN:STANDARD
TZOFFSETFROM:-0700
TZOFFSETTO:-0800
TZNAME:PST
DTSTART:20251102T090000
END:STANDARD
END:VTIMEZONE
BEGIN:VEVENT
DTSTART;TZID=America/Los_Angeles:20240702T190000
DTEND;TZID=America/Los_Angeles:20240702T200000
DTSTAMP:20260424T101825
CREATED:20240531T214523Z
LAST-MODIFIED:20240531T214523Z
UID:10006133-1719946800-1719950400@sevenfeathers.com
SUMMARY:Line Dancing
DESCRIPTION:FREE Line-Dancing Lessons! \n\nEvery Tuesday at 7:00PM in Elements Lounge \n\nThere will be 60-minute lessons\, and beginners are welcome. \n\nInstructors Cass Gould and Katie Wilder teach all your favorite line dances from “The Wolf” to “Bury Me in Georgia”.
URL:https://sevenfeathers.com/event/line-dancing/2024-07-02/
LOCATION:Elements Lounge\, 146 Chief Miwaleta Ln\, Canyonville\, OR\, 97417\, United States
CATEGORIES:Entertainment
END:VEVENT
BEGIN:VEVENT
DTSTART;TZID=America/Los_Angeles:20240703T190000
DTEND;TZID=America/Los_Angeles:20240703T230000
DTSTAMP:20260424T101825
CREATED:20240701T201735Z
LAST-MODIFIED:20240701T201735Z
UID:10006249-1720033200-1720047600@sevenfeathers.com
SUMMARY:The Ashes
DESCRIPTION:Join us for a free live show in the Elements Lounge!
URL:https://sevenfeathers.com/event/the-ashes-3/2024-07-03/
LOCATION:Elements Lounge\, 146 Chief Miwaleta Ln\, Canyonville\, OR\, 97417\, United States
CATEGORIES:Entertainment
END:VEVENT
BEGIN:VEVENT
DTSTART;TZID=America/Los_Angeles:20240704T190000
DTEND;TZID=America/Los_Angeles:20240704T230000
DTSTAMP:20260424T101825
CREATED:20240701T201735Z
LAST-MODIFIED:20240701T201735Z
UID:10006250-1720119600-1720134000@sevenfeathers.com
SUMMARY:The Ashes
DESCRIPTION:Join us for a free live show in the Elements Lounge!
URL:https://sevenfeathers.com/event/the-ashes-3/2024-07-04/
LOCATION:Elements Lounge\, 146 Chief Miwaleta Ln\, Canyonville\, OR\, 97417\, United States
CATEGORIES:Entertainment
END:VEVENT
BEGIN:VEVENT
DTSTART;TZID=America/Los_Angeles:20240705T210000
DTEND;TZID=America/Los_Angeles:20240706T010000
DTSTAMP:20260424T101825
CREATED:20240701T201945Z
LAST-MODIFIED:20240701T201945Z
UID:10006251-1720213200-1720227600@sevenfeathers.com
SUMMARY:The Ashes
DESCRIPTION:Join us for a free live show in the Elements Lounge!
URL:https://sevenfeathers.com/event/the-ashes-5/2024-07-05/
LOCATION:Elements Lounge\, 146 Chief Miwaleta Ln\, Canyonville\, OR\, 97417\, United States
END:VEVENT
BEGIN:VEVENT
DTSTART;TZID=America/Los_Angeles:20240706T210000
DTEND;TZID=America/Los_Angeles:20240707T010000
DTSTAMP:20260424T101825
CREATED:20240701T201945Z
LAST-MODIFIED:20240701T201945Z
UID:10006252-1720299600-1720314000@sevenfeathers.com
SUMMARY:The Ashes
DESCRIPTION:Join us for a free live show in the Elements Lounge!
URL:https://sevenfeathers.com/event/the-ashes-5/2024-07-06/
LOCATION:Elements Lounge\, 146 Chief Miwaleta Ln\, Canyonville\, OR\, 97417\, United States
END:VEVENT
BEGIN:VEVENT
DTSTART;TZID=America/Los_Angeles:20240707T190000
DTEND;TZID=America/Los_Angeles:20240707T200000
DTSTAMP:20260424T101825
CREATED:20240404T163111Z
LAST-MODIFIED:20240807T172047Z
UID:10007861-1720378800-1720382400@sevenfeathers.com
SUMMARY:DJ Trivia
DESCRIPTION:Play DJ Trivia with us weekly for a chance to win fun prizes! Participation is free and registration begins at 6:45PM.
URL:https://sevenfeathers.com/event/dj-trivia-3/2024-07-07/
LOCATION:Elements Lounge\, 146 Chief Miwaleta Ln\, Canyonville\, OR\, 97417\, United States
CATEGORIES:Entertainment
END:VEVENT
BEGIN:VEVENT
DTSTART;TZID=America/Los_Angeles:20240709T190000
DTEND;TZID=America/Los_Angeles:20240709T200000
DTSTAMP:20260424T101825
CREATED:20240531T214523Z
LAST-MODIFIED:20240531T214523Z
UID:10006134-1720551600-1720555200@sevenfeathers.com
SUMMARY:Line Dancing
DESCRIPTION:FREE Line-Dancing Lessons! \n\nEvery Tuesday at 7:00PM in Elements Lounge \n\nThere will be 60-minute lessons\, and beginners are welcome. \n\nInstructors Cass Gould and Katie Wilder teach all your favorite line dances from “The Wolf” to “Bury Me in Georgia”.
URL:https://sevenfeathers.com/event/line-dancing/2024-07-09/
LOCATION:Elements Lounge\, 146 Chief Miwaleta Ln\, Canyonville\, OR\, 97417\, United States
CATEGORIES:Entertainment
END:VEVENT
BEGIN:VEVENT
DTSTART;TZID=America/Los_Angeles:20240710T190000
DTEND;TZID=America/Los_Angeles:20240710T230000
DTSTAMP:20260424T101825
CREATED:20240701T202138Z
LAST-MODIFIED:20240701T202138Z
UID:10006253-1720638000-1720652400@sevenfeathers.com
SUMMARY:Aurora
DESCRIPTION:Join us for a free live show in the Elements Lounge!
URL:https://sevenfeathers.com/event/aurora-6/2024-07-10/
LOCATION:Elements Lounge\, 146 Chief Miwaleta Ln\, Canyonville\, OR\, 97417\, United States
CATEGORIES:Entertainment
END:VEVENT
BEGIN:VEVENT
DTSTART;TZID=America/Los_Angeles:20240711T190000
DTEND;TZID=America/Los_Angeles:20240711T230000
DTSTAMP:20260424T101825
CREATED:20240701T202138Z
LAST-MODIFIED:20240701T202138Z
UID:10006254-1720724400-1720738800@sevenfeathers.com
SUMMARY:Aurora
DESCRIPTION:Join us for a free live show in the Elements Lounge!
URL:https://sevenfeathers.com/event/aurora-6/2024-07-11/
LOCATION:Elements Lounge\, 146 Chief Miwaleta Ln\, Canyonville\, OR\, 97417\, United States
CATEGORIES:Entertainment
END:VEVENT
BEGIN:VEVENT
DTSTART;TZID=America/Los_Angeles:20240712T210000
DTEND;TZID=America/Los_Angeles:20240713T010000
DTSTAMP:20260424T101825
CREATED:20240701T202956Z
LAST-MODIFIED:20240701T202956Z
UID:10006255-1720818000-1720832400@sevenfeathers.com
SUMMARY:Aurora
DESCRIPTION:Join us for a free live show in the Elements Lounge!
URL:https://sevenfeathers.com/event/aurora-7/2024-07-12/
LOCATION:Elements Lounge\, 146 Chief Miwaleta Ln\, Canyonville\, OR\, 97417\, United States
CATEGORIES:Entertainment
END:VEVENT
BEGIN:VEVENT
DTSTART;TZID=America/Los_Angeles:20240713T210000
DTEND;TZID=America/Los_Angeles:20240714T010000
DTSTAMP:20260424T101825
CREATED:20240701T202956Z
LAST-MODIFIED:20240701T202956Z
UID:10006256-1720904400-1720918800@sevenfeathers.com
SUMMARY:Aurora
DESCRIPTION:Join us for a free live show in the Elements Lounge!
URL:https://sevenfeathers.com/event/aurora-7/2024-07-13/
LOCATION:Elements Lounge\, 146 Chief Miwaleta Ln\, Canyonville\, OR\, 97417\, United States
CATEGORIES:Entertainment
END:VEVENT
BEGIN:VEVENT
DTSTART;TZID=America/Los_Angeles:20240714T190000
DTEND;TZID=America/Los_Angeles:20240714T200000
DTSTAMP:20260424T101825
CREATED:20240404T163111Z
LAST-MODIFIED:20240807T172047Z
UID:10007862-1720983600-1720987200@sevenfeathers.com
SUMMARY:DJ Trivia
DESCRIPTION:Play DJ Trivia with us weekly for a chance to win fun prizes! Participation is free and registration begins at 6:45PM.
URL:https://sevenfeathers.com/event/dj-trivia-3/2024-07-14/
LOCATION:Elements Lounge\, 146 Chief Miwaleta Ln\, Canyonville\, OR\, 97417\, United States
CATEGORIES:Entertainment
END:VEVENT
BEGIN:VEVENT
DTSTART;TZID=America/Los_Angeles:20240716T190000
DTEND;TZID=America/Los_Angeles:20240716T200000
DTSTAMP:20260424T101825
CREATED:20240531T214523Z
LAST-MODIFIED:20240531T214523Z
UID:10006135-1721156400-1721160000@sevenfeathers.com
SUMMARY:Line Dancing
DESCRIPTION:FREE Line-Dancing Lessons! \n\nEvery Tuesday at 7:00PM in Elements Lounge \n\nThere will be 60-minute lessons\, and beginners are welcome. \n\nInstructors Cass Gould and Katie Wilder teach all your favorite line dances from “The Wolf” to “Bury Me in Georgia”.
URL:https://sevenfeathers.com/event/line-dancing/2024-07-16/
LOCATION:Elements Lounge\, 146 Chief Miwaleta Ln\, Canyonville\, OR\, 97417\, United States
CATEGORIES:Entertainment
END:VEVENT
BEGIN:VEVENT
DTSTART;TZID=America/Los_Angeles:20240717T190000
DTEND;TZID=America/Los_Angeles:20240717T230000
DTSTAMP:20260424T101825
CREATED:20240701T223925Z
LAST-MODIFIED:20240701T223925Z
UID:10006257-1721242800-1721257200@sevenfeathers.com
SUMMARY:Little Town
DESCRIPTION:Join us for free live music in the Elements Lounge!
URL:https://sevenfeathers.com/event/little-town/2024-07-17/
LOCATION:Elements Lounge\, 146 Chief Miwaleta Ln\, Canyonville\, OR\, 97417\, United States
CATEGORIES:Entertainment
END:VEVENT
BEGIN:VEVENT
DTSTART;TZID=America/Los_Angeles:20240718T190000
DTEND;TZID=America/Los_Angeles:20240718T230000
DTSTAMP:20260424T101825
CREATED:20240701T223925Z
LAST-MODIFIED:20240701T223925Z
UID:10006258-1721329200-1721343600@sevenfeathers.com
SUMMARY:Little Town
DESCRIPTION:Join us for free live music in the Elements Lounge!
URL:https://sevenfeathers.com/event/little-town/2024-07-18/
LOCATION:Elements Lounge\, 146 Chief Miwaleta Ln\, Canyonville\, OR\, 97417\, United States
CATEGORIES:Entertainment
END:VEVENT
BEGIN:VEVENT
DTSTART;TZID=America/Los_Angeles:20240719T210000
DTEND;TZID=America/Los_Angeles:20240720T010000
DTSTAMP:20260424T101825
CREATED:20240701T224051Z
LAST-MODIFIED:20240701T225326Z
UID:10006259-1721422800-1721437200@sevenfeathers.com
SUMMARY:Little Town
DESCRIPTION:Join us for free live music in the Elements Lounge!
URL:https://sevenfeathers.com/event/little-town-2/2024-07-19/
LOCATION:Elements Lounge\, 146 Chief Miwaleta Ln\, Canyonville\, OR\, 97417\, United States
CATEGORIES:Entertainment
END:VEVENT
BEGIN:VEVENT
DTSTART;TZID=America/Los_Angeles:20240721T190000
DTEND;TZID=America/Los_Angeles:20240721T200000
DTSTAMP:20260424T101825
CREATED:20240404T163111Z
LAST-MODIFIED:20240807T172047Z
UID:10007863-1721588400-1721592000@sevenfeathers.com
SUMMARY:DJ Trivia
DESCRIPTION:Play DJ Trivia with us weekly for a chance to win fun prizes! Participation is free and registration begins at 6:45PM.
URL:https://sevenfeathers.com/event/dj-trivia-3/2024-07-21/
LOCATION:Elements Lounge\, 146 Chief Miwaleta Ln\, Canyonville\, OR\, 97417\, United States
CATEGORIES:Entertainment
END:VEVENT
BEGIN:VEVENT
DTSTART;TZID=America/Los_Angeles:20240723T190000
DTEND;TZID=America/Los_Angeles:20240723T200000
DTSTAMP:20260424T101825
CREATED:20240531T214523Z
LAST-MODIFIED:20240531T214523Z
UID:10006136-1721761200-1721764800@sevenfeathers.com
SUMMARY:Line Dancing
DESCRIPTION:FREE Line-Dancing Lessons! \n\nEvery Tuesday at 7:00PM in Elements Lounge \n\nThere will be 60-minute lessons\, and beginners are welcome. \n\nInstructors Cass Gould and Katie Wilder teach all your favorite line dances from “The Wolf” to “Bury Me in Georgia”.
URL:https://sevenfeathers.com/event/line-dancing/2024-07-23/
LOCATION:Elements Lounge\, 146 Chief Miwaleta Ln\, Canyonville\, OR\, 97417\, United States
CATEGORIES:Entertainment
END:VEVENT
BEGIN:VEVENT
DTSTART;TZID=America/Los_Angeles:20240726T210000
DTEND;TZID=America/Los_Angeles:20240727T010000
DTSTAMP:20260424T101825
CREATED:20240701T224443Z
LAST-MODIFIED:20240701T224935Z
UID:10006992-1722027600-1722042000@sevenfeathers.com
SUMMARY:DJ Ron
DESCRIPTION:Join us for free live music in Elements Lounge!
URL:https://sevenfeathers.com/event/dj-ron-2/2024-07-26/
LOCATION:Elements Lounge\, 146 Chief Miwaleta Ln\, Canyonville\, OR\, 97417\, United States
CATEGORIES:Entertainment
END:VEVENT
BEGIN:VEVENT
DTSTART;TZID=America/Los_Angeles:20240727T210000
DTEND;TZID=America/Los_Angeles:20240728T010000
DTSTAMP:20260424T101825
CREATED:20240701T224443Z
LAST-MODIFIED:20240701T224935Z
UID:10006993-1722114000-1722128400@sevenfeathers.com
SUMMARY:DJ Ron
DESCRIPTION:Join us for free live music in Elements Lounge!
URL:https://sevenfeathers.com/event/dj-ron-2/2024-07-27/
LOCATION:Elements Lounge\, 146 Chief Miwaleta Ln\, Canyonville\, OR\, 97417\, United States
CATEGORIES:Entertainment
END:VEVENT
BEGIN:VEVENT
DTSTART;TZID=America/Los_Angeles:20240728T190000
DTEND;TZID=America/Los_Angeles:20240728T200000
DTSTAMP:20260424T101825
CREATED:20240404T163111Z
LAST-MODIFIED:20240807T172047Z
UID:10007864-1722193200-1722196800@sevenfeathers.com
SUMMARY:DJ Trivia
DESCRIPTION:Play DJ Trivia with us weekly for a chance to win fun prizes! Participation is free and registration begins at 6:45PM.
URL:https://sevenfeathers.com/event/dj-trivia-3/2024-07-28/
LOCATION:Elements Lounge\, 146 Chief Miwaleta Ln\, Canyonville\, OR\, 97417\, United States
CATEGORIES:Entertainment
END:VEVENT
BEGIN:VEVENT
DTSTART;TZID=America/Los_Angeles:20240730T190000
DTEND;TZID=America/Los_Angeles:20240730T200000
DTSTAMP:20260424T101825
CREATED:20240531T214523Z
LAST-MODIFIED:20240531T214523Z
UID:10006137-1722366000-1722369600@sevenfeathers.com
SUMMARY:Line Dancing
DESCRIPTION:FREE Line-Dancing Lessons! \n\nEvery Tuesday at 7:00PM in Elements Lounge \n\nThere will be 60-minute lessons\, and beginners are welcome. \n\nInstructors Cass Gould and Katie Wilder teach all your favorite line dances from “The Wolf” to “Bury Me in Georgia”.
URL:https://sevenfeathers.com/event/line-dancing/2024-07-30/
LOCATION:Elements Lounge\, 146 Chief Miwaleta Ln\, Canyonville\, OR\, 97417\, United States
CATEGORIES:Entertainment
END:VEVENT
BEGIN:VEVENT
DTSTART;TZID=America/Los_Angeles:20240731T190000
DTEND;TZID=America/Los_Angeles:20240731T230000
DTSTAMP:20260424T101825
CREATED:20240701T224624Z
LAST-MODIFIED:20240701T224624Z
UID:10007358-1722452400-1722466800@sevenfeathers.com
SUMMARY:Jeff Crossman
DESCRIPTION:
URL:https://sevenfeathers.com/event/jeff-crossman-5/2024-07-31/
LOCATION:Elements Lounge\, 146 Chief Miwaleta Ln\, Canyonville\, OR\, 97417\, United States
CATEGORIES:Entertainment
END:VEVENT
END:VCALENDAR