BEGIN:VCALENDAR
VERSION:2.0
PRODID:-//Seven Feathers Casino - ECPv6.15.16//NONSGML v1.0//EN
CALSCALE:GREGORIAN
METHOD:PUBLISH
X-ORIGINAL-URL:https://sevenfeathers.com
X-WR-CALDESC:Events for Seven Feathers Casino
REFRESH-INTERVAL;VALUE=DURATION:PT1H
X-Robots-Tag:noindex
X-PUBLISHED-TTL:PT1H
BEGIN:VTIMEZONE
TZID:America/Los_Angeles
BEGIN:DAYLIGHT
TZOFFSETFROM:-0800
TZOFFSETTO:-0700
TZNAME:PDT
DTSTART:20230312T100000
END:DAYLIGHT
BEGIN:STANDARD
TZOFFSETFROM:-0700
TZOFFSETTO:-0800
TZNAME:PST
DTSTART:20231105T090000
END:STANDARD
BEGIN:DAYLIGHT
TZOFFSETFROM:-0800
TZOFFSETTO:-0700
TZNAME:PDT
DTSTART:20240310T100000
END:DAYLIGHT
BEGIN:STANDARD
TZOFFSETFROM:-0700
TZOFFSETTO:-0800
TZNAME:PST
DTSTART:20241103T090000
END:STANDARD
BEGIN:DAYLIGHT
TZOFFSETFROM:-0800
TZOFFSETTO:-0700
TZNAME:PDT
DTSTART:20250309T100000
END:DAYLIGHT
BEGIN:STANDARD
TZOFFSETFROM:-0700
TZOFFSETTO:-0800
TZNAME:PST
DTSTART:20251102T090000
END:STANDARD
END:VTIMEZONE
BEGIN:VEVENT
DTSTART;TZID=America/Los_Angeles:20240501T190000
DTEND;TZID=America/Los_Angeles:20240501T230000
DTSTAMP:20260424T130211
CREATED:20240429T233025Z
LAST-MODIFIED:20240429T233025Z
UID:10005318-1714590000-1714604400@sevenfeathers.com
SUMMARY:Dan Harmon And Cascade Country
DESCRIPTION:See Dan Harmon And Cascade Country performing free shows live in the Elements Lounge!
URL:https://sevenfeathers.com/event/dan-harmon-and-cascade-country/
LOCATION:Elements Lounge\, 146 Chief Miwaleta Ln\, Canyonville\, OR\, 97417\, United States
CATEGORIES:Entertainment
END:VEVENT
BEGIN:VEVENT
DTSTART;TZID=America/Los_Angeles:20240502T190000
DTEND;TZID=America/Los_Angeles:20240502T230000
DTSTAMP:20260424T130211
CREATED:20240429T233141Z
LAST-MODIFIED:20240429T233141Z
UID:10005319-1714676400-1714690800@sevenfeathers.com
SUMMARY:Dan Harmon And Cascade Country
DESCRIPTION:See Dan Harmon And Cascade Country performing free shows live in the Elements Lounge!
URL:https://sevenfeathers.com/event/dan-harmon-and-cascade-country-2/
LOCATION:Elements Lounge\, 146 Chief Miwaleta Ln\, Canyonville\, OR\, 97417\, United States
CATEGORIES:Entertainment
END:VEVENT
BEGIN:VEVENT
DTSTART;TZID=America/Los_Angeles:20240503T210000
DTEND;TZID=America/Los_Angeles:20240504T010000
DTSTAMP:20260424T130211
CREATED:20240429T233234Z
LAST-MODIFIED:20240429T233234Z
UID:10005320-1714770000-1714784400@sevenfeathers.com
SUMMARY:Dan Harmon And Cascade Country
DESCRIPTION:See Dan Harmon And Cascade Country performing free shows live in the Elements Lounge!
URL:https://sevenfeathers.com/event/dan-harmon-and-cascade-country-3/
LOCATION:Elements Lounge\, 146 Chief Miwaleta Ln\, Canyonville\, OR\, 97417\, United States
CATEGORIES:Entertainment
END:VEVENT
BEGIN:VEVENT
DTSTART;TZID=America/Los_Angeles:20240504T210000
DTEND;TZID=America/Los_Angeles:20240505T010000
DTSTAMP:20260424T130211
CREATED:20240429T233340Z
LAST-MODIFIED:20240429T233340Z
UID:10005321-1714856400-1714870800@sevenfeathers.com
SUMMARY:Dan Harmon And Cascade Country
DESCRIPTION:See Dan Harmon And Cascade Country performing free shows live in the Elements Lounge!
URL:https://sevenfeathers.com/event/dan-harmon-and-cascade-country-4/
LOCATION:Elements Lounge\, 146 Chief Miwaleta Ln\, Canyonville\, OR\, 97417\, United States
CATEGORIES:Entertainment
END:VEVENT
BEGIN:VEVENT
DTSTART;TZID=America/Los_Angeles:20240505T190000
DTEND;TZID=America/Los_Angeles:20240505T200000
DTSTAMP:20260424T130211
CREATED:20240404T163111Z
LAST-MODIFIED:20240807T172047Z
UID:10007852-1714935600-1714939200@sevenfeathers.com
SUMMARY:DJ Trivia
DESCRIPTION:Play DJ Trivia with us weekly for a chance to win fun prizes! Participation is free and registration begins at 6:45PM.
URL:https://sevenfeathers.com/event/dj-trivia-3/2024-05-05/
LOCATION:Elements Lounge\, 146 Chief Miwaleta Ln\, Canyonville\, OR\, 97417\, United States
CATEGORIES:Entertainment
END:VEVENT
BEGIN:VEVENT
DTSTART;TZID=America/Los_Angeles:20240508T190000
DTEND;TZID=America/Los_Angeles:20240508T230000
DTSTAMP:20260424T130211
CREATED:20240429T233922Z
LAST-MODIFIED:20240429T233922Z
UID:10005322-1715194800-1715209200@sevenfeathers.com
SUMMARY:Copper Still
DESCRIPTION:See Copper Still perform free live music in the Elements Lounge!
URL:https://sevenfeathers.com/event/copper-still-2/
LOCATION:Elements Lounge\, 146 Chief Miwaleta Ln\, Canyonville\, OR\, 97417\, United States
CATEGORIES:Entertainment
END:VEVENT
BEGIN:VEVENT
DTSTART;TZID=America/Los_Angeles:20240509T190000
DTEND;TZID=America/Los_Angeles:20240509T230000
DTSTAMP:20260424T130211
CREATED:20240429T234018Z
LAST-MODIFIED:20240429T234018Z
UID:10005323-1715281200-1715295600@sevenfeathers.com
SUMMARY:Copper Still
DESCRIPTION:See Copper Still perform free live music in the Elements Lounge!
URL:https://sevenfeathers.com/event/copper-still-3/
LOCATION:Elements Lounge\, 146 Chief Miwaleta Ln\, Canyonville\, OR\, 97417\, United States
CATEGORIES:Entertainment
END:VEVENT
BEGIN:VEVENT
DTSTART;TZID=America/Los_Angeles:20240510T210000
DTEND;TZID=America/Los_Angeles:20240511T010000
DTSTAMP:20260424T130211
CREATED:20240429T234402Z
LAST-MODIFIED:20240429T234402Z
UID:10005324-1715374800-1715389200@sevenfeathers.com
SUMMARY:DJ Marc Eazy
DESCRIPTION:See DJ Marc Eazy perform a free live show in the Elements Lounge!
URL:https://sevenfeathers.com/event/dj-marc-eazy/
LOCATION:Elements Lounge\, 146 Chief Miwaleta Ln\, Canyonville\, OR\, 97417\, United States
CATEGORIES:Entertainment
END:VEVENT
BEGIN:VEVENT
DTSTART;TZID=America/Los_Angeles:20240511T210000
DTEND;TZID=America/Los_Angeles:20240512T010000
DTSTAMP:20260424T130211
CREATED:20240429T234444Z
LAST-MODIFIED:20240429T234444Z
UID:10005325-1715461200-1715475600@sevenfeathers.com
SUMMARY:DJ Marc Eazy
DESCRIPTION:See DJ Marc Eazy perform a free live show in the Elements Lounge!
URL:https://sevenfeathers.com/event/dj-marc-eazy-2/
LOCATION:Elements Lounge\, 146 Chief Miwaleta Ln\, Canyonville\, OR\, 97417\, United States
CATEGORIES:Entertainment
END:VEVENT
BEGIN:VEVENT
DTSTART;TZID=America/Los_Angeles:20240512T190000
DTEND;TZID=America/Los_Angeles:20240512T200000
DTSTAMP:20260424T130211
CREATED:20240404T163111Z
LAST-MODIFIED:20240807T172047Z
UID:10007853-1715540400-1715544000@sevenfeathers.com
SUMMARY:DJ Trivia
DESCRIPTION:Play DJ Trivia with us weekly for a chance to win fun prizes! Participation is free and registration begins at 6:45PM.
URL:https://sevenfeathers.com/event/dj-trivia-3/2024-05-12/
LOCATION:Elements Lounge\, 146 Chief Miwaleta Ln\, Canyonville\, OR\, 97417\, United States
CATEGORIES:Entertainment
END:VEVENT
BEGIN:VEVENT
DTSTART;TZID=America/Los_Angeles:20240515T190000
DTEND;TZID=America/Los_Angeles:20240515T230000
DTSTAMP:20260424T130211
CREATED:20240429T234945Z
LAST-MODIFIED:20240429T234945Z
UID:10005326-1715799600-1715814000@sevenfeathers.com
SUMMARY:Jeff Crossman
DESCRIPTION:See Jeff Crossman perform a free live show in the Elements Lounge!
URL:https://sevenfeathers.com/event/jeff-crossman/
LOCATION:Elements Lounge\, 146 Chief Miwaleta Ln\, Canyonville\, OR\, 97417\, United States
CATEGORIES:Entertainment
END:VEVENT
BEGIN:VEVENT
DTSTART;TZID=America/Los_Angeles:20240516T190000
DTEND;TZID=America/Los_Angeles:20240516T230000
DTSTAMP:20260424T130211
CREATED:20240429T235038Z
LAST-MODIFIED:20240429T235038Z
UID:10005327-1715886000-1715900400@sevenfeathers.com
SUMMARY:Jeff Crossman
DESCRIPTION:See Jeff Crossman perform a free live show in the Elements Lounge!
URL:https://sevenfeathers.com/event/jeff-crossman-2/
LOCATION:Elements Lounge\, 146 Chief Miwaleta Ln\, Canyonville\, OR\, 97417\, United States
CATEGORIES:Entertainment
END:VEVENT
BEGIN:VEVENT
DTSTART;TZID=America/Los_Angeles:20240517T210000
DTEND;TZID=America/Los_Angeles:20240518T010000
DTSTAMP:20260424T130211
CREATED:20240429T235147Z
LAST-MODIFIED:20240429T235147Z
UID:10005328-1715979600-1715994000@sevenfeathers.com
SUMMARY:Jeff Crossman
DESCRIPTION:See Jeff Crossman perform a free live show in the Elements Lounge!
URL:https://sevenfeathers.com/event/jeff-crossman-3/
LOCATION:Elements Lounge\, 146 Chief Miwaleta Ln\, Canyonville\, OR\, 97417\, United States
CATEGORIES:Entertainment
END:VEVENT
BEGIN:VEVENT
DTSTART;TZID=America/Los_Angeles:20240518T210000
DTEND;TZID=America/Los_Angeles:20240519T010000
DTSTAMP:20260424T130211
CREATED:20240429T235229Z
LAST-MODIFIED:20240429T235229Z
UID:10005329-1716066000-1716080400@sevenfeathers.com
SUMMARY:Jeff Crossman
DESCRIPTION:See Jeff Crossman perform a free live show in the Elements Lounge!
URL:https://sevenfeathers.com/event/jeff-crossman-4/
LOCATION:Elements Lounge\, 146 Chief Miwaleta Ln\, Canyonville\, OR\, 97417\, United States
CATEGORIES:Entertainment
END:VEVENT
BEGIN:VEVENT
DTSTART;TZID=America/Los_Angeles:20240519T190000
DTEND;TZID=America/Los_Angeles:20240519T200000
DTSTAMP:20260424T130211
CREATED:20240404T163111Z
LAST-MODIFIED:20240807T172047Z
UID:10007854-1716145200-1716148800@sevenfeathers.com
SUMMARY:DJ Trivia
DESCRIPTION:Play DJ Trivia with us weekly for a chance to win fun prizes! Participation is free and registration begins at 6:45PM.
URL:https://sevenfeathers.com/event/dj-trivia-3/2024-05-19/
LOCATION:Elements Lounge\, 146 Chief Miwaleta Ln\, Canyonville\, OR\, 97417\, United States
CATEGORIES:Entertainment
END:VEVENT
BEGIN:VEVENT
DTSTART;TZID=America/Los_Angeles:20240524T210000
DTEND;TZID=America/Los_Angeles:20240525T010000
DTSTAMP:20260424T130211
CREATED:20240429T235709Z
LAST-MODIFIED:20240429T235709Z
UID:10005332-1716584400-1716598800@sevenfeathers.com
SUMMARY:Revolution
DESCRIPTION:See Revolution: The Music Of The Beatles live in the Elements Lounge!
URL:https://sevenfeathers.com/event/revolution-3/
LOCATION:Elements Lounge\, 146 Chief Miwaleta Ln\, Canyonville\, OR\, 97417\, United States
CATEGORIES:Entertainment
END:VEVENT
BEGIN:VEVENT
DTSTART;TZID=America/Los_Angeles:20240525T210000
DTEND;TZID=America/Los_Angeles:20240526T010000
DTSTAMP:20260424T130211
CREATED:20240429T235747Z
LAST-MODIFIED:20240429T235747Z
UID:10005333-1716670800-1716685200@sevenfeathers.com
SUMMARY:Revolution
DESCRIPTION:See Revolution: The Music Of The Beatles live in the Elements Lounge!
URL:https://sevenfeathers.com/event/revolution-4/
LOCATION:Elements Lounge\, 146 Chief Miwaleta Ln\, Canyonville\, OR\, 97417\, United States
CATEGORIES:Entertainment
END:VEVENT
BEGIN:VEVENT
DTSTART;TZID=America/Los_Angeles:20240526T190000
DTEND;TZID=America/Los_Angeles:20240526T200000
DTSTAMP:20260424T130211
CREATED:20240404T163111Z
LAST-MODIFIED:20240807T172047Z
UID:10007855-1716750000-1716753600@sevenfeathers.com
SUMMARY:DJ Trivia
DESCRIPTION:Play DJ Trivia with us weekly for a chance to win fun prizes! Participation is free and registration begins at 6:45PM.
URL:https://sevenfeathers.com/event/dj-trivia-3/2024-05-26/
LOCATION:Elements Lounge\, 146 Chief Miwaleta Ln\, Canyonville\, OR\, 97417\, United States
CATEGORIES:Entertainment
END:VEVENT
BEGIN:VEVENT
DTSTART;TZID=America/Los_Angeles:20240530T190000
DTEND;TZID=America/Los_Angeles:20240530T230000
DTSTAMP:20260424T130211
CREATED:20240430T000104Z
LAST-MODIFIED:20240430T000104Z
UID:10005335-1717095600-1717110000@sevenfeathers.com
SUMMARY:Aurora
DESCRIPTION:See Aurora perform a free live show in the Elements Lounge!
URL:https://sevenfeathers.com/event/aurora-3/
LOCATION:Elements Lounge\, 146 Chief Miwaleta Ln\, Canyonville\, OR\, 97417\, United States
CATEGORIES:Entertainment
END:VEVENT
BEGIN:VEVENT
DTSTART;TZID=America/Los_Angeles:20240531T210000
DTEND;TZID=America/Los_Angeles:20240601T010000
DTSTAMP:20260424T130211
CREATED:20240430T000146Z
LAST-MODIFIED:20240430T000146Z
UID:10005336-1717189200-1717203600@sevenfeathers.com
SUMMARY:Aurora
DESCRIPTION:See Aurora perform a free live show in the Elements Lounge!
URL:https://sevenfeathers.com/event/aurora-4/
LOCATION:Elements Lounge\, 146 Chief Miwaleta Ln\, Canyonville\, OR\, 97417\, United States
CATEGORIES:Entertainment
END:VEVENT
END:VCALENDAR