BEGIN:VCALENDAR
VERSION:2.0
PRODID:-//Seven Feathers Casino - ECPv6.15.16//NONSGML v1.0//EN
CALSCALE:GREGORIAN
METHOD:PUBLISH
X-WR-CALNAME:Seven Feathers Casino
X-ORIGINAL-URL:https://sevenfeathers.com
X-WR-CALDESC:Events for Seven Feathers Casino
REFRESH-INTERVAL;VALUE=DURATION:PT1H
X-Robots-Tag:noindex
X-PUBLISHED-TTL:PT1H
BEGIN:VTIMEZONE
TZID:America/Los_Angeles
BEGIN:DAYLIGHT
TZOFFSETFROM:-0800
TZOFFSETTO:-0700
TZNAME:PDT
DTSTART:20230312T100000
END:DAYLIGHT
BEGIN:STANDARD
TZOFFSETFROM:-0700
TZOFFSETTO:-0800
TZNAME:PST
DTSTART:20231105T090000
END:STANDARD
BEGIN:DAYLIGHT
TZOFFSETFROM:-0800
TZOFFSETTO:-0700
TZNAME:PDT
DTSTART:20240310T100000
END:DAYLIGHT
BEGIN:STANDARD
TZOFFSETFROM:-0700
TZOFFSETTO:-0800
TZNAME:PST
DTSTART:20241103T090000
END:STANDARD
BEGIN:DAYLIGHT
TZOFFSETFROM:-0800
TZOFFSETTO:-0700
TZNAME:PDT
DTSTART:20250309T100000
END:DAYLIGHT
BEGIN:STANDARD
TZOFFSETFROM:-0700
TZOFFSETTO:-0800
TZNAME:PST
DTSTART:20251102T090000
END:STANDARD
END:VTIMEZONE
BEGIN:VEVENT
DTSTART;TZID=America/Los_Angeles:20240403T190000
DTEND;TZID=America/Los_Angeles:20240403T230000
DTSTAMP:20260424T174229
CREATED:20240321T163418Z
LAST-MODIFIED:20240321T163418Z
UID:10004899-1712170800-1712185200@sevenfeathers.com
SUMMARY:The Ashes
DESCRIPTION:Enjoy free live music every week in the Elements Lounge!
URL:https://sevenfeathers.com/event/the-ashes-2/2024-04-03/
LOCATION:Elements Lounge\, 146 Chief Miwaleta Ln\, Canyonville\, OR\, 97417\, United States
CATEGORIES:Entertainment
END:VEVENT
BEGIN:VEVENT
DTSTART;TZID=America/Los_Angeles:20240404T190000
DTEND;TZID=America/Los_Angeles:20240404T230000
DTSTAMP:20260424T174229
CREATED:20240321T163418Z
LAST-MODIFIED:20240321T163418Z
UID:10004900-1712257200-1712271600@sevenfeathers.com
SUMMARY:The Ashes
DESCRIPTION:Enjoy free live music every week in the Elements Lounge!
URL:https://sevenfeathers.com/event/the-ashes-2/2024-04-04/
LOCATION:Elements Lounge\, 146 Chief Miwaleta Ln\, Canyonville\, OR\, 97417\, United States
CATEGORIES:Entertainment
END:VEVENT
BEGIN:VEVENT
DTSTART;TZID=America/Los_Angeles:20240405T210000
DTEND;TZID=America/Los_Angeles:20240406T010000
DTSTAMP:20260424T174229
CREATED:20240321T163829Z
LAST-MODIFIED:20240404T161606Z
UID:10004908-1712350800-1712365200@sevenfeathers.com
SUMMARY:The Ashes
DESCRIPTION:Enjoy free live music every week in the Elements Lounge!
URL:https://sevenfeathers.com/event/the-ashes-4/2024-04-05/
LOCATION:Elements Lounge\, 146 Chief Miwaleta Ln\, Canyonville\, OR\, 97417\, United States
CATEGORIES:Entertainment
END:VEVENT
BEGIN:VEVENT
DTSTART;TZID=America/Los_Angeles:20240406T210000
DTEND;TZID=America/Los_Angeles:20240407T010000
DTSTAMP:20260424T174229
CREATED:20240321T163829Z
LAST-MODIFIED:20240404T161606Z
UID:10004909-1712437200-1712451600@sevenfeathers.com
SUMMARY:The Ashes
DESCRIPTION:Enjoy free live music every week in the Elements Lounge!
URL:https://sevenfeathers.com/event/the-ashes-4/2024-04-06/
LOCATION:Elements Lounge\, 146 Chief Miwaleta Ln\, Canyonville\, OR\, 97417\, United States
CATEGORIES:Entertainment
END:VEVENT
BEGIN:VEVENT
DTSTART;TZID=America/Los_Angeles:20240407T190000
DTEND;TZID=America/Los_Angeles:20240407T200000
DTSTAMP:20260424T174229
CREATED:20240404T163111Z
LAST-MODIFIED:20240807T172047Z
UID:10007848-1712516400-1712520000@sevenfeathers.com
SUMMARY:DJ Trivia
DESCRIPTION:Play DJ Trivia with us weekly for a chance to win fun prizes! Participation is free and registration begins at 6:45PM.
URL:https://sevenfeathers.com/event/dj-trivia-3/2024-04-07/
LOCATION:Elements Lounge\, 146 Chief Miwaleta Ln\, Canyonville\, OR\, 97417\, United States
CATEGORIES:Entertainment
END:VEVENT
BEGIN:VEVENT
DTSTART;TZID=America/Los_Angeles:20240410T190000
DTEND;TZID=America/Los_Angeles:20240410T230000
DTSTAMP:20260424T174229
CREATED:20240401T161852Z
LAST-MODIFIED:20240401T162020Z
UID:10004914-1712775600-1712790000@sevenfeathers.com
SUMMARY:Strawberry Roan
DESCRIPTION:
URL:https://sevenfeathers.com/event/strawberry-roan/
LOCATION:Elements Lounge\, 146 Chief Miwaleta Ln\, Canyonville\, OR\, 97417\, United States
CATEGORIES:Entertainment
END:VEVENT
BEGIN:VEVENT
DTSTART;TZID=America/Los_Angeles:20240411T190000
DTEND;TZID=America/Los_Angeles:20240411T230000
DTSTAMP:20260424T174229
CREATED:20240401T161952Z
LAST-MODIFIED:20240401T161952Z
UID:10004915-1712862000-1712876400@sevenfeathers.com
SUMMARY:Strawberry Roan
DESCRIPTION:
URL:https://sevenfeathers.com/event/strawberry-roan-2/
LOCATION:Elements Lounge\, 146 Chief Miwaleta Ln\, Canyonville\, OR\, 97417\, United States
CATEGORIES:Entertainment
END:VEVENT
BEGIN:VEVENT
DTSTART;TZID=America/Los_Angeles:20240413T210000
DTEND;TZID=America/Los_Angeles:20240414T010000
DTSTAMP:20260424T174229
CREATED:20240401T162224Z
LAST-MODIFIED:20240401T162224Z
UID:10004917-1713042000-1713056400@sevenfeathers.com
SUMMARY:Strawberry Roan
DESCRIPTION:
URL:https://sevenfeathers.com/event/strawberry-roan-4/
LOCATION:Elements Lounge\, 146 Chief Miwaleta Ln\, Canyonville\, OR\, 97417\, United States
CATEGORIES:Entertainment
END:VEVENT
BEGIN:VEVENT
DTSTART;TZID=America/Los_Angeles:20240414T190000
DTEND;TZID=America/Los_Angeles:20240414T200000
DTSTAMP:20260424T174229
CREATED:20240404T163111Z
LAST-MODIFIED:20240807T172047Z
UID:10007849-1713121200-1713124800@sevenfeathers.com
SUMMARY:DJ Trivia
DESCRIPTION:Play DJ Trivia with us weekly for a chance to win fun prizes! Participation is free and registration begins at 6:45PM.
URL:https://sevenfeathers.com/event/dj-trivia-3/2024-04-14/
LOCATION:Elements Lounge\, 146 Chief Miwaleta Ln\, Canyonville\, OR\, 97417\, United States
CATEGORIES:Entertainment
END:VEVENT
BEGIN:VEVENT
DTSTART;TZID=America/Los_Angeles:20240417T190000
DTEND;TZID=America/Los_Angeles:20240417T230000
DTSTAMP:20260424T174229
CREATED:20240321T162940Z
LAST-MODIFIED:20240321T174531Z
UID:10004892-1713380400-1713394800@sevenfeathers.com
SUMMARY:The Koz
DESCRIPTION:Enjoy free live music weekly in the Elements Lounge!
URL:https://sevenfeathers.com/event/the-koz/2024-04-17/
LOCATION:Elements Lounge\, 146 Chief Miwaleta Ln\, Canyonville\, OR\, 97417\, United States
CATEGORIES:Entertainment
END:VEVENT
BEGIN:VEVENT
DTSTART;TZID=America/Los_Angeles:20240418T190000
DTEND;TZID=America/Los_Angeles:20240418T230000
DTSTAMP:20260424T174229
CREATED:20240321T162940Z
LAST-MODIFIED:20240321T174531Z
UID:10004893-1713466800-1713481200@sevenfeathers.com
SUMMARY:The Koz
DESCRIPTION:Enjoy free live music weekly in the Elements Lounge!
URL:https://sevenfeathers.com/event/the-koz/2024-04-18/
LOCATION:Elements Lounge\, 146 Chief Miwaleta Ln\, Canyonville\, OR\, 97417\, United States
CATEGORIES:Entertainment
END:VEVENT
BEGIN:VEVENT
DTSTART;TZID=America/Los_Angeles:20240419T210000
DTEND;TZID=America/Los_Angeles:20240420T010000
DTSTAMP:20260424T174229
CREATED:20240321T174606Z
LAST-MODIFIED:20240321T174616Z
UID:10004896-1713560400-1713574800@sevenfeathers.com
SUMMARY:The Koz
DESCRIPTION:Enjoy free live music weekly in the Elements Lounge!
URL:https://sevenfeathers.com/event/the-koz-2-2/
LOCATION:Elements Lounge\, 146 Chief Miwaleta Ln\, Canyonville\, OR\, 97417\, United States
CATEGORIES:Entertainment
END:VEVENT
BEGIN:VEVENT
DTSTART;TZID=America/Los_Angeles:20240420T210000
DTEND;TZID=America/Los_Angeles:20240421T010000
DTSTAMP:20260424T174229
CREATED:20240321T163104Z
LAST-MODIFIED:20240404T161653Z
UID:10004897-1713646800-1713661200@sevenfeathers.com
SUMMARY:The Koz
DESCRIPTION:Enjoy free live music weekly in the Elements Lounge!
URL:https://sevenfeathers.com/event/the-koz-2/
LOCATION:Elements Lounge\, 146 Chief Miwaleta Ln\, Canyonville\, OR\, 97417\, United States
CATEGORIES:Entertainment
END:VEVENT
BEGIN:VEVENT
DTSTART;TZID=America/Los_Angeles:20240421T190000
DTEND;TZID=America/Los_Angeles:20240421T200000
DTSTAMP:20260424T174229
CREATED:20240404T163111Z
LAST-MODIFIED:20240807T172047Z
UID:10007850-1713726000-1713729600@sevenfeathers.com
SUMMARY:DJ Trivia
DESCRIPTION:Play DJ Trivia with us weekly for a chance to win fun prizes! Participation is free and registration begins at 6:45PM.
URL:https://sevenfeathers.com/event/dj-trivia-3/2024-04-21/
LOCATION:Elements Lounge\, 146 Chief Miwaleta Ln\, Canyonville\, OR\, 97417\, United States
CATEGORIES:Entertainment
END:VEVENT
BEGIN:VEVENT
DTSTART;TZID=America/Los_Angeles:20240424T190000
DTEND;TZID=America/Los_Angeles:20240424T230000
DTSTAMP:20260424T174229
CREATED:20240401T163805Z
LAST-MODIFIED:20240401T163805Z
UID:10004918-1713985200-1713999600@sevenfeathers.com
SUMMARY:Schwing
DESCRIPTION:
URL:https://sevenfeathers.com/event/schwing/
LOCATION:Elements Lounge\, 146 Chief Miwaleta Ln\, Canyonville\, OR\, 97417\, United States
CATEGORIES:Entertainment
END:VEVENT
BEGIN:VEVENT
DTSTART;TZID=America/Los_Angeles:20240425T190000
DTEND;TZID=America/Los_Angeles:20240425T230000
DTSTAMP:20260424T174229
CREATED:20240401T163901Z
LAST-MODIFIED:20240401T163901Z
UID:10004919-1714071600-1714086000@sevenfeathers.com
SUMMARY:Schwing
DESCRIPTION:
URL:https://sevenfeathers.com/event/schwing-2/
LOCATION:Elements Lounge\, 146 Chief Miwaleta Ln\, Canyonville\, OR\, 97417\, United States
CATEGORIES:Entertainment
END:VEVENT
BEGIN:VEVENT
DTSTART;TZID=America/Los_Angeles:20240426T210000
DTEND;TZID=America/Los_Angeles:20240427T010000
DTSTAMP:20260424T174229
CREATED:20240401T163948Z
LAST-MODIFIED:20240401T163948Z
UID:10004920-1714165200-1714179600@sevenfeathers.com
SUMMARY:Schwing
DESCRIPTION:
URL:https://sevenfeathers.com/event/schwing-3/
LOCATION:Elements Lounge\, 146 Chief Miwaleta Ln\, Canyonville\, OR\, 97417\, United States
CATEGORIES:Entertainment
END:VEVENT
BEGIN:VEVENT
DTSTART;TZID=America/Los_Angeles:20240427T210000
DTEND;TZID=America/Los_Angeles:20240428T010000
DTSTAMP:20260424T174229
CREATED:20240401T164046Z
LAST-MODIFIED:20240401T164046Z
UID:10004921-1714251600-1714266000@sevenfeathers.com
SUMMARY:Schwing
DESCRIPTION:
URL:https://sevenfeathers.com/event/schwing-4/
LOCATION:Elements Lounge\, 146 Chief Miwaleta Ln\, Canyonville\, OR\, 97417\, United States
CATEGORIES:Entertainment
END:VEVENT
BEGIN:VEVENT
DTSTART;TZID=America/Los_Angeles:20240428T190000
DTEND;TZID=America/Los_Angeles:20240428T200000
DTSTAMP:20260424T174229
CREATED:20240404T163111Z
LAST-MODIFIED:20240807T172047Z
UID:10007851-1714330800-1714334400@sevenfeathers.com
SUMMARY:DJ Trivia
DESCRIPTION:Play DJ Trivia with us weekly for a chance to win fun prizes! Participation is free and registration begins at 6:45PM.
URL:https://sevenfeathers.com/event/dj-trivia-3/2024-04-28/
LOCATION:Elements Lounge\, 146 Chief Miwaleta Ln\, Canyonville\, OR\, 97417\, United States
CATEGORIES:Entertainment
END:VEVENT
BEGIN:VEVENT
DTSTART;TZID=America/Los_Angeles:20240429T190000
DTEND;TZID=America/Los_Angeles:20240429T230000
DTSTAMP:20260424T174229
CREATED:20240430T000016Z
LAST-MODIFIED:20240430T000016Z
UID:10005334-1714417200-1714431600@sevenfeathers.com
SUMMARY:Aurora
DESCRIPTION:See Aurora perform a free live show in the Elements Lounge!
URL:https://sevenfeathers.com/event/aurora-2/
LOCATION:Elements Lounge\, 146 Chief Miwaleta Ln\, Canyonville\, OR\, 97417\, United States
CATEGORIES:Entertainment
END:VEVENT
END:VCALENDAR