BEGIN:VCALENDAR
VERSION:2.0
PRODID:-//Seven Feathers Casino - ECPv6.15.16//NONSGML v1.0//EN
CALSCALE:GREGORIAN
METHOD:PUBLISH
X-WR-CALNAME:Seven Feathers Casino
X-ORIGINAL-URL:https://sevenfeathers.com
X-WR-CALDESC:Events for Seven Feathers Casino
REFRESH-INTERVAL;VALUE=DURATION:PT1H
X-Robots-Tag:noindex
X-PUBLISHED-TTL:PT1H
BEGIN:VTIMEZONE
TZID:America/Los_Angeles
BEGIN:DAYLIGHT
TZOFFSETFROM:-0800
TZOFFSETTO:-0700
TZNAME:PDT
DTSTART:20240310T100000
END:DAYLIGHT
BEGIN:STANDARD
TZOFFSETFROM:-0700
TZOFFSETTO:-0800
TZNAME:PST
DTSTART:20241103T090000
END:STANDARD
BEGIN:DAYLIGHT
TZOFFSETFROM:-0800
TZOFFSETTO:-0700
TZNAME:PDT
DTSTART:20250309T100000
END:DAYLIGHT
BEGIN:STANDARD
TZOFFSETFROM:-0700
TZOFFSETTO:-0800
TZNAME:PST
DTSTART:20251102T090000
END:STANDARD
BEGIN:DAYLIGHT
TZOFFSETFROM:-0800
TZOFFSETTO:-0700
TZNAME:PDT
DTSTART:20260308T100000
END:DAYLIGHT
BEGIN:STANDARD
TZOFFSETFROM:-0700
TZOFFSETTO:-0800
TZNAME:PST
DTSTART:20261101T090000
END:STANDARD
END:VTIMEZONE
BEGIN:VEVENT
DTSTART;TZID=America/Los_Angeles:20251204T190000
DTEND;TZID=America/Los_Angeles:20251204T230000
DTSTAMP:20260423T153721
CREATED:20251130T070944Z
LAST-MODIFIED:20251130T071846Z
UID:10011943-1764874800-1764889200@sevenfeathers.com
SUMMARY:Bump in the Road – Live Country Music at Elements Lounge
DESCRIPTION:December 3–4 | 7:00 PM – 11:00 PM | FREE Admission\n\nGet ready for two unforgettable nights of live country music at Seven Feathers Casino Resort! Join us at Elements Lounge as we welcome Bump in the Road\, a talented country group bringing rustic energy\, heartfelt lyrics\, and classic country charm to the stage. \nSet against the warm\, inviting atmosphere of Elements Lounge\, this event is the perfect mid-week escape. Enjoy great music\, handcrafted cocktails\, and the relaxed lounge ambiance—all with no cover charge. \nEvent Details\nDates: Wednesday & Thursday\, December 3–4Time: 7:00 PM – 11:00 PMLocation: Elements Lounge at Seven Feathers Casino ResortAdmission: FREE (Must be 21+) \nWhy You’ll Love It\n• Live performances from Bump in the Road\, a country act known for their authentic sound\n• A cozy\, stylish lounge environment with full bar service\n• Perfect evening entertainment during your stay at Seven Feathers\n• Free admission—come early for the best seats! \nKnow Before You Go\nHours and performers are subject to change. Scheduled entertainment may be postponed due to televised sporting events. \nKick back\, unwind\, and enjoy an evening of country music at its finest. We’ll see you at Elements Lounge for Bump in the Road!
URL:https://sevenfeathers.com/event/bump-in-the-road-live-country-music-at-elements-lounge/2025-12-04/
LOCATION:OR
ATTACH;FMTTYPE=image/jpeg:https://sevenfeathers.com/wp-content/uploads/2025/11/7F-Elements-Ent-DEC-25-Bump-In-The-Road-17x11-1.jpg
END:VEVENT
BEGIN:VEVENT
DTSTART;TZID=America/Los_Angeles:20251130T120000
DTEND;TZID=America/Los_Angeles:20251130T120000
DTSTAMP:20260423T153721
CREATED:20251024T223053Z
LAST-MODIFIED:20251024T223053Z
UID:10011776-1764504000-1764504000@sevenfeathers.com
SUMMARY:Pan Am® Retro Hard-Shell Spinner Case Drawing
DESCRIPTION:Come get your piece each week on Sundays & Mondays in November. \n  \nEarn 1\,000 Players Club points beginning at 7:00AM on promotion days to receive a new luggage piece each week or buy a piece for 10\,000 points. \n  \nCollect the whole set to be automatically entered to win one of twenty 20” hard-shell spinner cases!* The drawing for the spinner cases will be held November 30 at Noon. \n  \nEasy gift redemption at any Players Club Kiosk! \n  \nCHECK your points at any Players Club Kiosk; Invited guests\, check your promotions. \nPRINT your voucher\, then REDEEM your voucher at the Gift Redemption Area. \n  \nCollect your piece from 1:00 to 8:00PM\, on Sundays and Mondays. \n  \nLimited quantities on hand. Rainchecks will be issued through Players Club Kiosk when product runs out. Rainchecks will only be issued during redemption periods. Limit two luggage pieces per guest per week. Bingo and Keno points do not apply. \n  \nVisit Players Club for details. Management reserves the right to change any event or promotion. \n*Must redeem at least one piece from all four weeks of the Pan Am® Retro Travel Bags Gift Giveaway collection to be eligible. Need not be present to win.
URL:https://sevenfeathers.com/event/pan-am-retro-hard-shell-spinner-case-drawing/
LOCATION:OR
CATEGORIES:Promotions
END:VEVENT
BEGIN:VEVENT
DTSTART;TZID=America/Los_Angeles:20251129T210000
DTEND;TZID=America/Los_Angeles:20251130T010000
DTSTAMP:20260423T153721
CREATED:20251030T225723Z
LAST-MODIFIED:20251030T225723Z
UID:10011921-1764450000-1764464400@sevenfeathers.com
SUMMARY:Mister Wizard
DESCRIPTION:Be our guest! Admission is Free. \nMust be 21 or older. Hours and performers are subject to change.
URL:https://sevenfeathers.com/event/mister-wizard-2/2025-11-29/
LOCATION:Elements Lounge\, 146 Chief Miwaleta Ln\, Canyonville\, OR\, 97417\, United States
CATEGORIES:Entertainment
END:VEVENT
BEGIN:VEVENT
DTSTART;TZID=America/Los_Angeles:20251128T220000
DTEND;TZID=America/Los_Angeles:20251128T233000
DTSTAMP:20260423T153721
CREATED:20251024T231519Z
LAST-MODIFIED:20251024T231519Z
UID:10011780-1764367200-1764372600@sevenfeathers.com
SUMMARY:Rodney Carrington Hot Seats
DESCRIPTION:Play for your chance to win after the Rodney Carrington Show on Friday\, November 28. \n  \nRandom Hot Seat Drawings will take place every 15-minutes from 10:00 to 11:30PM\, for Rodney Carrington autographed merchandise and up to $1\,000 in cash! \n  \nPlay with your Players Club card for your chance to win! All Players Club members actively playing slots or Table Games with their Players Club card at the time of the drawing are eligible to win. \n  \nVisit Players Club for details.
URL:https://sevenfeathers.com/event/rodney-carrington-hot-seats/
LOCATION:OR
CATEGORIES:Promotions
END:VEVENT
BEGIN:VEVENT
DTSTART;TZID=America/Los_Angeles:20251128T200000
DTEND;TZID=America/Los_Angeles:20251128T213000
DTSTAMP:20260423T153721
CREATED:20250709T200714Z
LAST-MODIFIED:20251125T183833Z
UID:10010520-1764360000-1764365400@sevenfeathers.com
SUMMARY:Rodney Carrington
DESCRIPTION:Rodney Carrington brings his signature blend of stand-up comedy and country music to Seven Feathers on Friday\, November 28\, 2025\, in the Umpqua Grand Ballroom. Doors open at 7:00PM\, and the show begins at 8:00PM. Reserved seating is available for $50\, $60\, and $70. Guests must be 21 or older to attend. The event will run approximately 75 to 90 minutes\, and a cash bar will be available. No discounts apply\, and refunds will only be issued if the event is cancelled. Etix is the sole ticket provider for all Seven Feathers Casino Resort events. Not responsible for third party ticket sales. \nKnown for starring in the ABC sitcom Rodney\, appearing in the 2008 film Beer for My Horses\, and earning acclaim as both a stand-up comedian and country music artist\, Rodney Carrington promises an evening of unforgettable entertainment at Seven Feathers. \nClick here to purchase your Tickets!
URL:https://sevenfeathers.com/event/rodney-carrington/
LOCATION:Umpqua Grand Ballroom\, 146 Chief Miwaleta Ln\, Canyonville\, OR\, 97417\, United States
CATEGORIES:Entertainment
ATTACH;FMTTYPE=image/jpeg:https://sevenfeathers.com/wp-content/uploads/2025/11/7F-Rodney-Carrington-1920x1080-WEB.jpg
END:VEVENT
BEGIN:VEVENT
DTSTART;TZID=America/Los_Angeles:20251128T160000
DTEND;TZID=America/Los_Angeles:20251128T173000
DTSTAMP:20260423T153721
CREATED:20251022T194333Z
LAST-MODIFIED:20251023T213501Z
UID:10011764-1764345600-1764351000@sevenfeathers.com
SUMMARY:Light the Sky Holiday Event
DESCRIPTION:Join us on Friday\, November 28 starting at 4:00PM for our Light the Sky tree lighting ceremony. \n  \nThis event is free. We will have a complimentary Hot Cocoa Bar\, candy canes\, special guests\, Santa and more! \n  \nThis is a family friendly event to showcase our special\, oversized Christmas spirit this year. We’ve added more to our Christmas decorations to make Seven Feathers a must-see attraction for the holiday season. Bring your holiday attire for this special night of fun to welcome in the season of Christmas.
URL:https://sevenfeathers.com/event/light-the-sky-holiday-event/
LOCATION:Main Casino Entrance\, 146 Chief Miwaleta Ln\, Canyonville\, OR\, 97417\, United States
CATEGORIES:Entertainment,Holiday Wonderland
ATTACH;FMTTYPE=image/jpeg:https://sevenfeathers.com/wp-content/uploads/2025/10/Light-the-Sky-2025-1920x1080-WEB.jpg
END:VEVENT
BEGIN:VEVENT
DTSTART;TZID=America/Los_Angeles:20251127T190000
DTEND;TZID=America/Los_Angeles:20251127T230000
DTSTAMP:20260423T153721
CREATED:20251030T225611Z
LAST-MODIFIED:20251030T225611Z
UID:10011919-1764270000-1764284400@sevenfeathers.com
SUMMARY:Mister Wizard
DESCRIPTION:Be our guest! Admission is Free. \nMust be 21 or older. Hours and performers are subject to change.
URL:https://sevenfeathers.com/event/mister-wizard/2025-11-27/
LOCATION:Elements Lounge\, 146 Chief Miwaleta Ln\, Canyonville\, OR\, 97417\, United States
CATEGORIES:Entertainment
END:VEVENT
BEGIN:VEVENT
DTSTART;TZID=America/Los_Angeles:20251127T190000
DTEND;TZID=America/Los_Angeles:20251127T203000
DTSTAMP:20260423T153721
CREATED:20251025T224312Z
LAST-MODIFIED:20251025T225347Z
UID:10011781-1764270000-1764275400@sevenfeathers.com
SUMMARY:Thanksgiving Day Special Bingo
DESCRIPTION:Thursday\, November 27 \nSpecial Session Time – This Day ONLY! \nDoors open at 3:00PM. Admission sales start at 5:00PM. Games begin at 7:00PM. \n  \nWe will have $1\,000 Regular Games and a $4\,000 MUST GO Super Jackpot! \n  \nBuy-ins:  Paper $10\, Electronic $30\, Extras $10 \n  \nClick here to view the program. \n  \nVisit Bingo for details. \n  \nSubject to change or cancellation without notice.
URL:https://sevenfeathers.com/event/thanksgiving-day-special-bingo/
LOCATION:Bingo Hall\, 146 Chief Miwaleta Ln\, Canyonville\, OR\, 97417\, United States
CATEGORIES:Bingo,Promotions
END:VEVENT
BEGIN:VEVENT
DTSTART;TZID=America/Los_Angeles:20251124T183000
DTEND;TZID=America/Los_Angeles:20251124T200000
DTSTAMP:20260423T153721
CREATED:20251025T224715Z
LAST-MODIFIED:20251025T225422Z
UID:10011782-1764009000-1764014400@sevenfeathers.com
SUMMARY:Bingo Turkey Giveaway
DESCRIPTION:It’s time to talk turkey on Monday\, November 24. \n  \nTwenty lucky players will win a $25 Fred Meyer Gift Card for a Thanksgiving turkey! \n  \nDoors open at 3:00PM. Admission sales begin at 5:00PM. Games start at 6:30PM. \n  \nOne entry per person. Must buy in and be present to win. \nVisit Bingo for details.
URL:https://sevenfeathers.com/event/bingo-turkey-giveaway/
LOCATION:Bingo Hall\, 146 Chief Miwaleta Ln\, Canyonville\, OR\, 97417\, United States
CATEGORIES:Bingo,Promotions
END:VEVENT
BEGIN:VEVENT
DTSTART;TZID=America/Los_Angeles:20251122T210000
DTEND;TZID=America/Los_Angeles:20251123T010000
DTSTAMP:20260423T153721
CREATED:20251030T225450Z
LAST-MODIFIED:20251030T225450Z
UID:10011917-1763845200-1763859600@sevenfeathers.com
SUMMARY:The Brothers Reed
DESCRIPTION:Be our guest! Admission is Free. \nMust be 21 or older. Hours and performers are subject to change.
URL:https://sevenfeathers.com/event/the-brothers-reed-8/2025-11-22/
LOCATION:Elements Lounge\, 146 Chief Miwaleta Ln\, Canyonville\, OR\, 97417\, United States
CATEGORIES:Entertainment
END:VEVENT
BEGIN:VEVENT
DTSTART;TZID=America/Los_Angeles:20251120T190000
DTEND;TZID=America/Los_Angeles:20251120T230000
DTSTAMP:20260423T153721
CREATED:20251030T225326Z
LAST-MODIFIED:20251030T225326Z
UID:10011915-1763665200-1763679600@sevenfeathers.com
SUMMARY:The Brothers Reed
DESCRIPTION:Be our guest! Admission is Free. \nMust be 21 or older. Hours and performers are subject to change.
URL:https://sevenfeathers.com/event/the-brothers-reed-7/2025-11-20/
LOCATION:Elements Lounge\, 146 Chief Miwaleta Ln\, Canyonville\, OR\, 97417\, United States
CATEGORIES:Entertainment
END:VEVENT
BEGIN:VEVENT
DTSTART;TZID=America/Los_Angeles:20251115T210000
DTEND;TZID=America/Los_Angeles:20251116T010000
DTSTAMP:20260423T153721
CREATED:20251030T225200Z
LAST-MODIFIED:20251030T225200Z
UID:10011913-1763240400-1763254800@sevenfeathers.com
SUMMARY:DJ Marc Eazy
DESCRIPTION:Be our guest! Admission is Free. \nMust be 21 or older. Hours and performers are subject to change.
URL:https://sevenfeathers.com/event/dj-marc-eazy-12/2025-11-15/
LOCATION:Elements Lounge\, 146 Chief Miwaleta Ln\, Canyonville\, OR\, 97417\, United States
CATEGORIES:Entertainment
END:VEVENT
BEGIN:VEVENT
DTSTART;TZID=America/Los_Angeles:20251115T100000
DTEND;TZID=America/Los_Angeles:20251115T180000
DTSTAMP:20260423T153721
CREATED:20251010T212748Z
LAST-MODIFIED:20251023T213009Z
UID:10011748-1763200800-1763229600@sevenfeathers.com
SUMMARY:Winter Gift Market
DESCRIPTION:November 14 & 15 from 10:00AM to 6:00PM \n  \nAdmission is free for this event. \n  \nGet ready to sip\, shop\, and celebrate the holiday season at the Winter Gift Market\, a festive new tradition presented by the Gift Gallery! Housed indoors at the beautiful Seven Feathers Convention Center\, the Winter Gift Market is your one-stop shop for holiday cheer\, unique finds\, and resort-style fun. Enjoy our Bloody Mary & Mimosa Bar while you browse\, and don’t miss the famous Seven Feathers Signature Cookie and fresh sourdough bread for sale. \n  \nExplore a centralized shopping experience with a mix of talented local artisans and beloved store favorites. From cozy candles and stylish clothing to sparkling jewelry\, handmade décor\, custom cups\, and sweet treats\, you’ll find something for everyone on your list (and maybe a little something for yourself).
URL:https://sevenfeathers.com/event/winter-gift-market/2025-11-15/
LOCATION:Umpqua Grand Ballroom\, 146 Chief Miwaleta Ln\, Canyonville\, OR\, 97417\, United States
CATEGORIES:Entertainment,Holiday Wonderland
END:VEVENT
BEGIN:VEVENT
DTSTART;TZID=America/Los_Angeles:20251114T190000
DTEND;TZID=America/Los_Angeles:20251114T210000
DTSTAMP:20260423T153721
CREATED:20250918T201519Z
LAST-MODIFIED:20250918T201606Z
UID:10011720-1763146800-1763154000@sevenfeathers.com
SUMMARY:Mic Drop Comedy Club
DESCRIPTION:Seven Feathers is your place for live comedy! Join us on Friday\, November 14 for Brent Lowrey and Andrew Rivers. \n  \nTickets are on sale now. Click here to purchase yours. \n  \nEtix is the sole ticket provider for all Seven Feathers Casino Resort events. Not responsible for third-party ticket sales.
URL:https://sevenfeathers.com/event/mic-drop-comedy-club-4/
LOCATION:Elements Lounge\, 146 Chief Miwaleta Ln\, Canyonville\, OR\, 97417\, United States
CATEGORIES:Entertainment
ATTACH;FMTTYPE=image/jpeg:https://sevenfeathers.com/wp-content/uploads/2025/09/ELEMENTS-MICDROP-NOV-2025-1920x1080-WEB.jpg
END:VEVENT
BEGIN:VEVENT
DTSTART;TZID=America/Los_Angeles:20251113T190000
DTEND;TZID=America/Los_Angeles:20251113T230000
DTSTAMP:20260423T153721
CREATED:20251030T225035Z
LAST-MODIFIED:20251030T225035Z
UID:10011911-1763060400-1763074800@sevenfeathers.com
SUMMARY:Cover Culture
DESCRIPTION:Be our guest! Admission is Free. \nMust be 21 or older. Hours and performers are subject to change.
URL:https://sevenfeathers.com/event/cover-culture/2025-11-13/
LOCATION:Elements Lounge\, 146 Chief Miwaleta Ln\, Canyonville\, OR\, 97417\, United States
CATEGORIES:Entertainment
END:VEVENT
BEGIN:VEVENT
DTSTART;TZID=America/Los_Angeles:20251111T000000
DTEND;TZID=America/Los_Angeles:20251111T233000
DTSTAMP:20260423T153721
CREATED:20251015T230302Z
LAST-MODIFIED:20251015T230416Z
UID:10011749-1762819200-1762903800@sevenfeathers.com
SUMMARY:Veterans Day Promotion
DESCRIPTION:American Hero cardholders – Thank you for your service! \n  \nSwipe in at a Players Club kiosk on Tuesday\, November 11\, for a special game just for you! \nYou could win up to $50 in Dining Credits! \n  \nGame available Tuesday\, November 11\, 2025\, Midnight – 11:59PM.  Game may only be played once per Players Club member. \nVisit Players Club for details. \n 
URL:https://sevenfeathers.com/event/veterans-day-promotion/
LOCATION:OR
CATEGORIES:Promotions
ATTACH;FMTTYPE=image/jpeg:https://sevenfeathers.com/wp-content/uploads/2025/10/7F-Veterans-Day-Promo-2025-1920x1080-WEB.jpg
END:VEVENT
BEGIN:VEVENT
DTSTART;TZID=America/Los_Angeles:20251108T210000
DTEND;TZID=America/Los_Angeles:20251109T010000
DTSTAMP:20260423T153721
CREATED:20251030T225938Z
LAST-MODIFIED:20251030T225938Z
UID:10011925-1762635600-1762650000@sevenfeathers.com
SUMMARY:Erica Rochel
DESCRIPTION:Be our guest! Admission is Free. \nMust be 21 or older. Hours and performers are subject to change.
URL:https://sevenfeathers.com/event/erica-rochel-2/2025-11-08/
LOCATION:Elements Lounge\, 146 Chief Miwaleta Ln\, Canyonville\, OR\, 97417\, United States
CATEGORIES:Entertainment
END:VEVENT
BEGIN:VEVENT
DTSTART;TZID=America/Los_Angeles:20251106T190000
DTEND;TZID=America/Los_Angeles:20251106T230000
DTSTAMP:20260423T153721
CREATED:20251030T225835Z
LAST-MODIFIED:20251030T225835Z
UID:10011923-1762455600-1762470000@sevenfeathers.com
SUMMARY:Erica Rochel
DESCRIPTION:Be our guest! Admission is Free. \nMust be 21 or older. Hours and performers are subject to change.
URL:https://sevenfeathers.com/event/erica-rochel/2025-11-06/
LOCATION:Elements Lounge\, 146 Chief Miwaleta Ln\, Canyonville\, OR\, 97417\, United States
CATEGORIES:Entertainment
END:VEVENT
BEGIN:VEVENT
DTSTART;TZID=America/Los_Angeles:20251101T210000
DTEND;TZID=America/Los_Angeles:20251102T010000
DTSTAMP:20260423T153721
CREATED:20250929T215019Z
LAST-MODIFIED:20250929T215019Z
UID:10011745-1762030800-1762045200@sevenfeathers.com
SUMMARY:Dylan James Clark
DESCRIPTION:Be our guest! Admission is free! \nMust be 21 or older. Hours and performers are subject to change.
URL:https://sevenfeathers.com/event/dylan-james-clark-6/2025-11-01/
LOCATION:Elements Lounge\, 146 Chief Miwaleta Ln\, Canyonville\, OR\, 97417\, United States
CATEGORIES:Entertainment
END:VEVENT
BEGIN:VEVENT
DTSTART;TZID=America/Los_Angeles:20251031T190000
DTEND;TZID=America/Los_Angeles:20251031T210000
DTSTAMP:20260423T153721
CREATED:20250813T162029Z
LAST-MODIFIED:20251008T172341Z
UID:10010671-1761937200-1761944400@sevenfeathers.com
SUMMARY:Mic Drop Comedy Club
DESCRIPTION:Live comedy returns to Seven Feathers this Halloween! Join us on Friday\, October 31st for Brandon Lyons and Tyler Boeh. \n  \nWe will be hosting a costume contest for guests during the comedy show. Our comedians will select their favorite 3 costumes. Winners will receive: \nFirst Place – 1 Free Room at Seven Feathers Hotel\, $50 dining card and a Squatchee \nSecond Place – 1 Free Room at Seven Feathers Hotel and a Squatchee \nThird Place – A $50 dining card and a Squatchee \n  \nCostumes that disguise the identity of the wearer and toy weapons are not permitted on the casino floor. \n  \nTickets are on sale now. Click here to purchase yours. \n  \nEtix is the sole ticket provider for all Seven Feathers Casino Resort events. Not responsible for third-party ticket sales.
URL:https://sevenfeathers.com/event/mic-drop-comedy-club-3/
LOCATION:Elements Lounge\, 146 Chief Miwaleta Ln\, Canyonville\, OR\, 97417\, United States
CATEGORIES:Entertainment
ATTACH;FMTTYPE=image/jpeg:https://sevenfeathers.com/wp-content/uploads/2025/08/7F-Elements-October-2025-Comedy-Club-1920x1080-WEB.jpg
END:VEVENT
BEGIN:VEVENT
DTSTART;TZID=America/Los_Angeles:20251031T180000
DTEND;TZID=America/Los_Angeles:20251031T200000
DTSTAMP:20260423T153721
CREATED:20250917T172252Z
LAST-MODIFIED:20250930T234815Z
UID:10011665-1761933600-1761940800@sevenfeathers.com
SUMMARY:Pumpkin Patch Cash Grand Prize Giveaway
DESCRIPTION:$20\,000 Pumpkin Patch Cash Giveaway\nSeptember 22 – October 31 \nPlay for your chance to win up to $10\,000 CASH! \nDrawings are held hourly from 6:00 to 8:00PM every Friday in October\, and we will have the Grand Prize drawings on October 31. \nYou earn one entry for every 100 points at Slots and Table Games\, and you get 5X your entries every Wednesday! \nRegular Weekly Drawings:\nFriday\, October 3:\n• 6:00PM: Two winners of $100 – $200 CASH\n• 7:00PM: Two winners of $200 – $400 CASH\n• 8:00PM: One winner of $500 – $1\,000 CASH \nFriday\, October 10:\n• 6:00PM: Two winners of $100 – $200 CASH\n• 7:00PM: Two winners of $200 – $400 CASH\n• 8:00PM: One winner of $1\,000 – $2\,000 CASH \nFriday\, October 17:\n• 6:00PM: Two winners of $100 – $200 CASH\n• 7:00PM: Two winners of $200 – $400 CASH\n• 8:00PM: One winner of $2\,000 – $3\,000 CASH \nFriday\, October 24:\n• 6:00PM: Two winners of $100 – $200 CASH\n• 7:00PM: Two winners of $200 – $400 CASH\n• 8:00PM: One winner of $3\,000 – $4\,000 CASH \nGrand Prize Drawings:\nFriday\, October 31:\n• 6:00PM: Two winners of $100 – $200 CASH\n• 7:00PM: Two winners of $200 – $400 CASH\n• 8:00PM: One winner of $10\,000 CASH\, One winner of $3\,000 CASH\, and One winner of $2\,000 CASH \nTo be valid\, entries must be activated between 5:00PM and 7:50PM\, on EACH drawing day\, at any Players Club Kiosk or by playing table games or your favorite slot machine with your Players Club card. \nVisit Players Club for details.
URL:https://sevenfeathers.com/event/pumpkin-patch-cash-grand-prize-giveaway/
LOCATION:OR
CATEGORIES:Promotions
END:VEVENT
BEGIN:VEVENT
DTSTART;TZID=America/Los_Angeles:20251030T190000
DTEND;TZID=America/Los_Angeles:20251030T230000
DTSTAMP:20260423T153721
CREATED:20250929T214906Z
LAST-MODIFIED:20250929T214906Z
UID:10011743-1761850800-1761865200@sevenfeathers.com
SUMMARY:Dylan James Clark
DESCRIPTION:Be our guest! Admission is free! \nMust be 21 or older. Hours and performers are subject to change.
URL:https://sevenfeathers.com/event/dylan-james-clark-5/2025-10-30/
LOCATION:Elements Lounge\, 146 Chief Miwaleta Ln\, Canyonville\, OR\, 97417\, United States
CATEGORIES:Entertainment
END:VEVENT
BEGIN:VEVENT
DTSTART;TZID=America/Los_Angeles:20251026T080000
DTEND;TZID=America/Los_Angeles:20251026T170000
DTSTAMP:20260423T153721
CREATED:20250926T212446Z
LAST-MODIFIED:20250926T212446Z
UID:10011725-1761465600-1761498000@sevenfeathers.com
SUMMARY:Squatchee Points Race
DESCRIPTION:Play and race to earn your very own Squatchee on Sundays in October\, beginning at Noon. \n  \nBe one of the first 200 guests to earn 1\,500 Players Club points and receive a different Squatchee each week! \n  \nOctober 5 – collect the original Squatchee \nOctober 12 – collect the female Squatchee \nOctober 19 – collect the small Squatchee \nOctober 26 – collect one Squatchee of your choice \n  \n\nStarting at Noon\, play using your Players Club card.\nSwipe at any Players Club kiosk and touch the Squatchee Points Race icon to check your points earned.\nAfter earning 1\,500 points\, print your voucher at the Players Club kiosk. Must be one of the first 200 guests to earn the required points on each promotion day to print voucher.\nBring your voucher to the Players Club to collect your Squatchee!\n\n  \nVisit Players Club for details.
URL:https://sevenfeathers.com/event/squatchee-points-race-4/2025-10-26/
LOCATION:OR
CATEGORIES:Promotions
END:VEVENT
BEGIN:VEVENT
DTSTART;TZID=America/Los_Angeles:20251025T210000
DTEND;TZID=America/Los_Angeles:20251026T010000
DTSTAMP:20260423T153721
CREATED:20250929T214714Z
LAST-MODIFIED:20250929T214714Z
UID:10011741-1761426000-1761440400@sevenfeathers.com
SUMMARY:The Ashes
DESCRIPTION:Be our guest! Admission is free! \nMust be 21 or older. Hours and performers are subject to change.
URL:https://sevenfeathers.com/event/the-ashes-11/2025-10-25/
LOCATION:Elements Lounge\, 146 Chief Miwaleta Ln\, Canyonville\, OR\, 97417\, United States
CATEGORIES:Entertainment
END:VEVENT
BEGIN:VEVENT
DTSTART;TZID=America/Los_Angeles:20251025T190000
DTEND;TZID=America/Los_Angeles:20251025T230000
DTSTAMP:20260423T153721
CREATED:20230915T151229Z
LAST-MODIFIED:20250730T164831Z
UID:10001914-1761418800-1761433200@sevenfeathers.com
SUMMARY:Halloween Spooktacular
DESCRIPTION:General Admission Tickets $30. \nDJ & Dancing 7:00 to 11:00PM.\nCostume Contest 9:30PM. \nClick here to get your tickets.  \nThere are four costume categories: Scariest\, Most Creative\, Funniest and Group. \nCostumes that disguise the identity of the wearer and toy weapons are not permitted on the casino floor. \nVisit the Players Club for full contest rules. \nTickets go on sale Wednesday\, July 30. Purchase tickets in person at the Gift Gallery or call 800.514.3849.\nEtix is the sole ticket provider for all Seven Feathers Casino Resort events. Not responsible for third party ticket sales. Doors open at 7:00PM. Must be 21 or over.
URL:https://sevenfeathers.com/event/2025-halloween-spooktacular/
LOCATION:Umpqua Grand Ballroom\, 146 Chief Miwaleta Ln\, Canyonville\, OR\, 97417\, United States
CATEGORIES:Entertainment
ATTACH;FMTTYPE=image/jpeg:https://sevenfeathers.com/wp-content/uploads/2023/09/7F-Halloween-Spooktacular-2025-1920x1080-WEB.jpg
END:VEVENT
BEGIN:VEVENT
DTSTART;TZID=America/Los_Angeles:20251025T130000
DTEND;TZID=America/Los_Angeles:20251025T180000
DTSTAMP:20260423T153721
CREATED:20250822T221627Z
LAST-MODIFIED:20251003T230617Z
UID:10010673-1761397200-1761415200@sevenfeathers.com
SUMMARY:Fall Marathon Bingo
DESCRIPTION:Saturday\, October 25 \nDoors open at 8:00AM. Admission sales begin at 10:00AM. Games start at 1:00PM. \nBuy-Ins: Paper $20\, Electronic $60\, Extras $20 \nplay for your chance to win a share of over $31\,000 in Cash Prizes! \n20 Regular Games pay $1\,199\, and there will be a $5\,000 MUST GO Super Jackpot! \nView the program by clicking here. \nTickets on Sale September 29 at 10:00AM \nPurchase tickets in person at the Gift Gallery\, online at sevenfeathers.com or call Etix at 800.514.3849. You may purchase a seat for another person but if that seat does not have a playing guest in it by the time warm-up games have concluded\, the seat may be resold. Etix is the sole ticket provider for all Seven Feathers Casino Resort events.
URL:https://sevenfeathers.com/event/fall-marathon-bingo/
LOCATION:Bingo Hall\, 146 Chief Miwaleta Ln\, Canyonville\, OR\, 97417\, United States
CATEGORIES:Bingo,Promotions
END:VEVENT
BEGIN:VEVENT
DTSTART;TZID=America/Los_Angeles:20251023T190000
DTEND;TZID=America/Los_Angeles:20251023T230000
DTSTAMP:20260423T153721
CREATED:20250929T214430Z
LAST-MODIFIED:20250929T214430Z
UID:10011739-1761246000-1761260400@sevenfeathers.com
SUMMARY:The Ashes
DESCRIPTION:Be our guest! Admission is free! \nMust be 21 or older. Hours and performers are subject to change.
URL:https://sevenfeathers.com/event/the-ashes-10/2025-10-23/
LOCATION:Elements Lounge\, 146 Chief Miwaleta Ln\, Canyonville\, OR\, 97417\, United States
CATEGORIES:Entertainment
END:VEVENT
BEGIN:VEVENT
DTSTART;TZID=America/Los_Angeles:20251022T093000
DTEND;TZID=America/Los_Angeles:20251022T133000
DTSTAMP:20260423T153721
CREATED:20250507T210302Z
LAST-MODIFIED:20250507T210754Z
UID:10010281-1761125400-1761139800@sevenfeathers.com
SUMMARY:Canyonville Farmer's Market
DESCRIPTION:Canyonville Farmer’s Market \nEvery Wednesday from 9:30AM – 1:30PM. Located in Seven Feathers’ south parking lot. \nCome check out local vendors at this weekly market. \nMay 7 – October 22 \n 
URL:https://sevenfeathers.com/event/canyonville-farmers-market-2-2/2025-10-22/
LOCATION:South Parking Lot\, 146 Chief Miwaleta Ln\, Canyonville\, OR\, 97417\, United States
CATEGORIES:Entertainment
END:VEVENT
BEGIN:VEVENT
DTSTART;TZID=America/Los_Angeles:20251018T210000
DTEND;TZID=America/Los_Angeles:20251019T010000
DTSTAMP:20260423T153721
CREATED:20250929T214312Z
LAST-MODIFIED:20250929T214312Z
UID:10011737-1760821200-1760835600@sevenfeathers.com
SUMMARY:Strawberry Roan
DESCRIPTION:Be our guest! Admission is free! \nMust be 21 or older. Hours and performers are subject to change.
URL:https://sevenfeathers.com/event/strawberry-roan-10/2025-10-18/
LOCATION:Elements Lounge\, 146 Chief Miwaleta Ln\, Canyonville\, OR\, 97417\, United States
CATEGORIES:Entertainment
END:VEVENT
BEGIN:VEVENT
DTSTART;TZID=America/Los_Angeles:20251016T190000
DTEND;TZID=America/Los_Angeles:20251016T230000
DTSTAMP:20260423T153721
CREATED:20250929T214201Z
LAST-MODIFIED:20250929T214201Z
UID:10011735-1760641200-1760655600@sevenfeathers.com
SUMMARY:Strawberry Roan
DESCRIPTION:Be our guest! Admission is free! \nMust be 21 or older. Hours and performers are subject to change.
URL:https://sevenfeathers.com/event/strawberry-roan-9/2025-10-16/
LOCATION:Elements Lounge\, 146 Chief Miwaleta Ln\, Canyonville\, OR\, 97417\, United States
CATEGORIES:Entertainment
END:VEVENT
END:VCALENDAR