BEGIN:VCALENDAR
VERSION:2.0
PRODID:-//Seven Feathers Casino - ECPv6.15.16//NONSGML v1.0//EN
CALSCALE:GREGORIAN
METHOD:PUBLISH
X-WR-CALNAME:Seven Feathers Casino
X-ORIGINAL-URL:https://sevenfeathers.com
X-WR-CALDESC:Events for Seven Feathers Casino
REFRESH-INTERVAL;VALUE=DURATION:PT1H
X-Robots-Tag:noindex
X-PUBLISHED-TTL:PT1H
BEGIN:VTIMEZONE
TZID:America/Los_Angeles
BEGIN:DAYLIGHT
TZOFFSETFROM:-0800
TZOFFSETTO:-0700
TZNAME:PDT
DTSTART:20250309T100000
END:DAYLIGHT
BEGIN:STANDARD
TZOFFSETFROM:-0700
TZOFFSETTO:-0800
TZNAME:PST
DTSTART:20251102T090000
END:STANDARD
BEGIN:DAYLIGHT
TZOFFSETFROM:-0800
TZOFFSETTO:-0700
TZNAME:PDT
DTSTART:20260308T100000
END:DAYLIGHT
BEGIN:STANDARD
TZOFFSETFROM:-0700
TZOFFSETTO:-0800
TZNAME:PST
DTSTART:20261101T090000
END:STANDARD
BEGIN:DAYLIGHT
TZOFFSETFROM:-0800
TZOFFSETTO:-0700
TZNAME:PDT
DTSTART:20270314T100000
END:DAYLIGHT
BEGIN:STANDARD
TZOFFSETFROM:-0700
TZOFFSETTO:-0800
TZNAME:PST
DTSTART:20271107T090000
END:STANDARD
END:VTIMEZONE
BEGIN:VEVENT
DTSTART;TZID=America/Los_Angeles:20260627T110000
DTEND;TZID=America/Los_Angeles:20260627T170000
DTSTAMP:20260423T133431
CREATED:20260313T160042Z
LAST-MODIFIED:20260419T000942Z
UID:10013986-1782558000-1782579600@sevenfeathers.com
SUMMARY:Wine Fest of the Umpqua Valley
DESCRIPTION:Saturday\, June 27 from 11:00AM to 4:00PM. \nFrom Vine to Valley – Savor the Journey at this Free Outdoor Event near the Casino Main Entrance. \nEnjoy many of our local wineries and music by The Traveling Wilburys Revue\, with performances at Noon & 3:00PM. This event is open to all ages. \nEntry grants 10 Wine Tastings Tickets (with souvenir wine glass while supplies last) – $20 online through June 26 and $25 at the event. \nPurchase tickets online or call Etix at 800-514-3849.
URL:https://sevenfeathers.com/event/wine-fest/
LOCATION:Main Casino Entrance\, 146 Chief Miwaleta Ln\, Canyonville\, OR\, 97417\, United States
CATEGORIES:Entertainment,Exit 99 Landing Page Events
ATTACH;FMTTYPE=image/jpeg:https://sevenfeathers.com/wp-content/uploads/2026/03/7F-Wine-Fest-2026-1920X1080-WEB-1-scaled.jpg
END:VEVENT
BEGIN:VEVENT
DTSTART;TZID=America/Los_Angeles:20260628T100000
DTEND;TZID=America/Los_Angeles:20260628T173000
DTSTAMP:20260423T133431
CREATED:20251231T003624Z
LAST-MODIFIED:20260422T200255Z
UID:10012719-1782640800-1782667800@sevenfeathers.com
SUMMARY:Jackpot Club Slot Tournaments - Semi Annual Championship
DESCRIPTION:All qualifying participants are eligible to play in our Semi-Annual Championships on June 28 and December 27! \nThe qualifying rounds for these tournaments will take place from 10:00 AM to noon\, and from 2:00 – 4:00PM. \nThe final round on Semi-Annual Championship days will take place at 5:00PM and the top 20 places will be paid out. \nThe top prize for these dates is $10\,000 cash and a custom-order leather jacket! \n  \nClick here to view all official rules and promotional details.
URL:https://sevenfeathers.com/event/jackpot-club-slot-tournaments-semi-annual-championship/
LOCATION:Main Casino Entrance\, 146 Chief Miwaleta Ln\, Canyonville\, OR\, 97417\, United States
CATEGORIES:Promotions
ATTACH;FMTTYPE=image/jpeg:https://sevenfeathers.com/wp-content/uploads/2025/12/7F-Jackpot-Club-Slot-Tournament-1920x1080-WEB.jpg
END:VEVENT
BEGIN:VEVENT
DTSTART;TZID=America/Los_Angeles:20260710T193000
DTEND;TZID=America/Los_Angeles:20260710T210000
DTSTAMP:20260423T133431
CREATED:20260312T155907Z
LAST-MODIFIED:20260318T203829Z
UID:10013979-1783711800-1783717200@sevenfeathers.com
SUMMARY:Grand Funk Railroad
DESCRIPTION:Grand Funk Railroad \nFriday\, July 10 • 7:30PM \nOutdoor concert in the South Parking LotOpen to all ages \nGeneral Admission $50*Standing room only\, first come – first served \nClick here to purchase your tickets. \nTickets on sale Wednesday\, March 18 at 10:00AM. Purchase tickets in person at the Gift Gallery\, online at sevenfeathers.com or call Etix at 800.514.3849.  Etix is the sole ticket provider for all Seven Feathers Casino Resort events.   Not responsible for third party ticket sales.  Gate opens at 6:30PM. No pets allowed in concert arena. No outside food & beverage – no coolers. *Personal folding chairs are allowed.
URL:https://sevenfeathers.com/event/grand-funk-railroad/
LOCATION:South Parking Lot\, 146 Chief Miwaleta Ln\, Canyonville\, OR\, 97417\, United States
CATEGORIES:Entertainment
ATTACH;FMTTYPE=image/jpeg:https://sevenfeathers.com/wp-content/uploads/2026/03/7F-Grand-Funk-Railroad-1920x1080-WEB.jpg
END:VEVENT
BEGIN:VEVENT
DTSTART;TZID=America/Los_Angeles:20260822T190000
DTEND;TZID=America/Los_Angeles:20260822T203000
DTSTAMP:20260423T133431
CREATED:20260423T164842Z
LAST-MODIFIED:20260423T164842Z
UID:10014391-1787425200-1787430600@sevenfeathers.com
SUMMARY:David Brighton’s Space Oddity
DESCRIPTION:Saturday\, August 22 at 7:00PM \n  \nThe Quintessential David Bowie Tribute Experience is coming to Seven Feathers \n  \nReserved Seating $25\, $30\, $35 \n  \nTickets on sale Wednesday\, April 29 at 10:00AM. Purchase tickets in person at the Gift Gallery or call Etix at 800.514.3849. Etix is the sole ticket provider for all Seven Feathers Casino Resort events. Not responsible for third party ticket sales. Doors open at 7:00PM. Must be 21 or older. Concert Attendees – due to venue configuration\, standing during the concert can be expected\, please be sensitive to the mobility impaired that may surround your seat.
URL:https://sevenfeathers.com/event/david-brightons-space-oddity/
LOCATION:Umpqua Grand Ballroom\, 146 Chief Miwaleta Ln\, Canyonville\, OR\, 97417\, United States
CATEGORIES:Entertainment
ATTACH;FMTTYPE=image/jpeg:https://sevenfeathers.com/wp-content/uploads/2026/04/7F-Space-Oddity-1920x1080-WEB.jpg
END:VEVENT
BEGIN:VEVENT
DTSTART;TZID=America/Los_Angeles:20261227T100000
DTEND;TZID=America/Los_Angeles:20261227T173000
DTSTAMP:20260423T133431
CREATED:20251231T003730Z
LAST-MODIFIED:20260422T204646Z
UID:10012720-1798365600-1798392600@sevenfeathers.com
SUMMARY:Jackpot Club Slot Tournaments - Semi Annual Championship
DESCRIPTION:All qualifying participants in our monthly Jackpot Club Slot Tournaments are also eligible to play in our Semi-Annual Championships on June 28 and December 27! \nThe qualifying rounds for these tournaments will take place from 10:00 AM to noon\, and from 2:00 – 4:00PM. \nThe final round on Semi-Annual Championship days will take place at 5:00PM and the top 20 places will be paid out. \nThe top prize for these dates is $10\,000 cash and a custom-order leather jacket! \n  \nClick here to view all official rules and promotional details.
URL:https://sevenfeathers.com/event/jackpot-club-slot-tournaments-semi-annual-championship-2/
LOCATION:OR
CATEGORIES:Promotions
ATTACH;FMTTYPE=image/jpeg:https://sevenfeathers.com/wp-content/uploads/2025/12/7F-Jackpot-Club-Slot-Tournament-1920x1080-WEB.jpg
END:VEVENT
END:VCALENDAR