BEGIN:VCALENDAR
VERSION:2.0
PRODID:-//Seven Feathers Casino - ECPv6.15.16//NONSGML v1.0//EN
CALSCALE:GREGORIAN
METHOD:PUBLISH
X-WR-CALNAME:Seven Feathers Casino
X-ORIGINAL-URL:https://sevenfeathers.com
X-WR-CALDESC:Events for Seven Feathers Casino
REFRESH-INTERVAL;VALUE=DURATION:PT1H
X-Robots-Tag:noindex
X-PUBLISHED-TTL:PT1H
BEGIN:VTIMEZONE
TZID:America/Los_Angeles
BEGIN:DAYLIGHT
TZOFFSETFROM:-0800
TZOFFSETTO:-0700
TZNAME:PDT
DTSTART:20240310T100000
END:DAYLIGHT
BEGIN:STANDARD
TZOFFSETFROM:-0700
TZOFFSETTO:-0800
TZNAME:PST
DTSTART:20241103T090000
END:STANDARD
BEGIN:DAYLIGHT
TZOFFSETFROM:-0800
TZOFFSETTO:-0700
TZNAME:PDT
DTSTART:20250309T100000
END:DAYLIGHT
BEGIN:STANDARD
TZOFFSETFROM:-0700
TZOFFSETTO:-0800
TZNAME:PST
DTSTART:20251102T090000
END:STANDARD
BEGIN:DAYLIGHT
TZOFFSETFROM:-0800
TZOFFSETTO:-0700
TZNAME:PDT
DTSTART:20260308T100000
END:DAYLIGHT
BEGIN:STANDARD
TZOFFSETFROM:-0700
TZOFFSETTO:-0800
TZNAME:PST
DTSTART:20261101T090000
END:STANDARD
END:VTIMEZONE
BEGIN:VEVENT
DTSTART;TZID=America/Los_Angeles:20250703T190000
DTEND;TZID=America/Los_Angeles:20250703T230000
DTSTAMP:20260423T172245
CREATED:20250630T201446Z
LAST-MODIFIED:20250630T201446Z
UID:10010417-1751569200-1751583600@sevenfeathers.com
SUMMARY:Dylan James Clark
DESCRIPTION:Be our guest! Admission to this show is free. \nGuests must be 21 or older. Hours and performers subject to change.
URL:https://sevenfeathers.com/event/dylan-james-clark-3/2025-07-03/
LOCATION:Elements Lounge\, 146 Chief Miwaleta Ln\, Canyonville\, OR\, 97417\, United States
CATEGORIES:Entertainment
END:VEVENT
BEGIN:VEVENT
DTSTART;TZID=America/Los_Angeles:20250629T100000
DTEND;TZID=America/Los_Angeles:20250629T160000
DTSTAMP:20260423T172245
CREATED:20240620T070056Z
LAST-MODIFIED:20250625T221856Z
UID:10006246-1751191200-1751212800@sevenfeathers.com
SUMMARY:Jackpot Club Slot Tournaments Semi Annual Championships
DESCRIPTION:Win a Jackpot to be eligible! \nTournaments are on the last Wednesday of every month. Qualifying Rounds are from 5:00 to 6:00PM and 7:00 to 8:00PM. \nTop five places paid from all session times on each tournament day\, where you could win up to $2\,000 cash! \nSemi-Annual Championships are on June 29 and December 28. All qualifying participants are eligible for the Semi-Annual Championship. \nQualifying Rounds are from 10:00AM to Noon and 2:00 to 4:00PM. The Championship Round is at 5:00PM. \nTop 20 places are paid and you could win up to $10\,000 CASH and a custom-order leather logo jacket (valued up to $200)! \nVisit Players Club for details. \nManagement reserves the right to change or cancel any promotion without notice.
URL:https://sevenfeathers.com/event/jackpot-club-slot-tournaments-semi-annual-championships/
CATEGORIES:Promotions
ATTACH;FMTTYPE=image/jpeg:https://sevenfeathers.com/wp-content/uploads/2024/06/7F-Jackpot-Club-Slot-Tournament-1920x1080-WEB.jpg
END:VEVENT
BEGIN:VEVENT
DTSTART;TZID=America/Los_Angeles:20250628T210000
DTEND;TZID=America/Los_Angeles:20250629T010000
DTSTAMP:20260423T172245
CREATED:20250602T103643Z
LAST-MODIFIED:20250602T103643Z
UID:10010338-1751144400-1751158800@sevenfeathers.com
SUMMARY:Jeff Crossman
DESCRIPTION:Country rock artist Jeff Crossman takes the stage for an incredible show! \nAdmission is free. Must be 21 or older. Hours and performers subject to change.
URL:https://sevenfeathers.com/event/jeff-crossman-10/2025-06-28/
LOCATION:Elements Lounge\, 146 Chief Miwaleta Ln\, Canyonville\, OR\, 97417\, United States
CATEGORIES:Entertainment
END:VEVENT
BEGIN:VEVENT
DTSTART;TZID=America/Los_Angeles:20250628T180000
DTEND;TZID=America/Los_Angeles:20250628T200000
DTSTAMP:20260423T172245
CREATED:20250530T200027Z
LAST-MODIFIED:20250530T200027Z
UID:10010314-1751133600-1751140800@sevenfeathers.com
SUMMARY:Camo Adventure Giveaway
DESCRIPTION:June 1 through June 28 \nPlay for your chance to win a share in over $13\,000 in cash & prizes. You could win up to $1\,000 Cash and a Camo Adventure Package each drawing day! \nReceive one entry for every Camo Luggage Set gift redemption received on Sundays & Mondays. You can also receive a Bonus entry when you earn 1\,000 Players Club points on Saturdays! \nDrawings every hour from 6:00 to 8:00PM on Saturdays in June. \nWeekly Drawings: \nSaturdays\, June 7\, 14\, 21 and 28: \n· 6:00PM: One winner of $300 CASH and a Camo Adventure Package* \n· 7:00PM: One winner of $500 CASH and a Camo Adventure Package* \n· 8:00PM: One winner of $1\,000 CASH and a Camo Adventure Package* \n  \nEntry forms are non-transferable\, and guests must be present to collect Gift Giveaway gift(s) and entry form(s). Entry Forms must be legible and unmutilated to qualify. Unqualified or illegible entry forms will be discarded if drawn. *Camo Adventure Package consists of a 262-piece Survival Kit; Personal Water Filter Straws; Rechargeable Spotlight; Hunting Binoculars; Compact Camping Folding Table with Carry Bag; Portable Camping Stove with Carrying Case & Ignitor; Lightweight Camping Tent with Awning (sleeps 3-4); Set of 2 Zero Gravity Adjustable Folding Lounge Chairs; Portable Solar Fast Charger Power Bank; Color Changing LED Citronella Scented Candle; 2-pack of Long Range Walkie Talkies; and a Squatchee plush in themed apparel. \n  \nVisit Players Club for details.
URL:https://sevenfeathers.com/event/camo-adventure-giveaway/2025-06-28/
CATEGORIES:Promotions
END:VEVENT
BEGIN:VEVENT
DTSTART;TZID=America/Los_Angeles:20250628T170000
DTEND;TZID=America/Los_Angeles:20250628T210000
DTSTAMP:20260423T172245
CREATED:20250602T112716Z
LAST-MODIFIED:20250602T112716Z
UID:10010377-1751130000-1751144400@sevenfeathers.com
SUMMARY:Music In The Courtyard - Dave Bock
DESCRIPTION:Outdoor weekend entertainment is back with Music in the Courtyard! Join us Fridays & Saturdays from 5 PM to 9 PM in June. \nJUNE PERFORMERS:\nSTARVATION HEIGHTS • JUNE 6 & 7\nDYLAN JAMES CLARK • JUNE 13 & 14\nCHAD FREEMAN • JUNE 20 & 21\nDAVE BOCK • JUNE 27 & 28
URL:https://sevenfeathers.com/event/music-in-the-courtyard-dave-bock/2025-06-28/
LOCATION:Hotel Courtyard\, 146 Chief Miwaleta Ln\, Canyonville\, OR\, 97417\, United States
CATEGORIES:Entertainment
END:VEVENT
BEGIN:VEVENT
DTSTART;TZID=America/Los_Angeles:20250628T110000
DTEND;TZID=America/Los_Angeles:20250628T170000
DTSTAMP:20260423T172245
CREATED:20250415T165731Z
LAST-MODIFIED:20250507T221154Z
UID:10009721-1751108400-1751130000@sevenfeathers.com
SUMMARY:Seven Feathers' Wine Fest of the Umpqua Valley
DESCRIPTION:Saturday\, June 28 from 11:00AM – 5:00PM \nCome have fun in the sun at our free outdoor event near the Casino Main Entrance\, featuring 18 Local Wineries from the Umpqua Valley\, food trucks\, live music and more! \nPurchase your ticket to receive a souvenir wine glass* and tastings from 18 participating wineries. Event tickets are $20 when purchased online through June 27. Day-of tickets will be $25 at the event. \nGet your tickets here. \nThis event is open to all ages. \nLive music will be performed by Precious Byrd\, with shows at Noon & 3:00PM.  \n \nPurchase tickets at the Seven Feathers Gift Gallery or call Etix at 800-514-3849. *While supplies last.
URL:https://sevenfeathers.com/event/seven-feathers-wine-fest/
LOCATION:Main Casino Entrance\, 146 Chief Miwaleta Ln\, Canyonville\, OR\, 97417\, United States
CATEGORIES:Entertainment
END:VEVENT
BEGIN:VEVENT
DTSTART;TZID=America/Los_Angeles:20250627T190000
DTEND;TZID=America/Los_Angeles:20250627T210000
DTSTAMP:20260423T172245
CREATED:20250521T195911Z
LAST-MODIFIED:20250521T202258Z
UID:10010298-1751050800-1751058000@sevenfeathers.com
SUMMARY:Summer Splash Jet Ski Giveaway June Grand Prize Drawing
DESCRIPTION:May 19 – July 27 \nPlay for your chance at over $65\,000 in cash and prizes! \nDrawings are from 7:00 to 9:00PM on Tuesdays & Fridays in June and Tuesdays & Saturdays in July. There are two Grand Prize drawings on June 27 and July 27! \nEarn one entry for every 100 points at Slots and Table Games. Plus\, you earn 5X your entries on Tuesdays! \n  \nGrand Prize Drawings: \nFriday\, June 27: \n\n7:00PM: Two winners of $100-$200 Free Slot Play\n8:00PM: Two winners of $100-$200 Free Slot Play\n9:00PM: Grand Prize Drawing\n\nOne winner of $2\,000 Cash\nOne winner of a $10\,000 Summer Adventure Package including: $5\,000 Cash\, $5\,000 Travel Voucher\, Two Seven Feathers or RV Resort stays\, Beach Gear & Picnic Set\, and a set of three Squatchee characters with beach gear\n\n\n\n  \nTo be valid\, entries must be activated between 6:00PM and 8:50PM\, on EACH drawing day\, at any Players Club Kiosk or by playing table games or your favorite slot machine with your Players Club card. \n\nVisit Players Club for details.
URL:https://sevenfeathers.com/event/summer-splash-jet-ski-giveaway-june-grand-prize-drawing/
CATEGORIES:Promotions
END:VEVENT
BEGIN:VEVENT
DTSTART;TZID=America/Los_Angeles:20250623T130000
DTEND;TZID=America/Los_Angeles:20250623T200000
DTSTAMP:20260423T172245
CREATED:20250522T232140Z
LAST-MODIFIED:20250530T202626Z
UID:10010308-1750683600-1750708800@sevenfeathers.com
SUMMARY:Camo Luggage Set Gift Giveaway
DESCRIPTION:Sundays & Mondays in June \nEarn 1\,000 Players Club points beginning at 7:00AM on promotion days to receive a new travel piece each week or buy a piece for 10\,000 points. Collect the whole set! \nEasy gift redemption at any Players Club Kiosk! \nCHECK your points at any Players Club Kiosk (Invited guests\, check your promotions). \nPRINT your voucher. \nREDEEM your voucher. at the Gift Redemption Area. \nCollect your gift from 1:00 to 8:00PM\, on Sundays and Mondays. \nLimited quantities on hand – rainchecks will not be issued if product runs out. Limit two luggage pieces per guest per week. Bingo and Keno points do not apply. \nVisit Players Club for details. Management reserves the right to change any event or promotion.
URL:https://sevenfeathers.com/event/camo-luggage-set-gift-giveaway/2025-06-23/
CATEGORIES:Promotions
END:VEVENT
BEGIN:VEVENT
DTSTART;TZID=America/Los_Angeles:20250621T210000
DTEND;TZID=America/Los_Angeles:20250622T010000
DTSTAMP:20260423T172245
CREATED:20250602T105142Z
LAST-MODIFIED:20250602T105142Z
UID:10010346-1750539600-1750554000@sevenfeathers.com
SUMMARY:DJ Marc Eazy
DESCRIPTION:Be our guest! Admission to this show is free. \nGuests must be 21 or older. Hours and performers subject to change.
URL:https://sevenfeathers.com/event/dj-marc-eazy-6/2025-06-21/
LOCATION:Elements Lounge\, 146 Chief Miwaleta Ln\, Canyonville\, OR\, 97417\, United States
CATEGORIES:Entertainment
END:VEVENT
BEGIN:VEVENT
DTSTART;TZID=America/Los_Angeles:20250621T190000
DTEND;TZID=America/Los_Angeles:20250621T220000
DTSTAMP:20260423T172245
CREATED:20250218T173420Z
LAST-MODIFIED:20250506T163813Z
UID:10008761-1750532400-1750543200@sevenfeathers.com
SUMMARY:Aaron Lewis & the Stateliners
DESCRIPTION:Saturday\, June 21 at 7:00PM \nCome enjoy this Outdoor concert in the South Parking Lot. Open to all ages. \n \nPremier General Admission $70*\nSuperfan Pit (closest to the stage) $80\nAll standing room only\, first come – first served \nThis concert is sold out. Purchase tickets in person at the Gift Gallery\, click here to buy tickets\, or call Etix at 800.514.3849. Etix is the sole ticket provider for all Seven Feathers Casino Resort events. Not responsible for third party ticket sales. Gate opens at 5:30PM. No pets allowed in concert arena. No outside food & beverage – no coolers. *Personal folding chairs are allowed in the premier GA section only.
URL:https://sevenfeathers.com/event/aaron-lewis/
LOCATION:South Parking Lot\, 146 Chief Miwaleta Ln\, Canyonville\, OR\, 97417\, United States
CATEGORIES:Entertainment
END:VEVENT
BEGIN:VEVENT
DTSTART;TZID=America/Los_Angeles:20250619T190000
DTEND;TZID=America/Los_Angeles:20250619T230000
DTSTAMP:20260423T172245
CREATED:20250602T104846Z
LAST-MODIFIED:20250602T104846Z
UID:10010342-1750359600-1750374000@sevenfeathers.com
SUMMARY:Chad Freeman
DESCRIPTION:Chad Freeman takes the stage in the Elements Lounge for incredible shows on June 18th & 19th! \nAdmission is free. Must be 21 or older. Hours and performers are subject to change.
URL:https://sevenfeathers.com/event/chad-freeman/2025-06-19/
LOCATION:Elements Lounge\, 146 Chief Miwaleta Ln\, Canyonville\, OR\, 97417\, United States
CATEGORIES:Entertainment
END:VEVENT
BEGIN:VEVENT
DTSTART;TZID=America/Los_Angeles:20250615T130000
DTEND;TZID=America/Los_Angeles:20250615T150000
DTSTAMP:20260423T172245
CREATED:20250530T200300Z
LAST-MODIFIED:20250530T200300Z
UID:10010315-1749992400-1749999600@sevenfeathers.com
SUMMARY:Father's Day Outdoor Escape
DESCRIPTION:Sunday\, June 15 with hourly drawings from 1:00 to 3:00PM. \nWin One of Three Outdoor Escape Packages valued between $350 and $535. There will be two winners every hour! \nThe Outdoor Escape Packages include either a Fishing Gear Package\, a Yeti Gear Hiking Package\, or a Drone Package. All packages include a Dining Voucher between $50 and $100 in value. \nAll Players Club members actively playing Slots or Table Games with their Players Club card at the time of the drawing are eligible to win. \nManagement reserves the right to change or cancel any promotion without notice. \nVisit Players Club for details.
URL:https://sevenfeathers.com/event/fathers-day-outdoor-escape/
CATEGORIES:Promotions
END:VEVENT
BEGIN:VEVENT
DTSTART;TZID=America/Los_Angeles:20250615T090000
DTEND;TZID=America/Los_Angeles:20250615T160000
DTSTAMP:20260423T172245
CREATED:20240529T024420Z
LAST-MODIFIED:20250530T171443Z
UID:10006127-1749978000-1750003200@sevenfeathers.com
SUMMARY:Father's Day Bingo Special
DESCRIPTION:Sunday\, June 15 \nDoors open at 9:00AM. Admission sales start at 11:00AM. Games begin at 1:00PM. \nLucky dads can win a new watch\, and this session will have $600 Regular Games. All men receive one free pack with their buy-In and a free dauber. \nBuy-ins: Paper $12\, Electronic $36\, Extras $12 \nClick here to view the program. \nVisit Bingo for details. \nSubject to change or cancellation without notice.
URL:https://sevenfeathers.com/event/fathers-day-bingo/
LOCATION:Bingo Hall\, 146 Chief Miwaleta Ln\, Canyonville\, OR\, 97417\, United States
CATEGORIES:Bingo,Promotions
END:VEVENT
BEGIN:VEVENT
DTSTART;TZID=America/Los_Angeles:20250607T190000
DTEND;TZID=America/Los_Angeles:20250607T203000
DTSTAMP:20260423T172245
CREATED:20250424T170924Z
LAST-MODIFIED:20250612T173819Z
UID:10010237-1749322800-1749328200@sevenfeathers.com
SUMMARY:The Ultimate Queen Celebration
DESCRIPTION:Saturday\, June 7 at 7:00PM \nCLICK HERE TO PURCHASE TICKETS. \n \nCome relive all your favorite Queen songs at this exciting show\, featuring Yvan Pedneault. From Don’t Stop Me Now to Bohemian Rhapsody\, you will be singing along with all the great hits\, so get your tickets today. \n  \nReserved Seating $20\, $30\, $40 \n  \nTickets on sale April 30 at 10:00AM. Purchase tickets in person at the Gift Gallery  or call Etix at 800.514.3849. Etix is the sole ticket provider for all Seven Feathers Casino Resort events. Not responsible for third party ticket sales. Doors open at 6:00PM. Must be 21 or older. Concert Attendees – due to venue configuration\, standing during the concert can be expected\, please be sensitive to the mobility impaired that may surround your seat.
URL:https://sevenfeathers.com/event/the-ultimate-queen-celebration/
LOCATION:Umpqua Grand Ballroom\, 146 Chief Miwaleta Ln\, Canyonville\, OR\, 97417\, United States
END:VEVENT
BEGIN:VEVENT
DTSTART;TZID=America/Los_Angeles:20250601T000000
DTEND;TZID=America/Los_Angeles:20251031T235959
DTSTAMP:20260423T172245
CREATED:20250614T002211Z
LAST-MODIFIED:20250903T220457Z
UID:10010378-1748736000-1761955199@sevenfeathers.com
SUMMARY:Pinball Palooza 2025
DESCRIPTION:We will host pinball from May 1 through October 31. \nWe will continue with 12 Pinball machines to choose from in Steelhead Lounge\, including a new King Kong machine. The pinball machines are available for guests to play at any time throughout the event when a tournament is not in session. There is a quarter change machine available in Steelhead Lounge. \nCome join us and enter a Fair Strikes Pinball Tournament! For more information about the tournaments click here. \nFor any other questions\, you can call 541-643-2200. \nTournaments will be every Sunday in July from 12:00 to 2:00PM. Machines for the tournament will be assigned at random. On August 3\, we will have the Hot August Days Matchplay Tournament\, with a limit of 44 players. \nSign-ups begin at 11:00AM\, and the games being at Noon. \n$5 entry fee. Must be 21 or older.
URL:https://sevenfeathers.com/event/pinball-palooza-2025-2/
LOCATION:Steelhead Lounge\, 146 Chief Miwaleta Ln\, Canyonville\, OR\, 97417\, United States
CATEGORIES:Entertainment
END:VEVENT
BEGIN:VEVENT
DTSTART;TZID=America/Los_Angeles:20250531T210000
DTEND;TZID=America/Los_Angeles:20250601T010000
DTSTAMP:20260423T172245
CREATED:20250501T233130Z
LAST-MODIFIED:20250501T233656Z
UID:10010256-1748725200-1748739600@sevenfeathers.com
SUMMARY:Dylan James Clark
DESCRIPTION:Be our guest! Admission to this show is free. \nGuests must be 21 or older. Hours and performers subject to change.
URL:https://sevenfeathers.com/event/dylan-james-clark-2/2025-05-31/
LOCATION:Elements Lounge\, 146 Chief Miwaleta Ln\, Canyonville\, OR\, 97417\, United States
CATEGORIES:Entertainment
END:VEVENT
BEGIN:VEVENT
DTSTART;TZID=America/Los_Angeles:20250531T190000
DTEND;TZID=America/Los_Angeles:20250531T210000
DTSTAMP:20260423T172245
CREATED:20250408T193628Z
LAST-MODIFIED:20250408T193628Z
UID:10008976-1748718000-1748725200@sevenfeathers.com
SUMMARY:$75\,000 SPIN-Credible Grand Prize
DESCRIPTION:March 17 through May 31 \nPlay for your chance to win up to $20\,000 in cash! Plus\, every winner has a chance at winning the Mega Bonus Prize of $250\,000 CASH!* \nDrawings hourly\, 7:00 to 9:00PM\, every Tuesday and Friday\, in April and May\, with two Grand Prize drawings on May 30 and 31. \nEarn one entry for every 100 points at Slots and Table Games\, and receive 5X your entries for every 100 points earned on Tuesdays! \nTo be valid\, entries must be activated between 6:00PM and 8:50PM\, on EACH drawing day\, at any Players Club Kiosk or by playing table games or your favorite slot machine with your Players Club card. \n* Mega Bonus Prize can be awarded only one (1) time during promotion period. Bonus Prize is awarded randomly and is NOT guaranteed to hit during SPIN-credible Giveaway promotion. \nVisit Players Club for details.
URL:https://sevenfeathers.com/event/75000-spin-credible-grand-prize/2025-05-31/
CATEGORIES:Promotions
END:VEVENT
BEGIN:VEVENT
DTSTART;TZID=America/Los_Angeles:20250529T190000
DTEND;TZID=America/Los_Angeles:20250529T230000
DTSTAMP:20260423T172245
CREATED:20250501T233017Z
LAST-MODIFIED:20250501T233630Z
UID:10010254-1748545200-1748559600@sevenfeathers.com
SUMMARY:Dylan James Clark
DESCRIPTION:Be our guest! Admission to this show is free. \nGuests must be 21 or older. Hours and performers subject to change.
URL:https://sevenfeathers.com/event/dylan-james-clark/2025-05-29/
LOCATION:Elements Lounge\, 146 Chief Miwaleta Ln\, Canyonville\, OR\, 97417\, United States
CATEGORIES:Entertainment
END:VEVENT
BEGIN:VEVENT
DTSTART;TZID=America/Los_Angeles:20250526T130000
DTEND;TZID=America/Los_Angeles:20250526T170000
DTSTAMP:20260423T172245
CREATED:20250430T174432Z
LAST-MODIFIED:20250430T174833Z
UID:10010238-1748264400-1748278800@sevenfeathers.com
SUMMARY:Memorial Day Free Bingo
DESCRIPTION:Monday\, May 26 \nThis is a special session on this day only. \nDoors open at 9:00AM. Admission sales are at 11:00AM. Games begin at 1:00PM. \nBuy-ins:  Paper $7 (one pack plus one FREE)\, Electronic $21 (three packs plus one FREE)\, Extras $7 \nSecond admission pack is free! \nThere will be $400 Regular Games and  a $2\,000 MUST GO Super Jackpot! \nClick here to view the program. \nVisit Bingo for details.
URL:https://sevenfeathers.com/event/memorial-day-free-bingo-2/
LOCATION:Bingo Hall\, 146 Chief Miwaleta Ln\, Canyonville\, OR\, 97417\, United States
CATEGORIES:Bingo,Promotions
END:VEVENT
BEGIN:VEVENT
DTSTART;TZID=America/Los_Angeles:20250525T110000
DTEND;TZID=America/Los_Angeles:20250525T180000
DTSTAMP:20260423T172245
CREATED:20250326T232351Z
LAST-MODIFIED:20250416T163058Z
UID:10008848-1748170800-1748196000@sevenfeathers.com
SUMMARY:Fair Strikes Pinball Tournament
DESCRIPTION:We will host pinball from May 1 through May 31. \nWe will have 20 Pinball machines to choose from in Steelhead Lounge. \nCome join us and enter a Fair Strikes Pinball Tournament! For more information about the tournaments click here. \nFor any other questions\, you can call 541-643-2200. \nTournaments will be every Sunday in May from 11:00AM to 6:00PM. \nSign-ups begin at 11:00AM\, and the games being at Noon. Entry will cost $5 per participant. \nMust be 21 or older.
URL:https://sevenfeathers.com/event/squatchee-pinball-tournament/2025-05-25/
CATEGORIES:Promotions
END:VEVENT
BEGIN:VEVENT
DTSTART;TZID=America/Los_Angeles:20250524T190000
DTEND;TZID=America/Los_Angeles:20250524T220000
DTSTAMP:20260423T172245
CREATED:20250130T232942Z
LAST-MODIFIED:20250215T000257Z
UID:10008721-1748113200-1748124000@sevenfeathers.com
SUMMARY:The Little River Band
DESCRIPTION:Join us Saturday\, May 24 at 7:00PM\, for The Little River Band! \n \nGet ready as a Cool Change will have you Reminiscing\, when Little River Band comes to the Umpqua Grand Ball Room. Come enjoy a night of classic rock when these legends take the stage. \nReserved Seating $40\, $50\, $60 \nGet your tickets here. \nTickets on sale Wednesday\, February 5 at 10:00AM. Purchase tickets in person at the Gift Gallery or call Etix at 800.514.3849. Etix is the sole ticket provider for all Seven Feathers Casino Resort events. Not responsible for third party ticket sales. Doors open an hour before showtime. Must be 21 or older. Concert Attendees – due to venue configuration\, standing during the concert can be expected\, please be sensitive to the mobility impaired that may surround your seat. \n 
URL:https://sevenfeathers.com/event/the-little-river-band/
LOCATION:Umpqua Grand Ballroom\, 146 Chief Miwaleta Ln\, Canyonville\, OR\, 97417\, United States
CATEGORIES:Entertainment
END:VEVENT
BEGIN:VEVENT
DTSTART;TZID=America/Los_Angeles:20250522T190000
DTEND;TZID=America/Los_Angeles:20250522T230000
DTSTAMP:20260423T172245
CREATED:20250501T232724Z
LAST-MODIFIED:20250501T233759Z
UID:10010250-1747940400-1747954800@sevenfeathers.com
SUMMARY:Katelyn Wiggs
DESCRIPTION:Be our guest! Admission to this show is free. \nGuests must be 21 or older. Hours and performers subject to change.
URL:https://sevenfeathers.com/event/katelyn-wiggs/2025-05-22/
LOCATION:Elements Lounge\, 146 Chief Miwaleta Ln\, Canyonville\, OR\, 97417\, United States
CATEGORIES:Entertainment
END:VEVENT
BEGIN:VEVENT
DTSTART;TZID=America/Los_Angeles:20250517T210000
DTEND;TZID=America/Los_Angeles:20250518T010000
DTSTAMP:20260423T172245
CREATED:20250501T232554Z
LAST-MODIFIED:20250501T233852Z
UID:10010248-1747515600-1747530000@sevenfeathers.com
SUMMARY:Saucy
DESCRIPTION:Be our guest! Admission to this show is free. \nGuests must be 21 or older. Hours and performers subject to change.
URL:https://sevenfeathers.com/event/saucy-2/2025-05-17/
LOCATION:Elements Lounge\, 146 Chief Miwaleta Ln\, Canyonville\, OR\, 97417\, United States
CATEGORIES:Entertainment
END:VEVENT
BEGIN:VEVENT
DTSTART;TZID=America/Los_Angeles:20250515T190000
DTEND;TZID=America/Los_Angeles:20250515T230000
DTSTAMP:20260423T172245
CREATED:20250501T232410Z
LAST-MODIFIED:20250501T233828Z
UID:10010246-1747335600-1747350000@sevenfeathers.com
SUMMARY:Saucy
DESCRIPTION:Be our guest! Admission to this show is free. \nGuests must be 21 or older. Hours and performers subject to change.
URL:https://sevenfeathers.com/event/saucy/2025-05-15/
LOCATION:Elements Lounge\, 146 Chief Miwaleta Ln\, Canyonville\, OR\, 97417\, United States
CATEGORIES:Entertainment
END:VEVENT
BEGIN:VEVENT
DTSTART;TZID=America/Los_Angeles:20250511T130000
DTEND;TZID=America/Los_Angeles:20250511T170000
DTSTAMP:20260423T172245
CREATED:20240501T021752Z
LAST-MODIFIED:20250401T211714Z
UID:10006072-1746968400-1746982800@sevenfeathers.com
SUMMARY:Mother's Day Bingo
DESCRIPTION:Sunday\, May 11 \nDoors open at 9:00AM. Admission sales start at 11:00AM. Games begin at 1:00PM. \n  \nWe will have $600 Regular Games. \nLucky moms can win a Designer Purse. \n  \nBuy-ins:  Paper $12\, Electronic $36\, Extras $12 \nAll ladies receive one free pack with their Buy-In and a free dauber. \n  \nVisit Bingo for details. View the Mother’s Day Bingo Special program here. \nSubject to change or cancellation without notice.
URL:https://sevenfeathers.com/event/mothers-day-bingo-2/
LOCATION:Bingo Hall\, 146 Chief Miwaleta Ln\, Canyonville\, OR\, 97417\, United States
CATEGORIES:Bingo,Promotions
END:VEVENT
BEGIN:VEVENT
DTSTART;TZID=America/Los_Angeles:20250511T130000
DTEND;TZID=America/Los_Angeles:20250511T150000
DTSTAMP:20260423T172245
CREATED:20250326T204518Z
LAST-MODIFIED:20250502T165118Z
UID:10008843-1746968400-1746975600@sevenfeathers.com
SUMMARY:Mother's Day Sweet Escapes Hot Seats
DESCRIPTION:Sunday\, May 11\, we will have hourly drawings from 1:00 to 3:00PM. \nWin a Sweet Escapes Package valued at over $600. The Sweet Escapes Package includes a one-night Hotel stay\, a Gift Gallery & River Rock Spa Gift Basket* and a Ninja Creami® Ice Cream Maker. \nThere will be two winners every hour! All Players Club members actively playing Slots or Table Games with their Players Club card at the time of the drawing are eligible to win. \nVisit Players Club for details. Management reserves the right to change or cancel any promotion without notice. \n*Gift basket includes a $100 River Rock Spa gift card.
URL:https://sevenfeathers.com/event/mothers-day-sweet-escape-hot-seats/
CATEGORIES:Promotions
END:VEVENT
BEGIN:VEVENT
DTSTART;TZID=America/Los_Angeles:20250510T210000
DTEND;TZID=America/Los_Angeles:20250511T010000
DTSTAMP:20260423T172245
CREATED:20250501T232250Z
LAST-MODIFIED:20250501T233919Z
UID:10010244-1746910800-1746925200@sevenfeathers.com
SUMMARY:Dan Harmon and Cascade Country
DESCRIPTION:Be our guest! Admission to this show is free. \nGuests must be 21 or older. Hours and performers subject to change.
URL:https://sevenfeathers.com/event/dan-harmon-and-cascade-country-6/2025-05-10/
LOCATION:Elements Lounge\, 146 Chief Miwaleta Ln\, Canyonville\, OR\, 97417\, United States
CATEGORIES:Entertainment
END:VEVENT
BEGIN:VEVENT
DTSTART;TZID=America/Los_Angeles:20250510T190000
DTEND;TZID=America/Los_Angeles:20250510T220000
DTSTAMP:20260423T172245
CREATED:20250206T180015Z
LAST-MODIFIED:20250430T235939Z
UID:10008760-1746903600-1746914400@sevenfeathers.com
SUMMARY:Live MMA Action
DESCRIPTION:LIVE MMA ACTION \nat Seven Feathers \nSaturday\, May 10 at 7:00PM. \nCLICK HERE TO PURCHASE TICKETS. \nBrought to you by Clinch Fight Club XI (formerly CageWarriors NW VI). \n  \nReserved Seating $50\, $60 & $70 \n  \nView the Fight Card. \n  \nGet free admission to the pre-fight interviews and weigh-in\, Friday\, May 9 from 5:00 to 8:00PM in Elements Lounge. \n  \nMust be 21 or older. \n  \nTickets go on sale Wednesday\, February 12 at 10:00AM. Purchase tickets in person at the Gift Gallery or call Etix at 800.514.3849. Etix is the sole ticket provider for all Seven Feathers Casino Resort events. Not responsible for third party ticket sales. Doors open at 6:00PM.  Must be 21 or older.
URL:https://sevenfeathers.com/event/live-mma-action-2/
LOCATION:Umpqua Grand Ballroom\, 146 Chief Miwaleta Ln\, Canyonville\, OR\, 97417\, United States
CATEGORIES:Entertainment
END:VEVENT
BEGIN:VEVENT
DTSTART;TZID=America/Los_Angeles:20250508T190000
DTEND;TZID=America/Los_Angeles:20250508T230000
DTSTAMP:20260423T172245
CREATED:20250501T232003Z
LAST-MODIFIED:20250501T233941Z
UID:10010242-1746730800-1746745200@sevenfeathers.com
SUMMARY:Dan Harmon and Cascade Country
DESCRIPTION:Be our guest! Admission to this show is free. \nGuests must be 21 or older. Hours and performers subject to change.
URL:https://sevenfeathers.com/event/dan-harmon-and-cascade-country-5/2025-05-08/
LOCATION:Elements Lounge\, 146 Chief Miwaleta Ln\, Canyonville\, OR\, 97417\, United States
CATEGORIES:Entertainment
END:VEVENT
BEGIN:VEVENT
DTSTART;TZID=America/Los_Angeles:20250501T000000
DTEND;TZID=America/Los_Angeles:20250531T235959
DTSTAMP:20260423T172245
CREATED:20250404T173703Z
LAST-MODIFIED:20250507T192622Z
UID:10008953-1746057600-1748735999@sevenfeathers.com
SUMMARY:Pinball Palooza 2025
DESCRIPTION:We will host pinball from May 1 through May 31. \nWe will have 20 Pinball machines to choose from in Steelhead Lounge. The pinball machines are available for guests to play at any time throughout May when a tournament is not in session. There is a quarter change machine available in Steelhead Lounge. \nCome join us and enter a Fair Strikes Pinball Tournament! For more information about the tournaments click here. \nFor any other questions\, you can call 541-643-2200. \nTournaments will be every Sunday in May from 11:00AM to 6:00PM. Machines for the tournament will be assigned at random. \nSign-ups begin at 11:00AM\, and the games being at Noon. \n$5 entry fee. Must be 21 or older.
URL:https://sevenfeathers.com/event/pinball-palooza-2025/
LOCATION:Steelhead Lounge\, 146 Chief Miwaleta Ln\, Canyonville\, OR\, 97417\, United States
CATEGORIES:Entertainment
END:VEVENT
END:VCALENDAR