BEGIN:VCALENDAR
VERSION:2.0
PRODID:-//Seven Feathers Casino - ECPv6.15.16//NONSGML v1.0//EN
CALSCALE:GREGORIAN
METHOD:PUBLISH
X-ORIGINAL-URL:https://sevenfeathers.com
X-WR-CALDESC:Events for Seven Feathers Casino
REFRESH-INTERVAL;VALUE=DURATION:PT1H
X-Robots-Tag:noindex
X-PUBLISHED-TTL:PT1H
BEGIN:VTIMEZONE
TZID:America/Los_Angeles
BEGIN:DAYLIGHT
TZOFFSETFROM:-0800
TZOFFSETTO:-0700
TZNAME:PDT
DTSTART:20250309T100000
END:DAYLIGHT
BEGIN:STANDARD
TZOFFSETFROM:-0700
TZOFFSETTO:-0800
TZNAME:PST
DTSTART:20251102T090000
END:STANDARD
BEGIN:DAYLIGHT
TZOFFSETFROM:-0800
TZOFFSETTO:-0700
TZNAME:PDT
DTSTART:20260308T100000
END:DAYLIGHT
BEGIN:STANDARD
TZOFFSETFROM:-0700
TZOFFSETTO:-0800
TZNAME:PST
DTSTART:20261101T090000
END:STANDARD
BEGIN:DAYLIGHT
TZOFFSETFROM:-0800
TZOFFSETTO:-0700
TZNAME:PDT
DTSTART:20270314T100000
END:DAYLIGHT
BEGIN:STANDARD
TZOFFSETFROM:-0700
TZOFFSETTO:-0800
TZNAME:PST
DTSTART:20271107T090000
END:STANDARD
END:VTIMEZONE
BEGIN:VEVENT
DTSTART;TZID=America/Los_Angeles:20260428T000000
DTEND;TZID=America/Los_Angeles:20260428T235900
DTSTAMP:20260424T000056
CREATED:20251231T004710Z
LAST-MODIFIED:20260102T204332Z
UID:10012969-1777334400-1777420740@sevenfeathers.com
SUMMARY:American Hero Day
DESCRIPTION:Every Tuesday at Seven Feathers Casino Resort \nVeterans get your Seven Feathers American Hero card and enjoy the following: \nOn American Hero Day card holders receive a free ice cream (in a bowl or regular cone) with a choice of topping at Takelma. \nJust swipe in at a Players Club Kiosk to receive your ice cream coupon\, redeemable that day from 7:00AM to 10:00PM\, along with $10 in Free Slot Play\, 15% off of qualifying purchases in the Gift Gallery & 10% off your meal in Cow Creek Restaurant or Stix Bar & Grill\, every Tuesday\, from 8:00AM – 8:00PM. \nIt’s free to sign up. Visit the Players Club for more information.
URL:https://sevenfeathers.com/event/american-hero-day-2/2026-04-28/
LOCATION:OR
CATEGORIES:Ongoing,Promotions
ATTACH;FMTTYPE=image/jpeg:https://sevenfeathers.com/wp-content/uploads/2025/12/7F-American-Hero-Day-2025-1920x1080-WEB-1.jpg
END:VEVENT
BEGIN:VEVENT
DTSTART;TZID=America/Los_Angeles:20260429T000000
DTEND;TZID=America/Los_Angeles:20260429T235959
DTSTAMP:20260424T000056
CREATED:20260413T222340Z
LAST-MODIFIED:20260422T204801Z
UID:10014188-1777420800-1777507199@sevenfeathers.com
SUMMARY:Jackpot Club Kiosk Games
DESCRIPTION:Now with more winners and more prizes! Win a Jackpot to be eligible! \n  \nPlay the Monthly Kiosk games for your chance at up to $1\,000 in Free Slot Play. \n  \nAll qualifying participants are eligible to play in the Semi-Annual Championship Slot Tournaments. \n  \nSemi-Annual Slot Tournaments • June 28 \nQualifying Rounds • 10:00AM – Noon and 2:00 – 4:00PM \nChampionship Round • 5:00PM \nTop 20 places paid.  Win up to $10\,000 CASH and a custom-order leather logo jacket (valued up to $200)! \n  \nVisit Players Club for details. \nManagement reserves the right to change or cancel any promotion without notice.
URL:https://sevenfeathers.com/event/jackpot-club-kiosk-games/2026-04-29/
LOCATION:Casino\, 146 Chief Miwaleta Ln\, Canyonville\, OR\, 97417\, United States
CATEGORIES:Promotions
ATTACH;FMTTYPE=image/jpeg:https://sevenfeathers.com/wp-content/uploads/2026/04/7F-Jackpot-Club-Slot-Tournament-2026-1920x1080-WEB.jpg
END:VEVENT
END:VCALENDAR