BEGIN:VCALENDAR
VERSION:2.0
PRODID:-//Seven Feathers Casino - ECPv6.15.16//NONSGML v1.0//EN
CALSCALE:GREGORIAN
METHOD:PUBLISH
X-ORIGINAL-URL:https://sevenfeathers.com
X-WR-CALDESC:Events for Seven Feathers Casino
REFRESH-INTERVAL;VALUE=DURATION:PT1H
X-Robots-Tag:noindex
X-PUBLISHED-TTL:PT1H
BEGIN:VTIMEZONE
TZID:America/Los_Angeles
BEGIN:DAYLIGHT
TZOFFSETFROM:-0800
TZOFFSETTO:-0700
TZNAME:PDT
DTSTART:20230312T100000
END:DAYLIGHT
BEGIN:STANDARD
TZOFFSETFROM:-0700
TZOFFSETTO:-0800
TZNAME:PST
DTSTART:20231105T090000
END:STANDARD
BEGIN:DAYLIGHT
TZOFFSETFROM:-0800
TZOFFSETTO:-0700
TZNAME:PDT
DTSTART:20240310T100000
END:DAYLIGHT
BEGIN:STANDARD
TZOFFSETFROM:-0700
TZOFFSETTO:-0800
TZNAME:PST
DTSTART:20241103T090000
END:STANDARD
BEGIN:DAYLIGHT
TZOFFSETFROM:-0800
TZOFFSETTO:-0700
TZNAME:PDT
DTSTART:20250309T100000
END:DAYLIGHT
BEGIN:STANDARD
TZOFFSETFROM:-0700
TZOFFSETTO:-0800
TZNAME:PST
DTSTART:20251102T090000
END:STANDARD
END:VTIMEZONE
BEGIN:VEVENT
DTSTART;TZID=America/Los_Angeles:20241221T120000
DTEND;TZID=America/Los_Angeles:20241221T235900
DTSTAMP:20260419T084144
CREATED:20241202T173707Z
LAST-MODIFIED:20241202T173707Z
UID:10007999-1734782400-1734825540@sevenfeathers.com
SUMMARY:Paradise NYE Bash T-Shirt Points Race
DESCRIPTION:Be one of the first 100 guests to earn 1\,000 Players Club points and receive a Paradise NYE Bash T-Shirt each week! \n\nREADY! – Get your Players Club card ready! \nSET! – Race begins at Noon on Saturdays\, December 7 – 28. \nGO! – Start earning points using your Players Club card! \n\n\nStarting at Noon\, play using your Players Club card.\nSwipe at any Players Club Kiosk and touch the Paradise NYE Bash T-Shirt Points Race icon to check your points earned.\nAfter earning 1\,000 points\, print your voucher at the Players Club Kiosk. Must be one of the first 100 guests to earn the required points on each promotion day in order to print voucher.\nBring your voucher to the Players Club to collect your Paradise NYE Bash T-Shirt!\n\n\nLimited to stock on hand. Limit one (1) Paradise NYE Bash T-Shirt per person per promotion day. Points must be earned between 12:00PM and 11:59PM\, on designated Saturdays. Points do not carry over to the next promotion day. Must have card properly inserted in slot machine or present card for tracked play at Table Games to receive points. Management reserves all rights.
URL:https://sevenfeathers.com/event/paradise-nye-bash-t-shirt-points-race/2024-12-21/
CATEGORIES:Promotions
END:VEVENT
BEGIN:VEVENT
DTSTART;TZID=America/Los_Angeles:20241221T160000
DTEND;TZID=America/Los_Angeles:20241221T190000
DTSTAMP:20260419T084144
CREATED:20241024T224409Z
LAST-MODIFIED:20241030T201432Z
UID:10007971-1734796800-1734807600@sevenfeathers.com
SUMMARY:5 O’clock Somewhere in Paradise
DESCRIPTION:October 21 to December 21 \nWe will have over $45\,000 in cash prizes! \nDrawings will be from 4:00 to 7:00PM on Saturdays in November and December\, with the Grand Prize drawings on December 21. \nEarn one entry for every 100 points at Slots and Table Games. Plus\, you can earn 2X entries on Fridays! \nPlatinum Elite and Diamond only drawings November 2 and December 7 from 4:00 to 7:00PM. \nTo be valid\, entries must be activated between 2:00PM and 6:50PM\, on each drawing day\, at any Players Club Kiosk or by playing table games or your favorite slot machine with your Players Club card. \nVisit Players Club for details.
URL:https://sevenfeathers.com/event/5-oclock-somewhere-in-paradise/2024-12-21/
CATEGORIES:Promotions
END:VEVENT
END:VCALENDAR