BEGIN:VCALENDAR
VERSION:2.0
PRODID:-//Seven Feathers Casino - ECPv6.15.16//NONSGML v1.0//EN
CALSCALE:GREGORIAN
METHOD:PUBLISH
X-WR-CALNAME:Seven Feathers Casino
X-ORIGINAL-URL:https://sevenfeathers.com
X-WR-CALDESC:Events for Seven Feathers Casino
REFRESH-INTERVAL;VALUE=DURATION:PT1H
X-Robots-Tag:noindex
X-PUBLISHED-TTL:PT1H
BEGIN:VTIMEZONE
TZID:America/Los_Angeles
BEGIN:DAYLIGHT
TZOFFSETFROM:-0800
TZOFFSETTO:-0700
TZNAME:PDT
DTSTART:20230312T100000
END:DAYLIGHT
BEGIN:STANDARD
TZOFFSETFROM:-0700
TZOFFSETTO:-0800
TZNAME:PST
DTSTART:20231105T090000
END:STANDARD
BEGIN:DAYLIGHT
TZOFFSETFROM:-0800
TZOFFSETTO:-0700
TZNAME:PDT
DTSTART:20240310T100000
END:DAYLIGHT
BEGIN:STANDARD
TZOFFSETFROM:-0700
TZOFFSETTO:-0800
TZNAME:PST
DTSTART:20241103T090000
END:STANDARD
BEGIN:DAYLIGHT
TZOFFSETFROM:-0800
TZOFFSETTO:-0700
TZNAME:PDT
DTSTART:20250309T100000
END:DAYLIGHT
BEGIN:STANDARD
TZOFFSETFROM:-0700
TZOFFSETTO:-0800
TZNAME:PST
DTSTART:20251102T090000
END:STANDARD
END:VTIMEZONE
BEGIN:VEVENT
DTSTART;TZID=America/Los_Angeles:20241213T090000
DTEND;TZID=America/Los_Angeles:20241213T190000
DTSTAMP:20260419T082714
CREATED:20241202T173420Z
LAST-MODIFIED:20241202T173420Z
UID:10007994-1734080400-1734116400@sevenfeathers.com
SUMMARY:Seven Feathers' Signature Cookies Points Race
DESCRIPTION:Be one of the first 50 guests to earn 500 Players Club points and receive a package of our signature cookies featuring our Executive Chef’s special recipe. \n  \nREADY! – Get your Players Club card ready! \nSET! – Race begins at 9:00AM on Fridays\, December 6 – 27. \nGO! – Start earning points using your Players Club card! \n  \n1. Starting at 9:00AM\, play using your Players Club card. \n2. Swipe at any Players Club Kiosk and touch the Seven Feathers Signature Cookies Points Race icon to check your points earned. \n3. After earning 500 points\, print your voucher at the Players Club Kiosk. Must be one of the first 50 guests to earn the required points on each promotion day in order to print voucher. \n4. Bring your voucher to the Cookie Redemption Area across from the Mall Entrance to collect your Seven Feathers’ Signature Chocolate Chip Cookies! \n  \nLimited to stock on hand. Limit one (1) redemption per person per promotion day. Points must be earned between 9:00AM and 6:59PM\, on designated Fridays. Points do not carry over to the next promotion day. Must have card properly inserted in slot machine or present card for tracked play at Table Games to receive points. Management reserves all rights.
URL:https://sevenfeathers.com/event/seven-feathers-signature-cookies-points-race/2024-12-13/
CATEGORIES:Promotions
END:VEVENT
END:VCALENDAR