BEGIN:VCALENDAR
VERSION:2.0
PRODID:-//Seven Feathers Casino - ECPv6.15.16//NONSGML v1.0//EN
CALSCALE:GREGORIAN
METHOD:PUBLISH
X-ORIGINAL-URL:https://sevenfeathers.com
X-WR-CALDESC:Events for Seven Feathers Casino
REFRESH-INTERVAL;VALUE=DURATION:PT1H
X-Robots-Tag:noindex
X-PUBLISHED-TTL:PT1H
BEGIN:VTIMEZONE
TZID:America/Los_Angeles
BEGIN:DAYLIGHT
TZOFFSETFROM:-0800
TZOFFSETTO:-0700
TZNAME:PDT
DTSTART:20240310T100000
END:DAYLIGHT
BEGIN:STANDARD
TZOFFSETFROM:-0700
TZOFFSETTO:-0800
TZNAME:PST
DTSTART:20241103T090000
END:STANDARD
BEGIN:DAYLIGHT
TZOFFSETFROM:-0800
TZOFFSETTO:-0700
TZNAME:PDT
DTSTART:20250309T100000
END:DAYLIGHT
BEGIN:STANDARD
TZOFFSETFROM:-0700
TZOFFSETTO:-0800
TZNAME:PST
DTSTART:20251102T090000
END:STANDARD
BEGIN:DAYLIGHT
TZOFFSETFROM:-0800
TZOFFSETTO:-0700
TZNAME:PDT
DTSTART:20260308T100000
END:DAYLIGHT
BEGIN:STANDARD
TZOFFSETFROM:-0700
TZOFFSETTO:-0800
TZNAME:PST
DTSTART:20261101T090000
END:STANDARD
BEGIN:DAYLIGHT
TZOFFSETFROM:-0800
TZOFFSETTO:-0700
TZNAME:PDT
DTSTART:20270314T100000
END:DAYLIGHT
BEGIN:STANDARD
TZOFFSETFROM:-0700
TZOFFSETTO:-0800
TZNAME:PST
DTSTART:20271107T090000
END:STANDARD
END:VTIMEZONE
BEGIN:VEVENT
DTSTART;TZID=America/Los_Angeles:20250218T000000
DTEND;TZID=America/Los_Angeles:20250218T235900
DTSTAMP:20260424T005800
CREATED:20250130T215743Z
LAST-MODIFIED:20250401T203120Z
UID:10008675-1739836800-1739923140@sevenfeathers.com
SUMMARY:American Hero Day
DESCRIPTION:Every Tuesday at Seven Feathers Casino Resort \nVeterans get your Seven Feathers American Hero card and enjoy the following: \nOn American Hero Day card holders receive a free ice cream (in a bowl or regular cone) with a choice of topping at Takelma. \nJust swipe in at a Players Club Kiosk to receive your ice cream coupon\, redeemable that day from 7:00AM to 10:00PM\, along with $10 in Free Slot Play\, 15% off of qualifying purchases in the Gift Gallery & 10% off your meal in Cow Creek Restaurant or Stix Bar & Grill\, every Tuesday\, from 8:00AM – 8:00PM. \nIt’s free to sign up. Visit the Players Club for more information.
URL:https://sevenfeathers.com/event/american-hero-day-2-2/2025-02-18/
LOCATION:OR
CATEGORIES:Ongoing,Promotions
ATTACH;FMTTYPE=image/jpeg:https://sevenfeathers.com/wp-content/uploads/2024/01/7F-American-Hero-Day-2025-1920x1080-WEB.jpg
END:VEVENT
BEGIN:VEVENT
DTSTART;TZID=America/Los_Angeles:20250218T190000
DTEND;TZID=America/Los_Angeles:20250218T220000
DTSTAMP:20260424T005800
CREATED:20250401T204839Z
LAST-MODIFIED:20260102T204146Z
UID:10008906-1739905200-1739916000@sevenfeathers.com
SUMMARY:Line Dancing
DESCRIPTION:FREE Line-Dancing Lessons! \nEvery Tuesday at 7:00PM in Elements Lounge \nThere will be 2-hour lessons\, and beginners are welcome. \nInstructors Cass Gould and Katie Wilder teach all your favorite line dances from “The Wolf” to “Bury Me in Georgia”.
URL:https://sevenfeathers.com/event/line-dancing-2/2025-02-18/
LOCATION:Elements Lounge\, 146 Chief Miwaleta Ln\, Canyonville\, OR\, 97417\, United States
CATEGORIES:Entertainment,Ongoing
END:VEVENT
BEGIN:VEVENT
DTSTART;TZID=America/Los_Angeles:20250220T000000
DTEND;TZID=America/Los_Angeles:20250220T235959
DTSTAMP:20260424T005800
CREATED:20250128T193405Z
LAST-MODIFIED:20250128T193737Z
UID:10008638-1740009600-1740095999@sevenfeathers.com
SUMMARY:Senior Day Slot Tournament Sprint
DESCRIPTION:Thursdays in 2025\, guests ages 55 and over must earn 100 Players Club points to qualify for the Slot Tournament Sprint. Qualifying guests can pick a friend to participate with them! Your friend does not have to earn points to qualify\, and must be 21 or older to participate. \nBegin earning points at 7:00AM\, on the tournament day. Registration begins at 9:00AM. \nSlot Tournament Sprint is every 15 minutes\, 4:00 – 6:30PM. \nTop 10 places paid each Thursday\, and you could win up to $1\,000 in cash! \nFirst Place – $1\,000 Cash \nSecond Place – $500 Cash \nThird Place – $300 Free Slot Play \nFourth Place – $200 Free Slot Play \nFifth Place – $150 Free Slot Play \nSixth – Tenth Places – $100 Free Slot Play \nVisit Players Club for details. \nManagement reserves the right to change or cancel any promotion without notice.
URL:https://sevenfeathers.com/event/senior-day-slot-tournament-sprint-2/2025-02-20/
LOCATION:OR
CATEGORIES:Ongoing,Promotions
END:VEVENT
BEGIN:VEVENT
DTSTART;TZID=America/Los_Angeles:20250223T190000
DTEND;TZID=America/Los_Angeles:20250223T200000
DTSTAMP:20260424T005800
CREATED:20250401T204520Z
LAST-MODIFIED:20260101T040356Z
UID:10008856-1740337200-1740340800@sevenfeathers.com
SUMMARY:DJ Trivia in Elements
DESCRIPTION:Play DJ Trivia with us weekly for a chance to win fun prizes! Participation is free and registration begins at 6:45PM.
URL:https://sevenfeathers.com/event/dj-trivia-3-2/2025-02-23/
LOCATION:Elements Lounge\, 146 Chief Miwaleta Ln\, Canyonville\, OR\, 97417\, United States
CATEGORIES:Entertainment,Ongoing
END:VEVENT
BEGIN:VEVENT
DTSTART;TZID=America/Los_Angeles:20250226T170000
DTEND;TZID=America/Los_Angeles:20250226T200000
DTSTAMP:20260424T005800
CREATED:20250128T194412Z
LAST-MODIFIED:20251119T193015Z
UID:10008658-1740589200-1740600000@sevenfeathers.com
SUMMARY:Jackpot Club Slot Tournaments
DESCRIPTION:Win a Jackpot to be eligible! \nTournaments are on the last Wednesday of every month. Qualifying Rounds are from 5:00 to 6:00PM and 7:00 to 8:00PM. \nTop five places paid from all session times on each tournament day\, where you could win up to $2\,000 cash! \nSemi-Annual Championships are on June 29 and December 28. All qualifying participants are eligible for the Semi-Annual Championship. \nQualifying Rounds are from 10:00AM to Noon and 2:00 to 4:00PM. The Championship Round is at 5:00PM. \nTop 20 places are paid and you could win up to $10\,000 CASH and a custom-order leather logo jacket (valued up to $200)! \nVisit Players Club for details. \nManagement reserves the right to change or cancel any promotion without notice.
URL:https://sevenfeathers.com/event/jackpot-club-slot-tournaments-2/2025-02-26/
LOCATION:OR
CATEGORIES:Ongoing,Promotions
ATTACH;FMTTYPE=image/jpeg:https://sevenfeathers.com/wp-content/uploads/2024/06/7F-Jackpot-Club-Slot-Tournament-1920x1080-WEB.jpg
END:VEVENT
BEGIN:VEVENT
DTSTART;TZID=America/Los_Angeles:20260106T000000
DTEND;TZID=America/Los_Angeles:20260106T235900
DTSTAMP:20260424T005800
CREATED:20251231T004710Z
LAST-MODIFIED:20260102T204332Z
UID:10012801-1767657600-1767743940@sevenfeathers.com
SUMMARY:American Hero Day
DESCRIPTION:Every Tuesday at Seven Feathers Casino Resort \nVeterans get your Seven Feathers American Hero card and enjoy the following: \nOn American Hero Day card holders receive a free ice cream (in a bowl or regular cone) with a choice of topping at Takelma. \nJust swipe in at a Players Club Kiosk to receive your ice cream coupon\, redeemable that day from 7:00AM to 10:00PM\, along with $10 in Free Slot Play\, 15% off of qualifying purchases in the Gift Gallery & 10% off your meal in Cow Creek Restaurant or Stix Bar & Grill\, every Tuesday\, from 8:00AM – 8:00PM. \nIt’s free to sign up. Visit the Players Club for more information.
URL:https://sevenfeathers.com/event/american-hero-day-2/2026-01-06/
LOCATION:OR
CATEGORIES:Ongoing,Promotions
ATTACH;FMTTYPE=image/jpeg:https://sevenfeathers.com/wp-content/uploads/2025/12/7F-American-Hero-Day-2025-1920x1080-WEB-1.jpg
END:VEVENT
BEGIN:VEVENT
DTSTART;TZID=America/Los_Angeles:20260304T183000
DTEND;TZID=America/Los_Angeles:20260305T010000
DTSTAMP:20260424T005800
CREATED:20260227T185310Z
LAST-MODIFIED:20260312T201243Z
UID:10013191-1772649000-1772672400@sevenfeathers.com
SUMMARY:March Elements Lounge Events
DESCRIPTION:Be our guest\, admission is free to all of these events throughout the month! \nMarch 4 – Open Jam Night – signups begin at 6:30PM \nMarch 6 & 7 – Roll On – 9:00PM – 1:00AM \nMarch 11 – Bri Marie – 7:00PM – 11:00PM \nMarch 13 & 14 – Strawberry Roan – 9:00PM – 1:00AM \nMarch 20 & 21 – The Koz – 9:00PM – 1:00AM \nMarch 25 – Karaoke Night – 7:00PM – 10:00 PM \nMarch 27 & 28 – Code Red – 9:00PM – 1:00AM \nAll attendees must be 21 or older. Hours and performers are subject to change.
URL:https://sevenfeathers.com/event/march-elements-lounge-events/2026-03-04/
LOCATION:Elements Lounge\, 146 Chief Miwaleta Ln\, Canyonville\, OR\, 97417\, United States
CATEGORIES:Entertainment,Ongoing
ATTACH;FMTTYPE=image/jpeg:https://sevenfeathers.com/wp-content/uploads/2026/02/Slide-8.jpg
END:VEVENT
END:VCALENDAR