BEGIN:VCALENDAR
VERSION:2.0
PRODID:-//Seven Feathers Casino - ECPv6.15.16//NONSGML v1.0//EN
CALSCALE:GREGORIAN
METHOD:PUBLISH
X-WR-CALNAME:Seven Feathers Casino
X-ORIGINAL-URL:https://sevenfeathers.com
X-WR-CALDESC:Events for Seven Feathers Casino
REFRESH-INTERVAL;VALUE=DURATION:PT1H
X-Robots-Tag:noindex
X-PUBLISHED-TTL:PT1H
BEGIN:VTIMEZONE
TZID:America/Los_Angeles
BEGIN:DAYLIGHT
TZOFFSETFROM:-0800
TZOFFSETTO:-0700
TZNAME:PDT
DTSTART:20230312T100000
END:DAYLIGHT
BEGIN:STANDARD
TZOFFSETFROM:-0700
TZOFFSETTO:-0800
TZNAME:PST
DTSTART:20231105T090000
END:STANDARD
BEGIN:DAYLIGHT
TZOFFSETFROM:-0800
TZOFFSETTO:-0700
TZNAME:PDT
DTSTART:20240310T100000
END:DAYLIGHT
BEGIN:STANDARD
TZOFFSETFROM:-0700
TZOFFSETTO:-0800
TZNAME:PST
DTSTART:20241103T090000
END:STANDARD
BEGIN:DAYLIGHT
TZOFFSETFROM:-0800
TZOFFSETTO:-0700
TZNAME:PDT
DTSTART:20250309T100000
END:DAYLIGHT
BEGIN:STANDARD
TZOFFSETFROM:-0700
TZOFFSETTO:-0800
TZNAME:PST
DTSTART:20251102T090000
END:STANDARD
END:VTIMEZONE
BEGIN:VEVENT
DTSTART;TZID=America/Los_Angeles:20240620T193000
DTEND;TZID=America/Los_Angeles:20240620T210000
DTSTAMP:20260420T163919
CREATED:20240502T170047Z
LAST-MODIFIED:20240529T235725Z
UID:10006074-1718911800-1718917200@sevenfeathers.com
SUMMARY:A Legendary Night
DESCRIPTION:Act: Joey Fatone & AJ McLean: A Legendary Night \nDate: Thursday\, June 20\, 2024 \nDoors open at 6:00PM. \nThe show starts at 7:30PM. \nThis event is open to all ages\, so bring your family! \n$80 Super Fan Pit. \n$70 Premier General Admission. \nTickets are on sale now. Purchase tickets in person at the Gift Gallery\, online at sevenfeathers.com or call Etix at 800.514.3849. Etix is the sole ticket provider for all Seven Feathers Casino Resort events. Not responsible for third party ticket sales. \nClick here to buy tickets.
URL:https://sevenfeathers.com/event/a-legendary-night/
LOCATION:South Parking Lot
CATEGORIES:Entertainment,Exit 99 Landing Page Events
END:VEVENT
BEGIN:VEVENT
DTSTART;TZID=America/Los_Angeles:20240622T110000
DTEND;TZID=America/Los_Angeles:20240622T180000
DTSTAMP:20260420T163919
CREATED:20240429T164544Z
LAST-MODIFIED:20240429T164544Z
UID:10005317-1719054000-1719079200@sevenfeathers.com
SUMMARY:Squatchee Fest
DESCRIPTION:Seven Feathers’ Squatchee Fest \n\nSaturday\, June 22 from 11:00AM to 6:00PM. \nThis is a free Outdoor Event in the South Parking Lot. It is open to all ages. \n\nEnjoy fine Craft Beer\, Food Trucks and Live Music. \n\nActs will be: \nBad Reputation at Noon & 4:00PM \nBrady Goss at 2:00PM
URL:https://sevenfeathers.com/event/squatchee-fest/
LOCATION:South Parking Lot
CATEGORIES:Entertainment,Exit 99 Landing Page Events
ATTACH;FMTTYPE=image/jpeg:https://sevenfeathers.com/wp-content/uploads/2024/04/Squatchee-Fest-2024-1920x1080-WEB.jpg
END:VEVENT
END:VCALENDAR