BEGIN:VCALENDAR
VERSION:2.0
PRODID:-//Seven Feathers Casino - ECPv6.15.16//NONSGML v1.0//EN
CALSCALE:GREGORIAN
METHOD:PUBLISH
X-ORIGINAL-URL:https://sevenfeathers.com
X-WR-CALDESC:Events for Seven Feathers Casino
REFRESH-INTERVAL;VALUE=DURATION:PT1H
X-Robots-Tag:noindex
X-PUBLISHED-TTL:PT1H
BEGIN:VTIMEZONE
TZID:America/Los_Angeles
BEGIN:DAYLIGHT
TZOFFSETFROM:-0800
TZOFFSETTO:-0700
TZNAME:PDT
DTSTART:20250309T100000
END:DAYLIGHT
BEGIN:STANDARD
TZOFFSETFROM:-0700
TZOFFSETTO:-0800
TZNAME:PST
DTSTART:20251102T090000
END:STANDARD
BEGIN:DAYLIGHT
TZOFFSETFROM:-0800
TZOFFSETTO:-0700
TZNAME:PDT
DTSTART:20260308T100000
END:DAYLIGHT
BEGIN:STANDARD
TZOFFSETFROM:-0700
TZOFFSETTO:-0800
TZNAME:PST
DTSTART:20261101T090000
END:STANDARD
BEGIN:DAYLIGHT
TZOFFSETFROM:-0800
TZOFFSETTO:-0700
TZNAME:PDT
DTSTART:20270314T100000
END:DAYLIGHT
BEGIN:STANDARD
TZOFFSETFROM:-0700
TZOFFSETTO:-0800
TZNAME:PST
DTSTART:20271107T090000
END:STANDARD
END:VTIMEZONE
BEGIN:VEVENT
DTSTART;TZID=America/Los_Angeles:20260513T190000
DTEND;TZID=America/Los_Angeles:20260513T210000
DTSTAMP:20260424T014348
CREATED:20260325T224814Z
LAST-MODIFIED:20260325T231829Z
UID:10014127-1778698800-1778706000@sevenfeathers.com
SUMMARY:Single Mingle in Elements Lounge
DESCRIPTION:Wednesday\, May 13 from 7:00 to 9:00PM. \n  \nAdmission is $10 at the door\, but it is half price if you bring a friend. \n  \nCome and enjoy music from DJ Ron\, Tapas\, Games\, Prizes\, and more! \n  \nAdmission includes tapas. Must be 21 or older.
URL:https://sevenfeathers.com/event/single-mingle-in-elements-lounge/
LOCATION:Elements Lounge\, 146 Chief Miwaleta Ln\, Canyonville\, OR\, 97417\, United States
CATEGORIES:Entertainment
ATTACH;FMTTYPE=image/jpeg:https://sevenfeathers.com/wp-content/uploads/2026/03/7F-Elements-Lounge-Single-Mingle-1920x1080-1.jpg
END:VEVENT
BEGIN:VEVENT
DTSTART;TZID=America/Los_Angeles:20260514T150000
DTEND;TZID=America/Los_Angeles:20260514T230000
DTSTAMP:20260424T014348
CREATED:20260422T224803Z
LAST-MODIFIED:20260423T163619Z
UID:10014282-1778770800-1778799600@sevenfeathers.com
SUMMARY:Bubbles and Funk in Steelhead Lounge
DESCRIPTION:Join the fun starting on April 30! \nEvery Thursday & Sunday from 3:00 to 11:00PM. \nEvery Friday & Saturday from 3:00PM to 2:00AM. \n  \nEnjoy your funky music favorites from a live DJ on Fridays & Saturdays from 8:00PM to Midnight. \n  \nBubbles and Funk will include Champagne Features\, Signature Cocktails\, Sparkling Wines\, Drop Beats and the Feel of Funk!
URL:https://sevenfeathers.com/event/bubbles-and-funk-in-steelhead-lounge-2/2026-05-14/
LOCATION:Steelhead Lounge\, 146 Chief Miwaleta Ln\, Canyonville\, OR\, 97417\, United States
CATEGORIES:Entertainment
ATTACH;FMTTYPE=image/jpeg:https://sevenfeathers.com/wp-content/uploads/2026/04/7F-Bubbles-and-Funk-2026-1920x1080-WEB-1.jpg
END:VEVENT
BEGIN:VEVENT
DTSTART;TZID=America/Los_Angeles:20260514T190000
DTEND;TZID=America/Los_Angeles:20260514T220000
DTSTAMP:20260424T014348
CREATED:20260101T035427Z
LAST-MODIFIED:20260102T204239Z
UID:10012835-1778785200-1778796000@sevenfeathers.com
SUMMARY:Line Dancing in Elements
DESCRIPTION:Every Thursday at 7:00PM. \n  \nCome join us each week for free Line-Dancing lessons! \n  \n2-hour lessons\, and Beginners are welcome. \n  \nMust be 21 or older.
URL:https://sevenfeathers.com/event/line-dancing-in-elements/2026-05-14/
LOCATION:Elements Lounge\, 146 Chief Miwaleta Ln\, Canyonville\, OR\, 97417\, United States
CATEGORIES:Entertainment
ATTACH;FMTTYPE=image/jpeg:https://sevenfeathers.com/wp-content/uploads/2025/12/Line-Dancing-in-Elements-2026-1920x1080-1.jpg
END:VEVENT
BEGIN:VEVENT
DTSTART;TZID=America/Los_Angeles:20260515T150000
DTEND;TZID=America/Los_Angeles:20260516T020000
DTSTAMP:20260424T014348
CREATED:20260422T225118Z
LAST-MODIFIED:20260423T163607Z
UID:10014338-1778857200-1778896800@sevenfeathers.com
SUMMARY:Bubbles and Funk in Steelhead Lounge
DESCRIPTION:Join the fun starting on April 30! \nEvery Thursday & Sunday from 3:00 to 11:00PM. \nEvery Friday & Saturday from 3:00PM to 2:00AM. \n  \nEnjoy your funky music favorites from a live DJ on Fridays & Saturdays from 8:00PM to Midnight. \n  \nBubbles and Funk will include Champagne Features\, Signature Cocktails\, Sparkling Wines\, Drop Beats and the Feel of Funk!
URL:https://sevenfeathers.com/event/bubbles-and-funk-in-steelhead-lounge-3/2026-05-15/
LOCATION:Steelhead Lounge\, 146 Chief Miwaleta Ln\, Canyonville\, OR\, 97417\, United States
CATEGORIES:Entertainment
ATTACH;FMTTYPE=image/jpeg:https://sevenfeathers.com/wp-content/uploads/2026/04/7F-Bubbles-and-Funk-2026-1920x1080-WEB-1.jpg
END:VEVENT
BEGIN:VEVENT
DTSTART;TZID=America/Los_Angeles:20260516T150000
DTEND;TZID=America/Los_Angeles:20260517T020000
DTSTAMP:20260424T014348
CREATED:20260422T224641Z
LAST-MODIFIED:20260423T163629Z
UID:10014296-1778943600-1778983200@sevenfeathers.com
SUMMARY:Bubbles and Funk in Steelhead Lounge
DESCRIPTION:Join the fun starting on April 30! \nEvery Thursday & Sunday from 3:00 to 11:00PM. \nEvery Friday & Saturday from 3:00PM to 2:00AM. \n  \nEnjoy your funky music favorites from a live DJ on Fridays & Saturdays from 8:00PM to Midnight. \n  \nBubbles and Funk will include Champagne Features\, Signature Cocktails\, Sparkling Wines\, Drop Beats and the Feel of Funk!
URL:https://sevenfeathers.com/event/bubbles-and-funk-in-steelhead-lounge/2026-05-16/
LOCATION:Steelhead Lounge\, 146 Chief Miwaleta Ln\, Canyonville\, OR\, 97417\, United States
CATEGORIES:Entertainment
ATTACH;FMTTYPE=image/jpeg:https://sevenfeathers.com/wp-content/uploads/2026/04/7F-Bubbles-and-Funk-2026-1920x1080-WEB-1.jpg
END:VEVENT
BEGIN:VEVENT
DTSTART;TZID=America/Los_Angeles:20260517T150000
DTEND;TZID=America/Los_Angeles:20260517T230000
DTSTAMP:20260424T014348
CREATED:20260422T225137Z
LAST-MODIFIED:20260423T163557Z
UID:10014352-1779030000-1779058800@sevenfeathers.com
SUMMARY:Bubbles and Funk in Steelhead Lounge
DESCRIPTION:Join the fun starting on April 30! \nEvery Thursday & Sunday from 3:00 to 11:00PM. \nEvery Friday & Saturday from 3:00PM to 2:00AM. \n  \nEnjoy your funky music favorites from a live DJ on Fridays & Saturdays from 8:00PM to Midnight. \n  \nBubbles and Funk will include Champagne Features\, Signature Cocktails\, Sparkling Wines\, Drop Beats and the Feel of Funk!
URL:https://sevenfeathers.com/event/bubbles-and-funk-in-steelhead-lounge-4/2026-05-17/
LOCATION:Steelhead Lounge\, 146 Chief Miwaleta Ln\, Canyonville\, OR\, 97417\, United States
CATEGORIES:Entertainment
ATTACH;FMTTYPE=image/jpeg:https://sevenfeathers.com/wp-content/uploads/2026/04/7F-Bubbles-and-Funk-2026-1920x1080-WEB-1.jpg
END:VEVENT
BEGIN:VEVENT
DTSTART;TZID=America/Los_Angeles:20260517T190000
DTEND;TZID=America/Los_Angeles:20260517T200000
DTSTAMP:20260424T014348
CREATED:20250401T204520Z
LAST-MODIFIED:20260101T040356Z
UID:10012887-1779044400-1779048000@sevenfeathers.com
SUMMARY:DJ Trivia in Elements
DESCRIPTION:Play DJ Trivia with us weekly for a chance to win fun prizes! Participation is free and registration begins at 6:45PM.
URL:https://sevenfeathers.com/event/dj-trivia-3-2/2026-05-17/
LOCATION:Elements Lounge\, 146 Chief Miwaleta Ln\, Canyonville\, OR\, 97417\, United States
CATEGORIES:Entertainment,Ongoing
END:VEVENT
END:VCALENDAR