BEGIN:VCALENDAR
VERSION:2.0
PRODID:-//Seven Feathers Casino - ECPv6.15.16//NONSGML v1.0//EN
CALSCALE:GREGORIAN
METHOD:PUBLISH
X-WR-CALNAME:Seven Feathers Casino
X-ORIGINAL-URL:https://sevenfeathers.com
X-WR-CALDESC:Events for Seven Feathers Casino
REFRESH-INTERVAL;VALUE=DURATION:PT1H
X-Robots-Tag:noindex
X-PUBLISHED-TTL:PT1H
BEGIN:VTIMEZONE
TZID:America/Los_Angeles
BEGIN:DAYLIGHT
TZOFFSETFROM:-0800
TZOFFSETTO:-0700
TZNAME:PDT
DTSTART:20250309T100000
END:DAYLIGHT
BEGIN:STANDARD
TZOFFSETFROM:-0700
TZOFFSETTO:-0800
TZNAME:PST
DTSTART:20251102T090000
END:STANDARD
BEGIN:DAYLIGHT
TZOFFSETFROM:-0800
TZOFFSETTO:-0700
TZNAME:PDT
DTSTART:20260308T100000
END:DAYLIGHT
BEGIN:STANDARD
TZOFFSETFROM:-0700
TZOFFSETTO:-0800
TZNAME:PST
DTSTART:20261101T090000
END:STANDARD
BEGIN:DAYLIGHT
TZOFFSETFROM:-0800
TZOFFSETTO:-0700
TZNAME:PDT
DTSTART:20270314T100000
END:DAYLIGHT
BEGIN:STANDARD
TZOFFSETFROM:-0700
TZOFFSETTO:-0800
TZNAME:PST
DTSTART:20271107T090000
END:STANDARD
END:VTIMEZONE
BEGIN:VEVENT
DTSTART;TZID=America/Los_Angeles:20260430T160000
DTEND;TZID=America/Los_Angeles:20260430T230000
DTSTAMP:20260423T163303
CREATED:20260423T163402Z
LAST-MODIFIED:20260423T163517Z
UID:10014377-1777564800-1777590000@sevenfeathers.com
SUMMARY:Bubbles and Funk Opening Night
DESCRIPTION:Join the fun starting on April 30\, and get a the first experience of Bubbles and Funk! \nThere will be a VIP mixer from 4:00 to 5:00PM. \nA public Mix and Mingle will take place from 5:00 to 11:00PM. We will have a live DJ from 4:00 to 11:PM for this opening night event. \n  \nEnjoy your funky music favorites from a live DJ on Fridays & Saturdays from 8:00PM to Midnight. \n  \nBubbles and Funk will include Champagne Features\, Signature Cocktails\, Sparkling Wines\, Drop Beats and the Feel of Funk!
URL:https://sevenfeathers.com/event/bubbles-and-funk-opening-night/
LOCATION:Steelhead Lounge\, 146 Chief Miwaleta Ln\, Canyonville\, OR\, 97417\, United States
CATEGORIES:Entertainment
ATTACH;FMTTYPE=image/jpeg:https://sevenfeathers.com/wp-content/uploads/2026/04/7F-Bubbles-and-Funk-2026-1920x1080-WEB-1.jpg
END:VEVENT
BEGIN:VEVENT
DTSTART;TZID=America/Los_Angeles:20260430T190000
DTEND;TZID=America/Los_Angeles:20260430T220000
DTSTAMP:20260423T163303
CREATED:20260101T035427Z
LAST-MODIFIED:20260102T204239Z
UID:10012833-1777575600-1777586400@sevenfeathers.com
SUMMARY:Line Dancing in Elements
DESCRIPTION:Every Thursday at 7:00PM. \n  \nCome join us each week for free Line-Dancing lessons! \n  \n2-hour lessons\, and Beginners are welcome. \n  \nMust be 21 or older.
URL:https://sevenfeathers.com/event/line-dancing-in-elements/2026-04-30/
LOCATION:Elements Lounge\, 146 Chief Miwaleta Ln\, Canyonville\, OR\, 97417\, United States
CATEGORIES:Entertainment
ATTACH;FMTTYPE=image/jpeg:https://sevenfeathers.com/wp-content/uploads/2025/12/Line-Dancing-in-Elements-2026-1920x1080-1.jpg
END:VEVENT
BEGIN:VEVENT
DTSTART;TZID=America/Los_Angeles:20260501T150000
DTEND;TZID=America/Los_Angeles:20260502T020000
DTSTAMP:20260423T163303
CREATED:20260422T225118Z
LAST-MODIFIED:20260423T163607Z
UID:10014336-1777647600-1777687200@sevenfeathers.com
SUMMARY:Bubbles and Funk in Steelhead Lounge
DESCRIPTION:Join the fun starting on April 30! \nEvery Thursday & Sunday from 3:00 to 11:00PM. \nEvery Friday & Saturday from 3:00PM to 2:00AM. \n  \nEnjoy your funky music favorites from a live DJ on Fridays & Saturdays from 8:00PM to Midnight. \n  \nBubbles and Funk will include Champagne Features\, Signature Cocktails\, Sparkling Wines\, Drop Beats and the Feel of Funk!
URL:https://sevenfeathers.com/event/bubbles-and-funk-in-steelhead-lounge-3/2026-05-01/
LOCATION:Steelhead Lounge\, 146 Chief Miwaleta Ln\, Canyonville\, OR\, 97417\, United States
CATEGORIES:Entertainment
ATTACH;FMTTYPE=image/jpeg:https://sevenfeathers.com/wp-content/uploads/2026/04/7F-Bubbles-and-Funk-2026-1920x1080-WEB-1.jpg
END:VEVENT
BEGIN:VEVENT
DTSTART;TZID=America/Los_Angeles:20260502T150000
DTEND;TZID=America/Los_Angeles:20260503T020000
DTSTAMP:20260423T163303
CREATED:20260422T224641Z
LAST-MODIFIED:20260423T163629Z
UID:10014294-1777734000-1777773600@sevenfeathers.com
SUMMARY:Bubbles and Funk in Steelhead Lounge
DESCRIPTION:Join the fun starting on April 30! \nEvery Thursday & Sunday from 3:00 to 11:00PM. \nEvery Friday & Saturday from 3:00PM to 2:00AM. \n  \nEnjoy your funky music favorites from a live DJ on Fridays & Saturdays from 8:00PM to Midnight. \n  \nBubbles and Funk will include Champagne Features\, Signature Cocktails\, Sparkling Wines\, Drop Beats and the Feel of Funk!
URL:https://sevenfeathers.com/event/bubbles-and-funk-in-steelhead-lounge/2026-05-02/
LOCATION:Steelhead Lounge\, 146 Chief Miwaleta Ln\, Canyonville\, OR\, 97417\, United States
CATEGORIES:Entertainment
ATTACH;FMTTYPE=image/jpeg:https://sevenfeathers.com/wp-content/uploads/2026/04/7F-Bubbles-and-Funk-2026-1920x1080-WEB-1.jpg
END:VEVENT
BEGIN:VEVENT
DTSTART;TZID=America/Los_Angeles:20260503T150000
DTEND;TZID=America/Los_Angeles:20260503T230000
DTSTAMP:20260423T163303
CREATED:20260422T225137Z
LAST-MODIFIED:20260423T163557Z
UID:10014350-1777820400-1777849200@sevenfeathers.com
SUMMARY:Bubbles and Funk in Steelhead Lounge
DESCRIPTION:Join the fun starting on April 30! \nEvery Thursday & Sunday from 3:00 to 11:00PM. \nEvery Friday & Saturday from 3:00PM to 2:00AM. \n  \nEnjoy your funky music favorites from a live DJ on Fridays & Saturdays from 8:00PM to Midnight. \n  \nBubbles and Funk will include Champagne Features\, Signature Cocktails\, Sparkling Wines\, Drop Beats and the Feel of Funk!
URL:https://sevenfeathers.com/event/bubbles-and-funk-in-steelhead-lounge-4/2026-05-03/
LOCATION:Steelhead Lounge\, 146 Chief Miwaleta Ln\, Canyonville\, OR\, 97417\, United States
CATEGORIES:Entertainment
ATTACH;FMTTYPE=image/jpeg:https://sevenfeathers.com/wp-content/uploads/2026/04/7F-Bubbles-and-Funk-2026-1920x1080-WEB-1.jpg
END:VEVENT
BEGIN:VEVENT
DTSTART;TZID=America/Los_Angeles:20260503T190000
DTEND;TZID=America/Los_Angeles:20260503T200000
DTSTAMP:20260423T163303
CREATED:20250401T204520Z
LAST-MODIFIED:20260101T040356Z
UID:10012885-1777834800-1777838400@sevenfeathers.com
SUMMARY:DJ Trivia in Elements
DESCRIPTION:Play DJ Trivia with us weekly for a chance to win fun prizes! Participation is free and registration begins at 6:45PM.
URL:https://sevenfeathers.com/event/dj-trivia-3-2/2026-05-03/
LOCATION:Elements Lounge\, 146 Chief Miwaleta Ln\, Canyonville\, OR\, 97417\, United States
CATEGORIES:Entertainment,Ongoing
END:VEVENT
END:VCALENDAR