BEGIN:VCALENDAR
VERSION:2.0
PRODID:-//Seven Feathers Casino - ECPv6.15.16//NONSGML v1.0//EN
CALSCALE:GREGORIAN
METHOD:PUBLISH
X-WR-CALNAME:Seven Feathers Casino
X-ORIGINAL-URL:https://sevenfeathers.com
X-WR-CALDESC:Events for Seven Feathers Casino
REFRESH-INTERVAL;VALUE=DURATION:PT1H
X-Robots-Tag:noindex
X-PUBLISHED-TTL:PT1H
BEGIN:VTIMEZONE
TZID:America/Los_Angeles
BEGIN:DAYLIGHT
TZOFFSETFROM:-0800
TZOFFSETTO:-0700
TZNAME:PDT
DTSTART:20240310T100000
END:DAYLIGHT
BEGIN:STANDARD
TZOFFSETFROM:-0700
TZOFFSETTO:-0800
TZNAME:PST
DTSTART:20241103T090000
END:STANDARD
BEGIN:DAYLIGHT
TZOFFSETFROM:-0800
TZOFFSETTO:-0700
TZNAME:PDT
DTSTART:20250309T100000
END:DAYLIGHT
BEGIN:STANDARD
TZOFFSETFROM:-0700
TZOFFSETTO:-0800
TZNAME:PST
DTSTART:20251102T090000
END:STANDARD
BEGIN:DAYLIGHT
TZOFFSETFROM:-0800
TZOFFSETTO:-0700
TZNAME:PDT
DTSTART:20260308T100000
END:DAYLIGHT
BEGIN:STANDARD
TZOFFSETFROM:-0700
TZOFFSETTO:-0800
TZNAME:PST
DTSTART:20261101T090000
END:STANDARD
END:VTIMEZONE
BEGIN:VEVENT
DTSTART;TZID=America/Los_Angeles:20250415T190000
DTEND;TZID=America/Los_Angeles:20250415T220000
DTSTAMP:20260419T093051
CREATED:20250401T204839Z
LAST-MODIFIED:20260102T204146Z
UID:10008914-1744743600-1744754400@sevenfeathers.com
SUMMARY:Line Dancing
DESCRIPTION:FREE Line-Dancing Lessons! \nEvery Tuesday at 7:00PM in Elements Lounge \nThere will be 2-hour lessons\, and beginners are welcome. \nInstructors Cass Gould and Katie Wilder teach all your favorite line dances from “The Wolf” to “Bury Me in Georgia”.
URL:https://sevenfeathers.com/event/line-dancing-2/2025-04-15/
LOCATION:Elements Lounge
CATEGORIES:Entertainment,Ongoing
END:VEVENT
BEGIN:VEVENT
DTSTART;TZID=America/Los_Angeles:20250416T190000
DTEND;TZID=America/Los_Angeles:20250416T230000
DTSTAMP:20260419T093051
CREATED:20241017T165542Z
LAST-MODIFIED:20250411T211659Z
UID:10008983-1744830000-1744844400@sevenfeathers.com
SUMMARY:Aurora
DESCRIPTION:Enjoy a night of free live music with Aurora! \nAdmission is free. Must be 21 or older. Hours and performers subject to change.
URL:https://sevenfeathers.com/event/aurora-9-2/2025-04-16/
LOCATION:Elements Lounge
CATEGORIES:Entertainment
END:VEVENT
BEGIN:VEVENT
DTSTART;TZID=America/Los_Angeles:20250417T190000
DTEND;TZID=America/Los_Angeles:20250417T230000
DTSTAMP:20260419T093051
CREATED:20241017T165542Z
LAST-MODIFIED:20250411T211659Z
UID:10008984-1744916400-1744930800@sevenfeathers.com
SUMMARY:Aurora
DESCRIPTION:Enjoy a night of free live music with Aurora! \nAdmission is free. Must be 21 or older. Hours and performers subject to change.
URL:https://sevenfeathers.com/event/aurora-9-2/2025-04-17/
LOCATION:Elements Lounge
CATEGORIES:Entertainment
END:VEVENT
BEGIN:VEVENT
DTSTART;TZID=America/Los_Angeles:20250418T210000
DTEND;TZID=America/Los_Angeles:20250419T010000
DTSTAMP:20260419T093051
CREATED:20250411T211821Z
LAST-MODIFIED:20250411T212046Z
UID:10007945-1745010000-1745024400@sevenfeathers.com
SUMMARY:Aurora
DESCRIPTION:Enjoy a night of free live music with Aurora! \nAdmission is free. Must be 21 or older. Hours and performers subject to change.
URL:https://sevenfeathers.com/event/aurora-9-3/2025-04-18/
LOCATION:Elements Lounge
CATEGORIES:Entertainment
END:VEVENT
BEGIN:VEVENT
DTSTART;TZID=America/Los_Angeles:20250419T190000
DTEND;TZID=America/Los_Angeles:20250419T203000
DTSTAMP:20260419T093051
CREATED:20250116T033617Z
LAST-MODIFIED:20250205T174438Z
UID:10008296-1745089200-1745094600@sevenfeathers.com
SUMMARY:Forever Seger
DESCRIPTION:Join us Saturday\, April 19th at 7:00PM for Forever Seger! \nTickets are on sale now! Reserved Regular Seating is $25\, Reserved Table Seating is $30\, and our Premiere Reserved Table Seating is $40 \n \nPurchase tickets in person at the Gift Gallery\, by clicking here\, or calling Etix at 800.514.3849. Etix is the sole ticket provider for all Seven Feathers Casino Resort events. Not responsible for third party ticket sales. Doors open at 6:00PM. Must be 21 or older. Concert Attendees – due to venue configuration\, standing during the concert can be expected\, please be sensitive to the mobility impaired that may surround your seat.
URL:https://sevenfeathers.com/event/forever-seger/
LOCATION:Umpqua Grand Ballroom
CATEGORIES:Entertainment
END:VEVENT
BEGIN:VEVENT
DTSTART;TZID=America/Los_Angeles:20250419T210000
DTEND;TZID=America/Los_Angeles:20250420T010000
DTSTAMP:20260419T093051
CREATED:20250411T211821Z
LAST-MODIFIED:20250411T212046Z
UID:10009350-1745096400-1745110800@sevenfeathers.com
SUMMARY:Aurora
DESCRIPTION:Enjoy a night of free live music with Aurora! \nAdmission is free. Must be 21 or older. Hours and performers subject to change.
URL:https://sevenfeathers.com/event/aurora-9-3/2025-04-19/
LOCATION:Elements Lounge
CATEGORIES:Entertainment
END:VEVENT
BEGIN:VEVENT
DTSTART;TZID=America/Los_Angeles:20250420T190000
DTEND;TZID=America/Los_Angeles:20250420T200000
DTSTAMP:20260419T093051
CREATED:20250401T204520Z
LAST-MODIFIED:20260101T040356Z
UID:10008864-1745175600-1745179200@sevenfeathers.com
SUMMARY:DJ Trivia in Elements
DESCRIPTION:Play DJ Trivia with us weekly for a chance to win fun prizes! Participation is free and registration begins at 6:45PM.
URL:https://sevenfeathers.com/event/dj-trivia-3-2/2025-04-20/
LOCATION:Elements Lounge
CATEGORIES:Entertainment,Ongoing
END:VEVENT
END:VCALENDAR