BEGIN:VCALENDAR
VERSION:2.0
PRODID:-//Seven Feathers Casino - ECPv6.15.16//NONSGML v1.0//EN
CALSCALE:GREGORIAN
METHOD:PUBLISH
X-ORIGINAL-URL:https://sevenfeathers.com
X-WR-CALDESC:Events for Seven Feathers Casino
REFRESH-INTERVAL;VALUE=DURATION:PT1H
X-Robots-Tag:noindex
X-PUBLISHED-TTL:PT1H
BEGIN:VTIMEZONE
TZID:America/Los_Angeles
BEGIN:DAYLIGHT
TZOFFSETFROM:-0800
TZOFFSETTO:-0700
TZNAME:PDT
DTSTART:20240310T100000
END:DAYLIGHT
BEGIN:STANDARD
TZOFFSETFROM:-0700
TZOFFSETTO:-0800
TZNAME:PST
DTSTART:20241103T090000
END:STANDARD
BEGIN:DAYLIGHT
TZOFFSETFROM:-0800
TZOFFSETTO:-0700
TZNAME:PDT
DTSTART:20250309T100000
END:DAYLIGHT
BEGIN:STANDARD
TZOFFSETFROM:-0700
TZOFFSETTO:-0800
TZNAME:PST
DTSTART:20251102T090000
END:STANDARD
BEGIN:DAYLIGHT
TZOFFSETFROM:-0800
TZOFFSETTO:-0700
TZNAME:PDT
DTSTART:20260308T100000
END:DAYLIGHT
BEGIN:STANDARD
TZOFFSETFROM:-0700
TZOFFSETTO:-0800
TZNAME:PST
DTSTART:20261101T090000
END:STANDARD
END:VTIMEZONE
BEGIN:VEVENT
DTSTART;TZID=America/Los_Angeles:20250318T190000
DTEND;TZID=America/Los_Angeles:20250318T220000
DTSTAMP:20260419T105150
CREATED:20250401T204839Z
LAST-MODIFIED:20260102T204146Z
UID:10008910-1742324400-1742335200@sevenfeathers.com
SUMMARY:Line Dancing
DESCRIPTION:FREE Line-Dancing Lessons! \nEvery Tuesday at 7:00PM in Elements Lounge \nThere will be 2-hour lessons\, and beginners are welcome. \nInstructors Cass Gould and Katie Wilder teach all your favorite line dances from “The Wolf” to “Bury Me in Georgia”.
URL:https://sevenfeathers.com/event/line-dancing-2/2025-03-18/
LOCATION:Elements Lounge
CATEGORIES:Entertainment,Ongoing
END:VEVENT
BEGIN:VEVENT
DTSTART;TZID=America/Los_Angeles:20250319T190000
DTEND;TZID=America/Los_Angeles:20250319T230000
DTSTAMP:20260419T105150
CREATED:20250228T234925Z
LAST-MODIFIED:20250228T234925Z
UID:10008811-1742410800-1742425200@sevenfeathers.com
SUMMARY:Mike Harrison in the Elements Lounge
DESCRIPTION:Be our guest and enjoy free live music in the Elements Lounge! Mike Harrison will be performing live March 19 & 20! \nMust be 21 or older. Hours and performers are subject to change.
URL:https://sevenfeathers.com/event/mike-harrison-in-the-elements-lounge/2025-03-19/
LOCATION:Elements Lounge
CATEGORIES:Entertainment
END:VEVENT
BEGIN:VEVENT
DTSTART;TZID=America/Los_Angeles:20250320T190000
DTEND;TZID=America/Los_Angeles:20250320T230000
DTSTAMP:20260419T105150
CREATED:20250228T234925Z
LAST-MODIFIED:20250228T234925Z
UID:10008812-1742497200-1742511600@sevenfeathers.com
SUMMARY:Mike Harrison in the Elements Lounge
DESCRIPTION:Be our guest and enjoy free live music in the Elements Lounge! Mike Harrison will be performing live March 19 & 20! \nMust be 21 or older. Hours and performers are subject to change.
URL:https://sevenfeathers.com/event/mike-harrison-in-the-elements-lounge/2025-03-20/
LOCATION:Elements Lounge
CATEGORIES:Entertainment
END:VEVENT
BEGIN:VEVENT
DTSTART;TZID=America/Los_Angeles:20250321T210000
DTEND;TZID=America/Los_Angeles:20250322T010000
DTSTAMP:20260419T105150
CREATED:20250301T000146Z
LAST-MODIFIED:20250301T000146Z
UID:10008827-1742590800-1742605200@sevenfeathers.com
SUMMARY:DJ Marc Eazy in the Elements Lounge
DESCRIPTION:Be our guest and enjoy free live music in the Elements Lounge! DJ Marc Eazy will be performing live March 5 – 8! \nMust be 21 or older. Hours and performers are subject to change.
URL:https://sevenfeathers.com/event/dj-marc-eazy-in-the-elements-lounge/2025-03-21/
LOCATION:Elements Lounge
CATEGORIES:Entertainment
END:VEVENT
BEGIN:VEVENT
DTSTART;TZID=America/Los_Angeles:20250322T210000
DTEND;TZID=America/Los_Angeles:20250323T010000
DTSTAMP:20260419T105150
CREATED:20250301T000146Z
LAST-MODIFIED:20250301T000146Z
UID:10008828-1742677200-1742691600@sevenfeathers.com
SUMMARY:DJ Marc Eazy in the Elements Lounge
DESCRIPTION:Be our guest and enjoy free live music in the Elements Lounge! DJ Marc Eazy will be performing live March 5 – 8! \nMust be 21 or older. Hours and performers are subject to change.
URL:https://sevenfeathers.com/event/dj-marc-eazy-in-the-elements-lounge/2025-03-22/
LOCATION:Elements Lounge
CATEGORIES:Entertainment
END:VEVENT
BEGIN:VEVENT
DTSTART;TZID=America/Los_Angeles:20250323T190000
DTEND;TZID=America/Los_Angeles:20250323T200000
DTSTAMP:20260419T105150
CREATED:20250401T204520Z
LAST-MODIFIED:20260101T040356Z
UID:10008860-1742756400-1742760000@sevenfeathers.com
SUMMARY:DJ Trivia in Elements
DESCRIPTION:Play DJ Trivia with us weekly for a chance to win fun prizes! Participation is free and registration begins at 6:45PM.
URL:https://sevenfeathers.com/event/dj-trivia-3-2/2025-03-23/
LOCATION:Elements Lounge
CATEGORIES:Entertainment,Ongoing
END:VEVENT
END:VCALENDAR