BEGIN:VCALENDAR
VERSION:2.0
PRODID:-//Seven Feathers Casino - ECPv6.15.16//NONSGML v1.0//EN
CALSCALE:GREGORIAN
METHOD:PUBLISH
X-WR-CALNAME:Seven Feathers Casino
X-ORIGINAL-URL:https://sevenfeathers.com
X-WR-CALDESC:Events for Seven Feathers Casino
REFRESH-INTERVAL;VALUE=DURATION:PT1H
X-Robots-Tag:noindex
X-PUBLISHED-TTL:PT1H
BEGIN:VTIMEZONE
TZID:America/Los_Angeles
BEGIN:DAYLIGHT
TZOFFSETFROM:-0800
TZOFFSETTO:-0700
TZNAME:PDT
DTSTART:20240310T100000
END:DAYLIGHT
BEGIN:STANDARD
TZOFFSETFROM:-0700
TZOFFSETTO:-0800
TZNAME:PST
DTSTART:20241103T090000
END:STANDARD
BEGIN:DAYLIGHT
TZOFFSETFROM:-0800
TZOFFSETTO:-0700
TZNAME:PDT
DTSTART:20250309T100000
END:DAYLIGHT
BEGIN:STANDARD
TZOFFSETFROM:-0700
TZOFFSETTO:-0800
TZNAME:PST
DTSTART:20251102T090000
END:STANDARD
BEGIN:DAYLIGHT
TZOFFSETFROM:-0800
TZOFFSETTO:-0700
TZNAME:PDT
DTSTART:20260308T100000
END:DAYLIGHT
BEGIN:STANDARD
TZOFFSETFROM:-0700
TZOFFSETTO:-0800
TZNAME:PST
DTSTART:20261101T090000
END:STANDARD
END:VTIMEZONE
BEGIN:VEVENT
DTSTART;TZID=America/Los_Angeles:20250304T190000
DTEND;TZID=America/Los_Angeles:20250304T220000
DTSTAMP:20260419T104825
CREATED:20250401T204839Z
LAST-MODIFIED:20260102T204146Z
UID:10008908-1741114800-1741125600@sevenfeathers.com
SUMMARY:Line Dancing
DESCRIPTION:FREE Line-Dancing Lessons! \nEvery Tuesday at 7:00PM in Elements Lounge \nThere will be 2-hour lessons\, and beginners are welcome. \nInstructors Cass Gould and Katie Wilder teach all your favorite line dances from “The Wolf” to “Bury Me in Georgia”.
URL:https://sevenfeathers.com/event/line-dancing-2/2025-03-04/
LOCATION:Elements Lounge
CATEGORIES:Entertainment,Ongoing
END:VEVENT
BEGIN:VEVENT
DTSTART;TZID=America/Los_Angeles:20250305T190000
DTEND;TZID=America/Los_Angeles:20250305T230000
DTSTAMP:20260419T104825
CREATED:20250228T234231Z
LAST-MODIFIED:20250228T234231Z
UID:10008803-1741201200-1741215600@sevenfeathers.com
SUMMARY:Strawberry Roan in the Elements Lounge
DESCRIPTION:Be our guest and enjoy free live music in the Elements Lounge! Strawberry Roan will be performing live March 5 – 8! \nMust be 21 or older. Hours and performers are subject to change.
URL:https://sevenfeathers.com/event/strawberry-roan-in-the-elements-lounge/2025-03-05/
LOCATION:Elements Lounge
CATEGORIES:Entertainment
END:VEVENT
BEGIN:VEVENT
DTSTART;TZID=America/Los_Angeles:20250306T190000
DTEND;TZID=America/Los_Angeles:20250306T230000
DTSTAMP:20260419T104825
CREATED:20250228T234231Z
LAST-MODIFIED:20250228T234231Z
UID:10008804-1741287600-1741302000@sevenfeathers.com
SUMMARY:Strawberry Roan in the Elements Lounge
DESCRIPTION:Be our guest and enjoy free live music in the Elements Lounge! Strawberry Roan will be performing live March 5 – 8! \nMust be 21 or older. Hours and performers are subject to change.
URL:https://sevenfeathers.com/event/strawberry-roan-in-the-elements-lounge/2025-03-06/
LOCATION:Elements Lounge
CATEGORIES:Entertainment
END:VEVENT
BEGIN:VEVENT
DTSTART;TZID=America/Los_Angeles:20250307T210000
DTEND;TZID=America/Los_Angeles:20250308T010000
DTSTAMP:20260419T104825
CREATED:20250228T234544Z
LAST-MODIFIED:20250228T234544Z
UID:10008807-1741381200-1741395600@sevenfeathers.com
SUMMARY:Strawberry Roan in the Elements Lounge
DESCRIPTION:Be our guest and enjoy free live music in the Elements Lounge! Strawberry Roan will be performing live March 5 – 8! \nMust be 21 or older. Hours and performers are subject to change.
URL:https://sevenfeathers.com/event/strawberry-roan-in-the-elements-lounge-2/2025-03-07/
LOCATION:Elements Lounge
CATEGORIES:Entertainment
END:VEVENT
BEGIN:VEVENT
DTSTART;TZID=America/Los_Angeles:20250308T190000
DTEND;TZID=America/Los_Angeles:20250308T203000
DTSTAMP:20260419T104825
CREATED:20241212T234224Z
LAST-MODIFIED:20250228T002540Z
UID:10008020-1741460400-1741465800@sevenfeathers.com
SUMMARY:Drake Milligan
DESCRIPTION:Saturday\, March 8 at 7:00PM \nReserved Seating $20\, $25\, $30 \n \nTickets on sale now. Purchase tickets in person at the Gift Gallery\, by clicking here\, or calling Etix at 800.514.3849. Etix is the sole ticket provider for all Seven Feathers Casino Resort events. Not responsible for third party ticket sales. Doors open at 6:00PM. Must be 21 or older. Concert Attendees – due to venue configuration\, standing during the concert can be expected\, please be sensitive to the mobility impaired that may surround your seat.
URL:https://sevenfeathers.com/event/drake-milligan/
LOCATION:Umpqua Grand Ballroom
CATEGORIES:Entertainment
END:VEVENT
BEGIN:VEVENT
DTSTART;TZID=America/Los_Angeles:20250308T210000
DTEND;TZID=America/Los_Angeles:20250309T010000
DTSTAMP:20260419T104825
CREATED:20250228T234544Z
LAST-MODIFIED:20250228T234544Z
UID:10008808-1741467600-1741482000@sevenfeathers.com
SUMMARY:Strawberry Roan in the Elements Lounge
DESCRIPTION:Be our guest and enjoy free live music in the Elements Lounge! Strawberry Roan will be performing live March 5 – 8! \nMust be 21 or older. Hours and performers are subject to change.
URL:https://sevenfeathers.com/event/strawberry-roan-in-the-elements-lounge-2/2025-03-08/
LOCATION:Elements Lounge
CATEGORIES:Entertainment
END:VEVENT
BEGIN:VEVENT
DTSTART;TZID=America/Los_Angeles:20250309T190000
DTEND;TZID=America/Los_Angeles:20250309T200000
DTSTAMP:20260419T104825
CREATED:20250401T204520Z
LAST-MODIFIED:20260101T040356Z
UID:10008858-1741546800-1741550400@sevenfeathers.com
SUMMARY:DJ Trivia in Elements
DESCRIPTION:Play DJ Trivia with us weekly for a chance to win fun prizes! Participation is free and registration begins at 6:45PM.
URL:https://sevenfeathers.com/event/dj-trivia-3-2/2025-03-09/
LOCATION:Elements Lounge
CATEGORIES:Entertainment,Ongoing
END:VEVENT
END:VCALENDAR