BEGIN:VCALENDAR
VERSION:2.0
PRODID:-//Seven Feathers Casino - ECPv6.15.16//NONSGML v1.0//EN
CALSCALE:GREGORIAN
METHOD:PUBLISH
X-WR-CALNAME:Seven Feathers Casino
X-ORIGINAL-URL:https://sevenfeathers.com
X-WR-CALDESC:Events for Seven Feathers Casino
REFRESH-INTERVAL;VALUE=DURATION:PT1H
X-Robots-Tag:noindex
X-PUBLISHED-TTL:PT1H
BEGIN:VTIMEZONE
TZID:America/Los_Angeles
BEGIN:DAYLIGHT
TZOFFSETFROM:-0800
TZOFFSETTO:-0700
TZNAME:PDT
DTSTART:20240310T100000
END:DAYLIGHT
BEGIN:STANDARD
TZOFFSETFROM:-0700
TZOFFSETTO:-0800
TZNAME:PST
DTSTART:20241103T090000
END:STANDARD
BEGIN:DAYLIGHT
TZOFFSETFROM:-0800
TZOFFSETTO:-0700
TZNAME:PDT
DTSTART:20250309T100000
END:DAYLIGHT
BEGIN:STANDARD
TZOFFSETFROM:-0700
TZOFFSETTO:-0800
TZNAME:PST
DTSTART:20251102T090000
END:STANDARD
BEGIN:DAYLIGHT
TZOFFSETFROM:-0800
TZOFFSETTO:-0700
TZNAME:PDT
DTSTART:20260308T100000
END:DAYLIGHT
BEGIN:STANDARD
TZOFFSETFROM:-0700
TZOFFSETTO:-0800
TZNAME:PST
DTSTART:20261101T090000
END:STANDARD
END:VTIMEZONE
BEGIN:VEVENT
DTSTART;TZID=America/Los_Angeles:20250211T190000
DTEND;TZID=America/Los_Angeles:20250211T220000
DTSTAMP:20260419T121917
CREATED:20250401T204839Z
LAST-MODIFIED:20260102T204146Z
UID:10008905-1739300400-1739311200@sevenfeathers.com
SUMMARY:Line Dancing
DESCRIPTION:FREE Line-Dancing Lessons! \nEvery Tuesday at 7:00PM in Elements Lounge \nThere will be 2-hour lessons\, and beginners are welcome. \nInstructors Cass Gould and Katie Wilder teach all your favorite line dances from “The Wolf” to “Bury Me in Georgia”.
URL:https://sevenfeathers.com/event/line-dancing-2/2025-02-11/
LOCATION:Elements Lounge
CATEGORIES:Entertainment,Ongoing
END:VEVENT
BEGIN:VEVENT
DTSTART;TZID=America/Los_Angeles:20250212T190000
DTEND;TZID=America/Los_Angeles:20250212T230000
DTSTAMP:20260419T121917
CREATED:20250205T013812Z
LAST-MODIFIED:20250205T013812Z
UID:10008746-1739386800-1739401200@sevenfeathers.com
SUMMARY:Bump in the Road at the Elements Lounge
DESCRIPTION:Be our guest and enjoy free live country music in the Elements Lounge! Bump in the Road will be performing live February 12 – 15! \nMust be 21 or older. Hours and performers are subject to change.
URL:https://sevenfeathers.com/event/bump-in-the-road-at-the-elements-lounge/2025-02-12/
LOCATION:Elements Lounge
CATEGORIES:Entertainment
END:VEVENT
BEGIN:VEVENT
DTSTART;TZID=America/Los_Angeles:20250213T190000
DTEND;TZID=America/Los_Angeles:20250213T230000
DTSTAMP:20260419T121917
CREATED:20250205T013812Z
LAST-MODIFIED:20250205T013812Z
UID:10008747-1739473200-1739487600@sevenfeathers.com
SUMMARY:Bump in the Road at the Elements Lounge
DESCRIPTION:Be our guest and enjoy free live country music in the Elements Lounge! Bump in the Road will be performing live February 12 – 15! \nMust be 21 or older. Hours and performers are subject to change.
URL:https://sevenfeathers.com/event/bump-in-the-road-at-the-elements-lounge/2025-02-13/
LOCATION:Elements Lounge
CATEGORIES:Entertainment
END:VEVENT
BEGIN:VEVENT
DTSTART;TZID=America/Los_Angeles:20250214T210000
DTEND;TZID=America/Los_Angeles:20250215T010000
DTSTAMP:20260419T121917
CREATED:20250205T014337Z
LAST-MODIFIED:20250205T014337Z
UID:10008750-1739566800-1739581200@sevenfeathers.com
SUMMARY:Bump in the Road at the Elements Lounge
DESCRIPTION:Be our guest and enjoy free live country music in the Elements Lounge! Bump in the Road will be performing live February 12 – 15! \nMust be 21 or older. Hours and performers are subject to change.
URL:https://sevenfeathers.com/event/bump-in-the-road-at-the-elements-lounge-2/2025-02-14/
LOCATION:Elements Lounge
CATEGORIES:Entertainment
END:VEVENT
BEGIN:VEVENT
DTSTART;TZID=America/Los_Angeles:20250215T210000
DTEND;TZID=America/Los_Angeles:20250216T010000
DTSTAMP:20260419T121917
CREATED:20250205T014337Z
LAST-MODIFIED:20250205T014337Z
UID:10008751-1739653200-1739667600@sevenfeathers.com
SUMMARY:Bump in the Road at the Elements Lounge
DESCRIPTION:Be our guest and enjoy free live country music in the Elements Lounge! Bump in the Road will be performing live February 12 – 15! \nMust be 21 or older. Hours and performers are subject to change.
URL:https://sevenfeathers.com/event/bump-in-the-road-at-the-elements-lounge-2/2025-02-15/
LOCATION:Elements Lounge
CATEGORIES:Entertainment
END:VEVENT
BEGIN:VEVENT
DTSTART;TZID=America/Los_Angeles:20250216T190000
DTEND;TZID=America/Los_Angeles:20250216T200000
DTSTAMP:20260419T121917
CREATED:20250401T204520Z
LAST-MODIFIED:20260101T040356Z
UID:10008855-1739732400-1739736000@sevenfeathers.com
SUMMARY:DJ Trivia in Elements
DESCRIPTION:Play DJ Trivia with us weekly for a chance to win fun prizes! Participation is free and registration begins at 6:45PM.
URL:https://sevenfeathers.com/event/dj-trivia-3-2/2025-02-16/
LOCATION:Elements Lounge
CATEGORIES:Entertainment,Ongoing
END:VEVENT
END:VCALENDAR