BEGIN:VCALENDAR
VERSION:2.0
PRODID:-//Seven Feathers Casino - ECPv6.15.16//NONSGML v1.0//EN
CALSCALE:GREGORIAN
METHOD:PUBLISH
X-WR-CALNAME:Seven Feathers Casino
X-ORIGINAL-URL:https://sevenfeathers.com
X-WR-CALDESC:Events for Seven Feathers Casino
REFRESH-INTERVAL;VALUE=DURATION:PT1H
X-Robots-Tag:noindex
X-PUBLISHED-TTL:PT1H
BEGIN:VTIMEZONE
TZID:America/Los_Angeles
BEGIN:DAYLIGHT
TZOFFSETFROM:-0800
TZOFFSETTO:-0700
TZNAME:PDT
DTSTART:20240310T100000
END:DAYLIGHT
BEGIN:STANDARD
TZOFFSETFROM:-0700
TZOFFSETTO:-0800
TZNAME:PST
DTSTART:20241103T090000
END:STANDARD
BEGIN:DAYLIGHT
TZOFFSETFROM:-0800
TZOFFSETTO:-0700
TZNAME:PDT
DTSTART:20250309T100000
END:DAYLIGHT
BEGIN:STANDARD
TZOFFSETFROM:-0700
TZOFFSETTO:-0800
TZNAME:PST
DTSTART:20251102T090000
END:STANDARD
BEGIN:DAYLIGHT
TZOFFSETFROM:-0800
TZOFFSETTO:-0700
TZNAME:PDT
DTSTART:20260308T100000
END:DAYLIGHT
BEGIN:STANDARD
TZOFFSETFROM:-0700
TZOFFSETTO:-0800
TZNAME:PST
DTSTART:20261101T090000
END:STANDARD
END:VTIMEZONE
BEGIN:VEVENT
DTSTART;TZID=America/Los_Angeles:20250128T190000
DTEND;TZID=America/Los_Angeles:20250128T220000
DTSTAMP:20260419T104854
CREATED:20250401T204839Z
LAST-MODIFIED:20260102T204146Z
UID:10008903-1738090800-1738101600@sevenfeathers.com
SUMMARY:Line Dancing
DESCRIPTION:FREE Line-Dancing Lessons! \nEvery Tuesday at 7:00PM in Elements Lounge \nThere will be 2-hour lessons\, and beginners are welcome. \nInstructors Cass Gould and Katie Wilder teach all your favorite line dances from “The Wolf” to “Bury Me in Georgia”.
URL:https://sevenfeathers.com/event/line-dancing-2/2025-01-28/
LOCATION:Elements Lounge
CATEGORIES:Entertainment,Ongoing
END:VEVENT
BEGIN:VEVENT
DTSTART;TZID=America/Los_Angeles:20250201T180000
DTEND;TZID=America/Los_Angeles:20250201T210000
DTSTAMP:20260419T104854
CREATED:20241223T172850Z
LAST-MODIFIED:20241223T172850Z
UID:10008022-1738432800-1738443600@sevenfeathers.com
SUMMARY:Greatest Of The Grape Silent Auction
DESCRIPTION:Saturday\, February 1 at from 6:00PM to 9:00PM. \nBuy your tickets for this event at www.UmpquaValleyWineries.org. VIP tickets are available.    \nJoin us for Oregon’s oldest wine celebration to acknowledge the wine makers of Douglas County. There will be live music\, appetizers\, wine tastings\, the famous wheel of wine\, and much more! There will also be a silent auction to raise money for the Umpqua Valley Winegrowers Association.
URL:https://sevenfeathers.com/event/greatest-of-the-grape-silent-auction/
CATEGORIES:Entertainment
END:VEVENT
BEGIN:VEVENT
DTSTART;TZID=America/Los_Angeles:20250202T190000
DTEND;TZID=America/Los_Angeles:20250202T200000
DTSTAMP:20260419T104854
CREATED:20250401T204520Z
LAST-MODIFIED:20260101T040356Z
UID:10008853-1738522800-1738526400@sevenfeathers.com
SUMMARY:DJ Trivia in Elements
DESCRIPTION:Play DJ Trivia with us weekly for a chance to win fun prizes! Participation is free and registration begins at 6:45PM.
URL:https://sevenfeathers.com/event/dj-trivia-3-2/2025-02-02/
LOCATION:Elements Lounge
CATEGORIES:Entertainment,Ongoing
END:VEVENT
END:VCALENDAR