BEGIN:VCALENDAR
VERSION:2.0
PRODID:-//Seven Feathers Casino - ECPv6.15.16//NONSGML v1.0//EN
CALSCALE:GREGORIAN
METHOD:PUBLISH
X-WR-CALNAME:Seven Feathers Casino
X-ORIGINAL-URL:https://sevenfeathers.com
X-WR-CALDESC:Events for Seven Feathers Casino
REFRESH-INTERVAL;VALUE=DURATION:PT1H
X-Robots-Tag:noindex
X-PUBLISHED-TTL:PT1H
BEGIN:VTIMEZONE
TZID:America/Los_Angeles
BEGIN:DAYLIGHT
TZOFFSETFROM:-0800
TZOFFSETTO:-0700
TZNAME:PDT
DTSTART:20230312T100000
END:DAYLIGHT
BEGIN:STANDARD
TZOFFSETFROM:-0700
TZOFFSETTO:-0800
TZNAME:PST
DTSTART:20231105T090000
END:STANDARD
BEGIN:DAYLIGHT
TZOFFSETFROM:-0800
TZOFFSETTO:-0700
TZNAME:PDT
DTSTART:20240310T100000
END:DAYLIGHT
BEGIN:STANDARD
TZOFFSETFROM:-0700
TZOFFSETTO:-0800
TZNAME:PST
DTSTART:20241103T090000
END:STANDARD
BEGIN:DAYLIGHT
TZOFFSETFROM:-0800
TZOFFSETTO:-0700
TZNAME:PDT
DTSTART:20250309T100000
END:DAYLIGHT
BEGIN:STANDARD
TZOFFSETFROM:-0700
TZOFFSETTO:-0800
TZNAME:PST
DTSTART:20251102T090000
END:STANDARD
END:VTIMEZONE
BEGIN:VEVENT
DTSTART;TZID=America/Los_Angeles:20241119T190000
DTEND;TZID=America/Los_Angeles:20241119T200000
DTSTAMP:20260419T183337
CREATED:20240531T214523Z
LAST-MODIFIED:20240531T214523Z
UID:10006153-1732042800-1732046400@sevenfeathers.com
SUMMARY:Line Dancing
DESCRIPTION:FREE Line-Dancing Lessons! \n\nEvery Tuesday at 7:00PM in Elements Lounge \n\nThere will be 60-minute lessons\, and beginners are welcome. \n\nInstructors Cass Gould and Katie Wilder teach all your favorite line dances from “The Wolf” to “Bury Me in Georgia”.
URL:https://sevenfeathers.com/event/line-dancing/2024-11-19/
LOCATION:Elements Lounge
CATEGORIES:Entertainment
END:VEVENT
BEGIN:VEVENT
DTSTART;TZID=America/Los_Angeles:20241120T190000
DTEND;TZID=America/Los_Angeles:20241120T230000
DTSTAMP:20260419T183337
CREATED:20241031T232925Z
LAST-MODIFIED:20241031T232925Z
UID:10007985-1732129200-1732143600@sevenfeathers.com
SUMMARY:Bump In The Road
DESCRIPTION:Enjoy free live music weekly in the Elements Lounge!
URL:https://sevenfeathers.com/event/bump-in-the-road-6/2024-11-20/
LOCATION:Elements Lounge
CATEGORIES:Entertainment
END:VEVENT
BEGIN:VEVENT
DTSTART;TZID=America/Los_Angeles:20241121T190000
DTEND;TZID=America/Los_Angeles:20241121T230000
DTSTAMP:20260419T183337
CREATED:20241031T232925Z
LAST-MODIFIED:20241031T232925Z
UID:10007986-1732215600-1732230000@sevenfeathers.com
SUMMARY:Bump In The Road
DESCRIPTION:Enjoy free live music weekly in the Elements Lounge!
URL:https://sevenfeathers.com/event/bump-in-the-road-6/2024-11-21/
LOCATION:Elements Lounge
CATEGORIES:Entertainment
END:VEVENT
BEGIN:VEVENT
DTSTART;TZID=America/Los_Angeles:20241124T190000
DTEND;TZID=America/Los_Angeles:20241124T200000
DTSTAMP:20260419T183337
CREATED:20240404T163111Z
LAST-MODIFIED:20240807T172047Z
UID:10007881-1732474800-1732478400@sevenfeathers.com
SUMMARY:DJ Trivia
DESCRIPTION:Play DJ Trivia with us weekly for a chance to win fun prizes! Participation is free and registration begins at 6:45PM.
URL:https://sevenfeathers.com/event/dj-trivia-3/2024-11-24/
LOCATION:Elements Lounge
CATEGORIES:Entertainment
END:VEVENT
END:VCALENDAR