BEGIN:VCALENDAR
VERSION:2.0
PRODID:-//Seven Feathers Casino - ECPv6.15.16//NONSGML v1.0//EN
CALSCALE:GREGORIAN
METHOD:PUBLISH
X-WR-CALNAME:Seven Feathers Casino
X-ORIGINAL-URL:https://sevenfeathers.com
X-WR-CALDESC:Events for Seven Feathers Casino
REFRESH-INTERVAL;VALUE=DURATION:PT1H
X-Robots-Tag:noindex
X-PUBLISHED-TTL:PT1H
BEGIN:VTIMEZONE
TZID:America/Los_Angeles
BEGIN:DAYLIGHT
TZOFFSETFROM:-0800
TZOFFSETTO:-0700
TZNAME:PDT
DTSTART:20230312T100000
END:DAYLIGHT
BEGIN:STANDARD
TZOFFSETFROM:-0700
TZOFFSETTO:-0800
TZNAME:PST
DTSTART:20231105T090000
END:STANDARD
BEGIN:DAYLIGHT
TZOFFSETFROM:-0800
TZOFFSETTO:-0700
TZNAME:PDT
DTSTART:20240310T100000
END:DAYLIGHT
BEGIN:STANDARD
TZOFFSETFROM:-0700
TZOFFSETTO:-0800
TZNAME:PST
DTSTART:20241103T090000
END:STANDARD
BEGIN:DAYLIGHT
TZOFFSETFROM:-0800
TZOFFSETTO:-0700
TZNAME:PDT
DTSTART:20250309T100000
END:DAYLIGHT
BEGIN:STANDARD
TZOFFSETFROM:-0700
TZOFFSETTO:-0800
TZNAME:PST
DTSTART:20251102T090000
END:STANDARD
END:VTIMEZONE
BEGIN:VEVENT
DTSTART;TZID=America/Los_Angeles:20240924T190000
DTEND;TZID=America/Los_Angeles:20240924T200000
DTSTAMP:20260420T122946
CREATED:20240531T214523Z
LAST-MODIFIED:20240531T214523Z
UID:10006145-1727204400-1727208000@sevenfeathers.com
SUMMARY:Line Dancing
DESCRIPTION:FREE Line-Dancing Lessons! \n\nEvery Tuesday at 7:00PM in Elements Lounge \n\nThere will be 60-minute lessons\, and beginners are welcome. \n\nInstructors Cass Gould and Katie Wilder teach all your favorite line dances from “The Wolf” to “Bury Me in Georgia”.
URL:https://sevenfeathers.com/event/line-dancing/2024-09-24/
LOCATION:Elements Lounge
CATEGORIES:Entertainment
END:VEVENT
BEGIN:VEVENT
DTSTART;TZID=America/Los_Angeles:20240925T190000
DTEND;TZID=America/Los_Angeles:20240925T230000
DTSTAMP:20260420T122946
CREATED:20240901T152557Z
LAST-MODIFIED:20240901T152557Z
UID:10007904-1727290800-1727305200@sevenfeathers.com
SUMMARY:Revolution
DESCRIPTION:Enjoy free live music in Elements Lounge!
URL:https://sevenfeathers.com/event/revolution-5/2024-09-25/
LOCATION:Elements Lounge
CATEGORIES:Entertainment
END:VEVENT
BEGIN:VEVENT
DTSTART;TZID=America/Los_Angeles:20240926T190000
DTEND;TZID=America/Los_Angeles:20240926T230000
DTSTAMP:20260420T122946
CREATED:20240901T152557Z
LAST-MODIFIED:20240901T152557Z
UID:10007905-1727377200-1727391600@sevenfeathers.com
SUMMARY:Revolution
DESCRIPTION:Enjoy free live music in Elements Lounge!
URL:https://sevenfeathers.com/event/revolution-5/2024-09-26/
LOCATION:Elements Lounge
CATEGORIES:Entertainment
END:VEVENT
BEGIN:VEVENT
DTSTART;TZID=America/Los_Angeles:20240927T210000
DTEND;TZID=America/Los_Angeles:20240928T010000
DTSTAMP:20260420T122946
CREATED:20240901T152726Z
LAST-MODIFIED:20240901T152726Z
UID:10007906-1727470800-1727485200@sevenfeathers.com
SUMMARY:Revolution
DESCRIPTION:See free live music in the Elements Lounge!
URL:https://sevenfeathers.com/event/revolution-6/2024-09-27/
LOCATION:Elements Lounge
CATEGORIES:Entertainment
END:VEVENT
BEGIN:VEVENT
DTSTART;TZID=America/Los_Angeles:20240928T210000
DTEND;TZID=America/Los_Angeles:20240929T010000
DTSTAMP:20260420T122946
CREATED:20240901T152726Z
LAST-MODIFIED:20240901T152726Z
UID:10007907-1727557200-1727571600@sevenfeathers.com
SUMMARY:Revolution
DESCRIPTION:See free live music in the Elements Lounge!
URL:https://sevenfeathers.com/event/revolution-6/2024-09-28/
LOCATION:Elements Lounge
CATEGORIES:Entertainment
END:VEVENT
BEGIN:VEVENT
DTSTART;TZID=America/Los_Angeles:20240929T190000
DTEND;TZID=America/Los_Angeles:20240929T200000
DTSTAMP:20260420T122946
CREATED:20240404T163111Z
LAST-MODIFIED:20240807T172047Z
UID:10007873-1727636400-1727640000@sevenfeathers.com
SUMMARY:DJ Trivia
DESCRIPTION:Play DJ Trivia with us weekly for a chance to win fun prizes! Participation is free and registration begins at 6:45PM.
URL:https://sevenfeathers.com/event/dj-trivia-3/2024-09-29/
LOCATION:Elements Lounge
CATEGORIES:Entertainment
END:VEVENT
END:VCALENDAR