BEGIN:VCALENDAR
VERSION:2.0
PRODID:-//Seven Feathers Casino - ECPv6.15.16//NONSGML v1.0//EN
CALSCALE:GREGORIAN
METHOD:PUBLISH
X-ORIGINAL-URL:https://sevenfeathers.com
X-WR-CALDESC:Events for Seven Feathers Casino
REFRESH-INTERVAL;VALUE=DURATION:PT1H
X-Robots-Tag:noindex
X-PUBLISHED-TTL:PT1H
BEGIN:VTIMEZONE
TZID:America/Los_Angeles
BEGIN:DAYLIGHT
TZOFFSETFROM:-0800
TZOFFSETTO:-0700
TZNAME:PDT
DTSTART:20230312T100000
END:DAYLIGHT
BEGIN:STANDARD
TZOFFSETFROM:-0700
TZOFFSETTO:-0800
TZNAME:PST
DTSTART:20231105T090000
END:STANDARD
BEGIN:DAYLIGHT
TZOFFSETFROM:-0800
TZOFFSETTO:-0700
TZNAME:PDT
DTSTART:20240310T100000
END:DAYLIGHT
BEGIN:STANDARD
TZOFFSETFROM:-0700
TZOFFSETTO:-0800
TZNAME:PST
DTSTART:20241103T090000
END:STANDARD
BEGIN:DAYLIGHT
TZOFFSETFROM:-0800
TZOFFSETTO:-0700
TZNAME:PDT
DTSTART:20250309T100000
END:DAYLIGHT
BEGIN:STANDARD
TZOFFSETFROM:-0700
TZOFFSETTO:-0800
TZNAME:PST
DTSTART:20251102T090000
END:STANDARD
END:VTIMEZONE
BEGIN:VEVENT
DTSTART;TZID=America/Los_Angeles:20240903T190000
DTEND;TZID=America/Los_Angeles:20240903T200000
DTSTAMP:20260420T151310
CREATED:20240531T214523Z
LAST-MODIFIED:20240531T214523Z
UID:10006142-1725390000-1725393600@sevenfeathers.com
SUMMARY:Line Dancing
DESCRIPTION:FREE Line-Dancing Lessons! \n\nEvery Tuesday at 7:00PM in Elements Lounge \n\nThere will be 60-minute lessons\, and beginners are welcome. \n\nInstructors Cass Gould and Katie Wilder teach all your favorite line dances from “The Wolf” to “Bury Me in Georgia”.
URL:https://sevenfeathers.com/event/line-dancing/2024-09-03/
LOCATION:Elements Lounge
CATEGORIES:Entertainment
END:VEVENT
BEGIN:VEVENT
DTSTART;TZID=America/Los_Angeles:20240904T190000
DTEND;TZID=America/Los_Angeles:20240904T230000
DTSTAMP:20260420T151310
CREATED:20240901T151420Z
LAST-MODIFIED:20240901T151420Z
UID:10007892-1725476400-1725490800@sevenfeathers.com
SUMMARY:Bri Marie
DESCRIPTION:Enjoy free live music in the Elements Lounge!
URL:https://sevenfeathers.com/event/bri-marie-3/2024-09-04/
LOCATION:Elements Lounge
CATEGORIES:Entertainment
END:VEVENT
BEGIN:VEVENT
DTSTART;TZID=America/Los_Angeles:20240905T190000
DTEND;TZID=America/Los_Angeles:20240905T230000
DTSTAMP:20260420T151310
CREATED:20240901T151420Z
LAST-MODIFIED:20240901T151420Z
UID:10007893-1725562800-1725577200@sevenfeathers.com
SUMMARY:Bri Marie
DESCRIPTION:Enjoy free live music in the Elements Lounge!
URL:https://sevenfeathers.com/event/bri-marie-3/2024-09-05/
LOCATION:Elements Lounge
CATEGORIES:Entertainment
END:VEVENT
BEGIN:VEVENT
DTSTART;TZID=America/Los_Angeles:20240906T210000
DTEND;TZID=America/Los_Angeles:20240907T010000
DTSTAMP:20260420T151310
CREATED:20240901T151601Z
LAST-MODIFIED:20240901T151601Z
UID:10007894-1725656400-1725670800@sevenfeathers.com
SUMMARY:DJ Ron
DESCRIPTION:See free live music in Elements Lounge!
URL:https://sevenfeathers.com/event/dj-ron-3/2024-09-06/
LOCATION:Elements Lounge
CATEGORIES:Entertainment
END:VEVENT
BEGIN:VEVENT
DTSTART;TZID=America/Los_Angeles:20240907T210000
DTEND;TZID=America/Los_Angeles:20240908T010000
DTSTAMP:20260420T151310
CREATED:20240901T151601Z
LAST-MODIFIED:20240901T151601Z
UID:10007895-1725742800-1725757200@sevenfeathers.com
SUMMARY:DJ Ron
DESCRIPTION:See free live music in Elements Lounge!
URL:https://sevenfeathers.com/event/dj-ron-3/2024-09-07/
LOCATION:Elements Lounge
CATEGORIES:Entertainment
END:VEVENT
BEGIN:VEVENT
DTSTART;TZID=America/Los_Angeles:20240908T190000
DTEND;TZID=America/Los_Angeles:20240908T200000
DTSTAMP:20260420T151310
CREATED:20240404T163111Z
LAST-MODIFIED:20240807T172047Z
UID:10007870-1725822000-1725825600@sevenfeathers.com
SUMMARY:DJ Trivia
DESCRIPTION:Play DJ Trivia with us weekly for a chance to win fun prizes! Participation is free and registration begins at 6:45PM.
URL:https://sevenfeathers.com/event/dj-trivia-3/2024-09-08/
LOCATION:Elements Lounge
CATEGORIES:Entertainment
END:VEVENT
END:VCALENDAR