BEGIN:VCALENDAR
VERSION:2.0
PRODID:-//Seven Feathers Casino - ECPv6.15.16//NONSGML v1.0//EN
CALSCALE:GREGORIAN
METHOD:PUBLISH
X-WR-CALNAME:Seven Feathers Casino
X-ORIGINAL-URL:https://sevenfeathers.com
X-WR-CALDESC:Events for Seven Feathers Casino
REFRESH-INTERVAL;VALUE=DURATION:PT1H
X-Robots-Tag:noindex
X-PUBLISHED-TTL:PT1H
BEGIN:VTIMEZONE
TZID:America/Los_Angeles
BEGIN:DAYLIGHT
TZOFFSETFROM:-0800
TZOFFSETTO:-0700
TZNAME:PDT
DTSTART:20230312T100000
END:DAYLIGHT
BEGIN:STANDARD
TZOFFSETFROM:-0700
TZOFFSETTO:-0800
TZNAME:PST
DTSTART:20231105T090000
END:STANDARD
BEGIN:DAYLIGHT
TZOFFSETFROM:-0800
TZOFFSETTO:-0700
TZNAME:PDT
DTSTART:20240310T100000
END:DAYLIGHT
BEGIN:STANDARD
TZOFFSETFROM:-0700
TZOFFSETTO:-0800
TZNAME:PST
DTSTART:20241103T090000
END:STANDARD
BEGIN:DAYLIGHT
TZOFFSETFROM:-0800
TZOFFSETTO:-0700
TZNAME:PDT
DTSTART:20250309T100000
END:DAYLIGHT
BEGIN:STANDARD
TZOFFSETFROM:-0700
TZOFFSETTO:-0800
TZNAME:PST
DTSTART:20251102T090000
END:STANDARD
END:VTIMEZONE
BEGIN:VEVENT
DTSTART;TZID=America/Los_Angeles:20240827T190000
DTEND;TZID=America/Los_Angeles:20240827T200000
DTSTAMP:20260420T134135
CREATED:20240531T214523Z
LAST-MODIFIED:20240531T214523Z
UID:10006141-1724785200-1724788800@sevenfeathers.com
SUMMARY:Line Dancing
DESCRIPTION:FREE Line-Dancing Lessons! \n\nEvery Tuesday at 7:00PM in Elements Lounge \n\nThere will be 60-minute lessons\, and beginners are welcome. \n\nInstructors Cass Gould and Katie Wilder teach all your favorite line dances from “The Wolf” to “Bury Me in Georgia”.
URL:https://sevenfeathers.com/event/line-dancing/2024-08-27/
LOCATION:Elements Lounge
CATEGORIES:Entertainment
END:VEVENT
BEGIN:VEVENT
DTSTART;TZID=America/Los_Angeles:20240828T190000
DTEND;TZID=America/Los_Angeles:20240828T230000
DTSTAMP:20260420T134135
CREATED:20240801T150334Z
LAST-MODIFIED:20240801T150719Z
UID:10007454-1724871600-1724886000@sevenfeathers.com
SUMMARY:Bri Marie
DESCRIPTION:Join us for free live music in the Elements Lounge!
URL:https://sevenfeathers.com/event/bri-marie-2/2024-08-28/
LOCATION:Elements Lounge
CATEGORIES:Entertainment
END:VEVENT
BEGIN:VEVENT
DTSTART;TZID=America/Los_Angeles:20240829T190000
DTEND;TZID=America/Los_Angeles:20240829T230000
DTSTAMP:20260420T134135
CREATED:20240801T150334Z
LAST-MODIFIED:20240801T150719Z
UID:10007455-1724958000-1724972400@sevenfeathers.com
SUMMARY:Bri Marie
DESCRIPTION:Join us for free live music in the Elements Lounge!
URL:https://sevenfeathers.com/event/bri-marie-2/2024-08-29/
LOCATION:Elements Lounge
CATEGORIES:Entertainment
END:VEVENT
BEGIN:VEVENT
DTSTART;TZID=America/Los_Angeles:20240830T170000
DTEND;TZID=America/Los_Angeles:20240830T210000
DTSTAMP:20260420T134135
CREATED:20240801T152720Z
LAST-MODIFIED:20240801T153251Z
UID:10007847-1725037200-1725051600@sevenfeathers.com
SUMMARY:Music In The Courtyard
DESCRIPTION:Join us Fridays and Saturdays from 5:00 – 9:00PM! \n  \n\nAugust 2 & 3: The Mini Max\nAugust 9 & 10: Dave & Skip\nAugust 16 & 17: Dylan James Clark\nAugust 23 & 24: Lady and the Tramp\nAugust 30 & 31: Gary Margason
URL:https://sevenfeathers.com/event/music-in-the-courtyard-11/2024-08-30/
LOCATION:Hotel Courtyard
CATEGORIES:Entertainment
END:VEVENT
BEGIN:VEVENT
DTSTART;TZID=America/Los_Angeles:20240830T210000
DTEND;TZID=America/Los_Angeles:20240831T010000
DTSTAMP:20260420T134135
CREATED:20240801T144919Z
LAST-MODIFIED:20240801T144919Z
UID:10007450-1725051600-1725066000@sevenfeathers.com
SUMMARY:DJ Marc Eazy
DESCRIPTION:See DJ Marc Eazy perform a free live show in the Elements Lounge!
URL:https://sevenfeathers.com/event/dj-marc-eazy-3/
LOCATION:Elements Lounge
CATEGORIES:Entertainment
END:VEVENT
BEGIN:VEVENT
DTSTART;TZID=America/Los_Angeles:20240831T170000
DTEND;TZID=America/Los_Angeles:20240831T210000
DTSTAMP:20260420T134135
CREATED:20240801T152914Z
LAST-MODIFIED:20240801T153140Z
UID:10007839-1725123600-1725138000@sevenfeathers.com
SUMMARY:Music In The Courtyard
DESCRIPTION:Join us Fridays and Saturdays from 5:00 – 9:00PM! \n  \n\nAugust 2 & 3: The Mini Max\nAugust 9 & 10: Dave & Skip\nAugust 16 & 17: Dylan James Clark\nAugust 23 & 24: Lady and the Tramp\nAugust 30 & 31: Gary Margason
URL:https://sevenfeathers.com/event/music-in-the-courtyard-12/2024-08-31/
LOCATION:Hotel Courtyard
CATEGORIES:Entertainment
END:VEVENT
BEGIN:VEVENT
DTSTART;TZID=America/Los_Angeles:20240901T190000
DTEND;TZID=America/Los_Angeles:20240901T200000
DTSTAMP:20260420T134135
CREATED:20240404T163111Z
LAST-MODIFIED:20240807T172047Z
UID:10007869-1725217200-1725220800@sevenfeathers.com
SUMMARY:DJ Trivia
DESCRIPTION:Play DJ Trivia with us weekly for a chance to win fun prizes! Participation is free and registration begins at 6:45PM.
URL:https://sevenfeathers.com/event/dj-trivia-3/2024-09-01/
LOCATION:Elements Lounge
CATEGORIES:Entertainment
END:VEVENT
END:VCALENDAR