BEGIN:VCALENDAR
VERSION:2.0
PRODID:-//Seven Feathers Casino - ECPv6.15.16//NONSGML v1.0//EN
CALSCALE:GREGORIAN
METHOD:PUBLISH
X-ORIGINAL-URL:https://sevenfeathers.com
X-WR-CALDESC:Events for Seven Feathers Casino
REFRESH-INTERVAL;VALUE=DURATION:PT1H
X-Robots-Tag:noindex
X-PUBLISHED-TTL:PT1H
BEGIN:VTIMEZONE
TZID:America/Los_Angeles
BEGIN:DAYLIGHT
TZOFFSETFROM:-0800
TZOFFSETTO:-0700
TZNAME:PDT
DTSTART:20230312T100000
END:DAYLIGHT
BEGIN:STANDARD
TZOFFSETFROM:-0700
TZOFFSETTO:-0800
TZNAME:PST
DTSTART:20231105T090000
END:STANDARD
BEGIN:DAYLIGHT
TZOFFSETFROM:-0800
TZOFFSETTO:-0700
TZNAME:PDT
DTSTART:20240310T100000
END:DAYLIGHT
BEGIN:STANDARD
TZOFFSETFROM:-0700
TZOFFSETTO:-0800
TZNAME:PST
DTSTART:20241103T090000
END:STANDARD
BEGIN:DAYLIGHT
TZOFFSETFROM:-0800
TZOFFSETTO:-0700
TZNAME:PDT
DTSTART:20250309T100000
END:DAYLIGHT
BEGIN:STANDARD
TZOFFSETFROM:-0700
TZOFFSETTO:-0800
TZNAME:PST
DTSTART:20251102T090000
END:STANDARD
END:VTIMEZONE
BEGIN:VEVENT
DTSTART;TZID=America/Los_Angeles:20240806T190000
DTEND;TZID=America/Los_Angeles:20240806T200000
DTSTAMP:20260423T133336
CREATED:20240531T214523Z
LAST-MODIFIED:20240531T214523Z
UID:10006138-1722970800-1722974400@sevenfeathers.com
SUMMARY:Line Dancing
DESCRIPTION:FREE Line-Dancing Lessons! \n\nEvery Tuesday at 7:00PM in Elements Lounge \n\nThere will be 60-minute lessons\, and beginners are welcome. \n\nInstructors Cass Gould and Katie Wilder teach all your favorite line dances from “The Wolf” to “Bury Me in Georgia”.
URL:https://sevenfeathers.com/event/line-dancing/2024-08-06/
LOCATION:Elements Lounge\, 146 Chief Miwaleta Ln\, Canyonville\, OR\, 97417\, United States
CATEGORIES:Entertainment
END:VEVENT
BEGIN:VEVENT
DTSTART;TZID=America/Los_Angeles:20240807T190000
DTEND;TZID=America/Los_Angeles:20240807T230000
DTSTAMP:20260423T133336
CREATED:20240801T145506Z
LAST-MODIFIED:20240801T145652Z
UID:10007451-1723057200-1723071600@sevenfeathers.com
SUMMARY:Isaac Barrager
DESCRIPTION:Join us in the Elements Lounge for FREE on August 7-10 to watch Oregon Singer/Songwriter Isaac Barrager perform!
URL:https://sevenfeathers.com/event/isaac-barrager/
LOCATION:OR
CATEGORIES:Entertainment
END:VEVENT
BEGIN:VEVENT
DTSTART;TZID=America/Los_Angeles:20240808T190000
DTEND;TZID=America/Los_Angeles:20240808T230000
DTSTAMP:20260423T133336
CREATED:20240801T145822Z
LAST-MODIFIED:20240801T145822Z
UID:10007452-1723143600-1723158000@sevenfeathers.com
SUMMARY:Isaac Barrager
DESCRIPTION:Join us in the Elements Lounge for FREE on August 7-10 to watch Oregon Singer/Songwriter Isaac Barrager perform!
URL:https://sevenfeathers.com/event/isaac-barrager-2/
LOCATION:OR
CATEGORIES:Entertainment
END:VEVENT
BEGIN:VEVENT
DTSTART;TZID=America/Los_Angeles:20240809T170000
DTEND;TZID=America/Los_Angeles:20240809T210000
DTSTAMP:20260423T133336
CREATED:20240801T152720Z
LAST-MODIFIED:20240801T153251Z
UID:10007841-1723222800-1723237200@sevenfeathers.com
SUMMARY:Music In The Courtyard
DESCRIPTION:Join us Fridays and Saturdays from 5:00 – 9:00PM! \n  \n\nAugust 2 & 3: The Mini Max\nAugust 9 & 10: Dave & Skip\nAugust 16 & 17: Dylan James Clark\nAugust 23 & 24: Lady and the Tramp\nAugust 30 & 31: Gary Margason
URL:https://sevenfeathers.com/event/music-in-the-courtyard-11/2024-08-09/
LOCATION:Hotel Courtyard\, 146 Chief Miwaleta Ln\, Canyonville\, OR\, 97417\, United States
CATEGORIES:Entertainment
END:VEVENT
BEGIN:VEVENT
DTSTART;TZID=America/Los_Angeles:20240809T210000
DTEND;TZID=America/Los_Angeles:20240810T010000
DTSTAMP:20260423T133336
CREATED:20240801T145933Z
LAST-MODIFIED:20240801T145933Z
UID:10007453-1723237200-1723251600@sevenfeathers.com
SUMMARY:Isaac Barrager
DESCRIPTION:Join us in the Elements Lounge for FREE on August 7-10 to watch Oregon Singer/Songwriter Isaac Barrager perform!
URL:https://sevenfeathers.com/event/isaac-barrager-3/
LOCATION:OR
CATEGORIES:Entertainment
END:VEVENT
BEGIN:VEVENT
DTSTART;TZID=America/Los_Angeles:20240810T170000
DTEND;TZID=America/Los_Angeles:20240810T210000
DTSTAMP:20260423T133336
CREATED:20240801T152720Z
LAST-MODIFIED:20240801T153251Z
UID:10007842-1723309200-1723323600@sevenfeathers.com
SUMMARY:Music In The Courtyard
DESCRIPTION:Join us Fridays and Saturdays from 5:00 – 9:00PM! \n  \n\nAugust 2 & 3: The Mini Max\nAugust 9 & 10: Dave & Skip\nAugust 16 & 17: Dylan James Clark\nAugust 23 & 24: Lady and the Tramp\nAugust 30 & 31: Gary Margason
URL:https://sevenfeathers.com/event/music-in-the-courtyard-11/2024-08-10/
LOCATION:Hotel Courtyard\, 146 Chief Miwaleta Ln\, Canyonville\, OR\, 97417\, United States
CATEGORIES:Entertainment
END:VEVENT
BEGIN:VEVENT
DTSTART;TZID=America/Los_Angeles:20240810T170000
DTEND;TZID=America/Los_Angeles:20240810T210000
DTSTAMP:20260423T133336
CREATED:20240801T152914Z
LAST-MODIFIED:20240801T153140Z
UID:10007836-1723309200-1723323600@sevenfeathers.com
SUMMARY:Music In The Courtyard
DESCRIPTION:Join us Fridays and Saturdays from 5:00 – 9:00PM! \n  \n\nAugust 2 & 3: The Mini Max\nAugust 9 & 10: Dave & Skip\nAugust 16 & 17: Dylan James Clark\nAugust 23 & 24: Lady and the Tramp\nAugust 30 & 31: Gary Margason
URL:https://sevenfeathers.com/event/music-in-the-courtyard-12/2024-08-10/
LOCATION:Hotel Courtyard\, 146 Chief Miwaleta Ln\, Canyonville\, OR\, 97417\, United States
CATEGORIES:Entertainment
END:VEVENT
BEGIN:VEVENT
DTSTART;TZID=America/Los_Angeles:20240811T190000
DTEND;TZID=America/Los_Angeles:20240811T200000
DTSTAMP:20260423T133336
CREATED:20240404T163111Z
LAST-MODIFIED:20240807T172047Z
UID:10007866-1723402800-1723406400@sevenfeathers.com
SUMMARY:DJ Trivia
DESCRIPTION:Play DJ Trivia with us weekly for a chance to win fun prizes! Participation is free and registration begins at 6:45PM.
URL:https://sevenfeathers.com/event/dj-trivia-3/2024-08-11/
LOCATION:Elements Lounge\, 146 Chief Miwaleta Ln\, Canyonville\, OR\, 97417\, United States
CATEGORIES:Entertainment
END:VEVENT
END:VCALENDAR