BEGIN:VCALENDAR
VERSION:2.0
PRODID:-//Seven Feathers Casino - ECPv6.15.16//NONSGML v1.0//EN
CALSCALE:GREGORIAN
METHOD:PUBLISH
X-ORIGINAL-URL:https://sevenfeathers.com
X-WR-CALDESC:Events for Seven Feathers Casino
REFRESH-INTERVAL;VALUE=DURATION:PT1H
X-Robots-Tag:noindex
X-PUBLISHED-TTL:PT1H
BEGIN:VTIMEZONE
TZID:America/Los_Angeles
BEGIN:DAYLIGHT
TZOFFSETFROM:-0800
TZOFFSETTO:-0700
TZNAME:PDT
DTSTART:20230312T100000
END:DAYLIGHT
BEGIN:STANDARD
TZOFFSETFROM:-0700
TZOFFSETTO:-0800
TZNAME:PST
DTSTART:20231105T090000
END:STANDARD
BEGIN:DAYLIGHT
TZOFFSETFROM:-0800
TZOFFSETTO:-0700
TZNAME:PDT
DTSTART:20240310T100000
END:DAYLIGHT
BEGIN:STANDARD
TZOFFSETFROM:-0700
TZOFFSETTO:-0800
TZNAME:PST
DTSTART:20241103T090000
END:STANDARD
BEGIN:DAYLIGHT
TZOFFSETFROM:-0800
TZOFFSETTO:-0700
TZNAME:PDT
DTSTART:20250309T100000
END:DAYLIGHT
BEGIN:STANDARD
TZOFFSETFROM:-0700
TZOFFSETTO:-0800
TZNAME:PST
DTSTART:20251102T090000
END:STANDARD
BEGIN:DAYLIGHT
TZOFFSETFROM:-0800
TZOFFSETTO:-0700
TZNAME:PDT
DTSTART:20260308T100000
END:DAYLIGHT
BEGIN:STANDARD
TZOFFSETFROM:-0700
TZOFFSETTO:-0800
TZNAME:PST
DTSTART:20261101T090000
END:STANDARD
END:VTIMEZONE
BEGIN:VEVENT
DTSTART;TZID=America/Los_Angeles:20241213T210000
DTEND;TZID=America/Los_Angeles:20241214T010000
DTSTAMP:20260423T151825
CREATED:20241203T003222Z
LAST-MODIFIED:20241203T003222Z
UID:10008013-1734123600-1734138000@sevenfeathers.com
SUMMARY:The Hank Shreve Band
DESCRIPTION:Join us December 11 through December 14 for live Music. This is a free event that is open to the public. \nFeaturing Southern Oregon Blues artists “The Hank Shreve Band”! \nThey will be performing 7 PM to 11 PM on Wednesday & Thursday and 9 PM to 1 AM on Friday and Saturday.
URL:https://sevenfeathers.com/event/the-hank-shreve-band-7/
LOCATION:OR
CATEGORIES:Entertainment
END:VEVENT
BEGIN:VEVENT
DTSTART;TZID=America/Los_Angeles:20241214T210000
DTEND;TZID=America/Los_Angeles:20241215T010000
DTSTAMP:20260423T151825
CREATED:20241203T003256Z
LAST-MODIFIED:20241203T003256Z
UID:10008014-1734210000-1734224400@sevenfeathers.com
SUMMARY:The Hank Shreve Band
DESCRIPTION:Join us December 11 through December 14 for live Music. This is a free event that is open to the public. \nFeaturing Southern Oregon Blues artists “The Hank Shreve Band”! \nThey will be performing 7 PM to 11 PM on Wednesday & Thursday and 9 PM to 1 AM on Friday and Saturday.
URL:https://sevenfeathers.com/event/the-hank-shreve-band-8/
LOCATION:OR
CATEGORIES:Entertainment
END:VEVENT
BEGIN:VEVENT
DTSTART;TZID=America/Los_Angeles:20241227T210000
DTEND;TZID=America/Los_Angeles:20241228T010000
DTSTAMP:20260423T151825
CREATED:20241202T235314Z
LAST-MODIFIED:20241202T235337Z
UID:10008004-1735333200-1735347600@sevenfeathers.com
SUMMARY:DJ Ron
DESCRIPTION:Join us for free live music with DJ Ron! \nMust be 21 or older. Hours and performers subject to change.\n(Scheduled entertainment may be postponed due to televised sporting events.)
URL:https://sevenfeathers.com/event/dj-ron-4/2024-12-27/
LOCATION:Elements Lounge\, 146 Chief Miwaleta Ln\, Canyonville\, OR\, 97417\, United States
CATEGORIES:Entertainment
END:VEVENT
BEGIN:VEVENT
DTSTART;TZID=America/Los_Angeles:20241228T190000
DTEND;TZID=America/Los_Angeles:20241228T203000
DTSTAMP:20260423T151825
CREATED:20241031T163706Z
LAST-MODIFIED:20241128T004030Z
UID:10007972-1735412400-1735417800@sevenfeathers.com
SUMMARY:Landsharks: A Jimmy Buffet Tribute
DESCRIPTION:Join us Saturday\, December 28 at 7:00PM. \nSeven Feathers is pleased to offer our guests a free* concert to close out the year! Tickets are limited so come down and claim yours as soon as possible. Margaritaville won’t be the same without you. \nTickets will be available beginning on Sunday\, December 1 at 10:00AM. Swipe at any Players Club Kiosk and print a voucher. Redeem your voucher at the Players Club for concert tickets. Limit two (2) tickets per person. \nWe will also have exclusive Seven Feathers swag for purchase. \nDoors open at 6:00PM. Must be 21 or older. *Limited access event. Concert is free for active Players Club members. Players Club membership is free. See Players Club to sign up or reactivate your account.
URL:https://sevenfeathers.com/event/landsharks-a-jimmy-buffet-tribute/
LOCATION:Umpqua Grand Ballroom\, 146 Chief Miwaleta Ln\, Canyonville\, OR\, 97417\, United States
CATEGORIES:Entertainment
END:VEVENT
BEGIN:VEVENT
DTSTART;TZID=America/Los_Angeles:20241229T190000
DTEND;TZID=America/Los_Angeles:20241229T210000
DTSTAMP:20260423T151825
CREATED:20241002T185143Z
LAST-MODIFIED:20241221T000659Z
UID:10007953-1735498800-1735506000@sevenfeathers.com
SUMMARY:Chaparro Chuacheneger & Juanito El Millonzuki
DESCRIPTION:Sunday\, December 29 • 7:00PM \nCome enjoy a night of music and comedy as we welcome comedians Chaparro and Juanito! \nReserved Seating $20\, $25\, $30 \nCome join us in Elements Lounge at 4:00PM for a meet and greet with Chaparro and Juanito. This opportunity will last until 5:00PM as the schedule of the artists allows. \nTickets on sale now. Purchase tickets in person at the Gift Gallery or call Etix at 800.514.3849. Etix is the sole ticket provider for all Seven Feathers Casino Resort events. Not responsible for third party ticket sales. Doors open at 6:00PM. Must be 21 or older. Concert Attendees – due to venue configuration\, standing during the concert can be expected\, please be sensitive to the mobility impaired that may surround your seat. \nClick here to purchase your tickets.
URL:https://sevenfeathers.com/event/chaparro-chuacheneger-juanito-el-millonzuki/
LOCATION:Umpqua Grand Ballroom\, 146 Chief Miwaleta Ln\, Canyonville\, OR\, 97417\, United States
CATEGORIES:Entertainment
END:VEVENT
BEGIN:VEVENT
DTSTART;TZID=America/Los_Angeles:20241231T190000
DTEND;TZID=America/Los_Angeles:20241231T220000
DTSTAMP:20260423T151825
CREATED:20241202T234556Z
LAST-MODIFIED:20241202T234754Z
UID:10008001-1735671600-1735682400@sevenfeathers.com
SUMMARY:Aurora in the Elements Lounge
DESCRIPTION:Be our guest for Aurora on New Year’s Eve from 7 PM to 10 PM! Admission is FREE. Must be 21 or older. Hours and performers subject to change.\n(Scheduled entertainment may be postponed due to televised sporting events.)
URL:https://sevenfeathers.com/event/aurora-in-the-elements-lounge/
LOCATION:OR
CATEGORIES:Entertainment
END:VEVENT
BEGIN:VEVENT
DTSTART;TZID=America/Los_Angeles:20241231T210000
DTEND;TZID=America/Los_Angeles:20250101T000000
DTSTAMP:20260423T151825
CREATED:20240912T173156Z
LAST-MODIFIED:20240912T173156Z
UID:10007930-1735678800-1735689600@sevenfeathers.com
SUMMARY:Paradise NYE Bash
DESCRIPTION:Paradise NYE Bash \nTuesday\, December 31 at 9:00PM \n\nTickets $30 \n\nCome ring in the New Year in paradise! Live music will be performed by the energetic\, Oregon sounds of Precious Byrd\, with all your favorite dance music. It’s time to welcome 2025 with a party you don’t want to miss. \n\nTickets on sale Wednesday\, September 18 at 10:00AM. Purchase tickets in person at the Gift Gallery\, online at sevenfeathers.com or call Etix at 800.514.3849. Etix is the sole ticket provider for all Seven Feathers Casino Resort events. Not responsible for third party ticket sales. Doors open at 9:00PM. Must be 21 or older. Party favors available at the door. \n  \nClick here to purchase tickets.
URL:https://sevenfeathers.com/event/paradise-nye-bash/
LOCATION:Umpqua Grand Ballroom\, 146 Chief Miwaleta Ln\, Canyonville\, OR\, 97417\, United States
CATEGORIES:Entertainment
END:VEVENT
BEGIN:VEVENT
DTSTART;TZID=America/Los_Angeles:20250111T190000
DTEND;TZID=America/Los_Angeles:20250111T210000
DTSTAMP:20260423T151825
CREATED:20241011T170156Z
LAST-MODIFIED:20241011T170337Z
UID:10007955-1736622000-1736629200@sevenfeathers.com
SUMMARY:Michael Firestone “I Am King”
DESCRIPTION:Tribute to Micheal Jackson \nSaturday\, January 11 at 7:00PM \nWitness the live enjoyment of all your favorite Micheal Jackson hits when Michael Firestone comes to Seven Feathers. \nReserved Seating $20\, $25\, $30 \nTickets on sale Wednesday\, October 16 at 10:00AM. Purchase tickets in person at the Gift Gallery\, online at sevenfeathers.com or call Etix at 800.514.3849. Etix is the sole ticket provider for all Seven Feathers Casino Resort events. Not responsible for third party ticket sales. Doors open at 6:00PM. Must be 21 or older. Concert Attendees – due to venue configuration\, standing during the concert can be expected\, please be sensitive to the mobility impaired that may surround your seat. \n  \nClick here to purchase tickets.
URL:https://sevenfeathers.com/event/michael-firestone-i-am-king/
LOCATION:Umpqua Grand Ballroom\, 146 Chief Miwaleta Ln\, Canyonville\, OR\, 97417\, United States
CATEGORIES:Entertainment
END:VEVENT
BEGIN:VEVENT
DTSTART;TZID=America/Los_Angeles:20250117T170000
DTEND;TZID=America/Los_Angeles:20250117T210000
DTSTAMP:20260423T151825
CREATED:20250104T052503Z
LAST-MODIFIED:20250104T052801Z
UID:10008029-1737133200-1737147600@sevenfeathers.com
SUMMARY:Chinese New Year 2025!
DESCRIPTION:Celebrate Chinese New Year with us at this free event on Friday\, January 17! \n2025 is the Year of the Snake\, experience the amazing Lion Dancers traditional blessing at 5:00PM at the Casino Main Entrance. \nAdditional performances will take place at 6:00\, 7:00\, 8:00 & 9:00PM touring the casino floor.
URL:https://sevenfeathers.com/event/chinese-new-year-2025/
LOCATION:Umpqua Grand Ballroom\, 146 Chief Miwaleta Ln\, Canyonville\, OR\, 97417\, United States
CATEGORIES:Entertainment
END:VEVENT
BEGIN:VEVENT
DTSTART;TZID=America/Los_Angeles:20250201T180000
DTEND;TZID=America/Los_Angeles:20250201T210000
DTSTAMP:20260423T151825
CREATED:20241223T172850Z
LAST-MODIFIED:20241223T172850Z
UID:10008022-1738432800-1738443600@sevenfeathers.com
SUMMARY:Greatest Of The Grape Silent Auction
DESCRIPTION:Saturday\, February 1 at from 6:00PM to 9:00PM. \nBuy your tickets for this event at www.UmpquaValleyWineries.org. VIP tickets are available.    \nJoin us for Oregon’s oldest wine celebration to acknowledge the wine makers of Douglas County. There will be live music\, appetizers\, wine tastings\, the famous wheel of wine\, and much more! There will also be a silent auction to raise money for the Umpqua Valley Winegrowers Association.
URL:https://sevenfeathers.com/event/greatest-of-the-grape-silent-auction/
LOCATION:OR
CATEGORIES:Entertainment
END:VEVENT
BEGIN:VEVENT
DTSTART;TZID=America/Los_Angeles:20250207T200000
DTEND;TZID=America/Los_Angeles:20250207T213000
DTSTAMP:20260423T151825
CREATED:20241015T192625Z
LAST-MODIFIED:20250131T163746Z
UID:10007956-1738958400-1738963800@sevenfeathers.com
SUMMARY:Iam Tongi
DESCRIPTION:Friday\, February 7 at 8:00PM \nCome enjoy a night of inspiring music when American Idol winner\, Iam Tongi\, brings his Pacific Island sounds to the Umpqua Grand Ballroom. With original songs like I’ll Be Seeing You and The Winner Takes It All\, you won’t want to miss this incredible live performance. \nReserved Seating $35\, $45\, $55 \nTickets on sale now. Purchase tickets in person at the Gift Gallery\, online at sevenfeathers.com or call Etix at 800.514.3849. Etix is the sole ticket provider for all Seven Feathers Casino Resort events. Not responsible for third party ticket sales.  Doors open at 7:00PM. Must be 21 or older. Concert Attendees – due to venue configuration\, standing during the concert can be expected\, please be sensitive to the mobility impaired that may surround your seat. \nClick here to purchase tickets.
URL:https://sevenfeathers.com/event/iam-tongi/
LOCATION:Umpqua Grand Ballroom\, 146 Chief Miwaleta Ln\, Canyonville\, OR\, 97417\, United States
CATEGORIES:Entertainment
END:VEVENT
BEGIN:VEVENT
DTSTART;TZID=America/Los_Angeles:20250209T140000
DTEND;TZID=America/Los_Angeles:20250209T180000
DTSTAMP:20260423T151825
CREATED:20241212T170441Z
LAST-MODIFIED:20241212T170441Z
UID:10008019-1739109600-1739124000@sevenfeathers.com
SUMMARY:Super Party
DESCRIPTION:Sunday\, February 9. Kick-off 3:30PM. \nDoors open at 2:00PM. \nReserved Seating for this event is $30. \nCome and enjoy giveaways during the game! \nWatch the big game on the big screens in the Umpqua Grand Ballroom\, and enjoy free Tailgate Food for all guests! \n\nTickets on sale now. Purchase tickets in person at the Gift Gallery or call Etix at 800.514.3849. Etix is the sole ticket provider for all Seven Feathers Casino Resort events. Not responsible for third party ticket sales. Must be 21 or older.
URL:https://sevenfeathers.com/event/super-party/
LOCATION:Umpqua Grand Ballroom\, 146 Chief Miwaleta Ln\, Canyonville\, OR\, 97417\, United States
CATEGORIES:Entertainment
END:VEVENT
BEGIN:VEVENT
DTSTART;TZID=America/Los_Angeles:20250308T190000
DTEND;TZID=America/Los_Angeles:20250308T203000
DTSTAMP:20260423T151825
CREATED:20241212T234224Z
LAST-MODIFIED:20250228T002540Z
UID:10008020-1741460400-1741465800@sevenfeathers.com
SUMMARY:Drake Milligan
DESCRIPTION:Saturday\, March 8 at 7:00PM \nReserved Seating $20\, $25\, $30 \n \nTickets on sale now. Purchase tickets in person at the Gift Gallery\, by clicking here\, or calling Etix at 800.514.3849. Etix is the sole ticket provider for all Seven Feathers Casino Resort events. Not responsible for third party ticket sales. Doors open at 6:00PM. Must be 21 or older. Concert Attendees – due to venue configuration\, standing during the concert can be expected\, please be sensitive to the mobility impaired that may surround your seat.
URL:https://sevenfeathers.com/event/drake-milligan/
LOCATION:Umpqua Grand Ballroom\, 146 Chief Miwaleta Ln\, Canyonville\, OR\, 97417\, United States
CATEGORIES:Entertainment
END:VEVENT
BEGIN:VEVENT
DTSTART;TZID=America/Los_Angeles:20250314T200000
DTEND;TZID=America/Los_Angeles:20250314T213000
DTSTAMP:20260423T151825
CREATED:20240812T192154Z
LAST-MODIFIED:20250122T183918Z
UID:10007889-1741982400-1741987800@sevenfeathers.com
SUMMARY:Tyler Henry
DESCRIPTION:Two shows! \n\nFriday\, March 14 at 8:00PM\nSaturday\, March 15 at 7:00PM\n\nClick here to purchase your tickets. \nCome enjoy a night with The Hollwood Medium\, Tyler Henry. Known for his shows his shows\, Hollywood Medium with Tyler Henry and Life After Death with Tyler Henry\, this night will be one you won’t forget as Tyler uses his clairvoyant abilities to inspire and entertain. \nReserved Seating $70\, $80\, $90 \nTickets go on sale November 13. Purchase tickets in person at the Gift Gallery\, online at sevenfeathers.com or call Etix at 800.514.3849. Etix is the sole ticket provider for all Seven Feathers Casino Resort events. Not responsible for third party ticket sales. Doors open one hour prior to show time. Must be 21 or older. Concert Attendees – due to venue configuration\, standing during the concert can be expected\, please be sensitive to the mobility impaired that may surround your seat. \n  \nClick here to purchase your tickets.
URL:https://sevenfeathers.com/event/tyler-henry/
LOCATION:Umpqua Grand Ballroom\, 146 Chief Miwaleta Ln\, Canyonville\, OR\, 97417\, United States
CATEGORIES:Entertainment
END:VEVENT
BEGIN:VEVENT
DTSTART;TZID=America/Los_Angeles:20250315T190000
DTEND;TZID=America/Los_Angeles:20250315T203000
DTSTAMP:20260423T151825
CREATED:20241107T222401Z
LAST-MODIFIED:20250122T183825Z
UID:10007992-1742065200-1742070600@sevenfeathers.com
SUMMARY:Tyler Henry
DESCRIPTION:Two shows! \n\nFriday\, March 14 at 8:00PM\nSaturday\, March 15 at 7:00PM\n\nClick here to purchase your tickets. \nCome enjoy a night with The Hollwood Medium\, Tyler Henry. Known for his shows his shows\, Hollywood Medium with Tyler Henry and Life After Death with Tyler Henry\, this night will be one you won’t forget as Tyler uses his clairvoyant abilities to inspire and entertain. \nReserved Seating $70\, $80\, $90 \nTickets go on sale November 13. Purchase tickets in person at the Gift Gallery\, online at sevenfeathers.com or call Etix at 800.514.3849. Etix is the sole ticket provider for all Seven Feathers Casino Resort events. Not responsible for third party ticket sales. Doors open one hour prior to show time. Must be 21 or older. Concert Attendees – due to venue configuration\, standing during the concert can be expected\, please be sensitive to the mobility impaired that may surround your seat. \n  \nClick here to purchase your tickets.
URL:https://sevenfeathers.com/event/tyler-henry-2/
LOCATION:Umpqua Grand Ballroom\, 146 Chief Miwaleta Ln\, Canyonville\, OR\, 97417\, United States
CATEGORIES:Entertainment
END:VEVENT
BEGIN:VEVENT
DTSTART;TZID=America/Los_Angeles:20250328T140000
DTEND;TZID=America/Los_Angeles:20250328T220000
DTSTAMP:20260423T151825
CREATED:20250125T070039Z
LAST-MODIFIED:20250125T070239Z
UID:10008633-1743170400-1743199200@sevenfeathers.com
SUMMARY:7th Annual Seven Feathers Tattoo Expo
DESCRIPTION:Friday\, March 28 from 2:00 to 10:00PM\nSaturday\, March 29 from Noon to 10:00PM\nSunday\, March 30 from Noon to 7:00PM \nDaily Admission $15 at the door (includes wristband and in/out privileges for day of purchase). Children 14 and under enter for free.\nThree-day VIP Passes $35 are on sale now.\nPurchase VIP Passes online at sevenfeatherstattooexpo.com. \nThere will be contests for Healed Tattoos & Tattoos of the Day (tattoos done at the convention). \nOpen to all ages. Minors\, please use West Convention Center entrance. Children under 18 must be accompanied by an adult. Must be 18 or older to be tattooed.
URL:https://sevenfeathers.com/event/7th-annual-seven-feathers-tattoo-expo/
LOCATION:Umpqua Grand Ballroom\, 146 Chief Miwaleta Ln\, Canyonville\, OR\, 97417\, United States
CATEGORIES:Entertainment
END:VEVENT
BEGIN:VEVENT
DTSTART;TZID=America/Los_Angeles:20250329T120000
DTEND;TZID=America/Los_Angeles:20250329T220000
DTSTAMP:20260423T151825
CREATED:20250125T070336Z
LAST-MODIFIED:20250125T070336Z
UID:10008634-1743249600-1743285600@sevenfeathers.com
SUMMARY:7th Annual Seven Feathers Tattoo Expo
DESCRIPTION:Friday\, March 28 from 2:00 to 10:00PM\nSaturday\, March 29 from Noon to 10:00PM\nSunday\, March 30 from Noon to 7:00PM \nDaily Admission $15 at the door (includes wristband and in/out privileges for day of purchase). Children 14 and under enter for free.\nThree-day VIP Passes $35 are on sale now.\nPurchase VIP Passes online at sevenfeatherstattooexpo.com. \nThere will be contests for Healed Tattoos & Tattoos of the Day (tattoos done at the convention). \nOpen to all ages. Minors\, please use West Convention Center entrance. Children under 18 must be accompanied by an adult. Must be 18 or older to be tattooed.
URL:https://sevenfeathers.com/event/7th-annual-seven-feathers-tattoo-expo-2/
LOCATION:Umpqua Grand Ballroom\, 146 Chief Miwaleta Ln\, Canyonville\, OR\, 97417\, United States
CATEGORIES:Entertainment
END:VEVENT
BEGIN:VEVENT
DTSTART;TZID=America/Los_Angeles:20250330T120000
DTEND;TZID=America/Los_Angeles:20250330T190000
DTSTAMP:20260423T151825
CREATED:20250125T070436Z
LAST-MODIFIED:20250204T190354Z
UID:10008635-1743336000-1743361200@sevenfeathers.com
SUMMARY:7th Annual Seven Feathers Tattoo Expo
DESCRIPTION:Friday\, March 28 from 2:00 to 10:00PM\nSaturday\, March 29 from Noon to 10:00PM\nSunday\, March 30 from Noon to 7:00PM \nDaily Admission $15 at the door (includes wristband and in/out privileges for day of purchase). Children 14 and under enter for free.\nThree-day VIP Passes $35 are on sale now.\nPurchase VIP Passes online at Seven Feathers Tattoo Expo 2025. \nThere will be contests for Healed Tattoos & Tattoos of the Day (tattoos done at the convention). \nOpen to all ages. Minors\, please use West Convention Center entrance. Children under 18 must be accompanied by an adult. Must be 18 or older to be tattooed.
URL:https://sevenfeathers.com/event/7th-annual-seven-feathers-tattoo-expo-3/
LOCATION:Umpqua Grand Ballroom\, 146 Chief Miwaleta Ln\, Canyonville\, OR\, 97417\, United States
CATEGORIES:Entertainment
END:VEVENT
BEGIN:VEVENT
DTSTART;TZID=America/Los_Angeles:20250402T190000
DTEND;TZID=America/Los_Angeles:20250402T230000
DTSTAMP:20260423T151825
CREATED:20240429T235504Z
LAST-MODIFIED:20250404T180842Z
UID:10008954-1743620400-1743634800@sevenfeathers.com
SUMMARY:Revolution in the Elements Lounge
DESCRIPTION:See Revolution: A Tribute to the 60s in the Elements Lounge! \nAdmission is free. Must be 21 or older. Hours and performers subject to change.
URL:https://sevenfeathers.com/event/revolution/2025-04-02/
LOCATION:Elements Lounge\, 146 Chief Miwaleta Ln\, Canyonville\, OR\, 97417\, United States
CATEGORIES:Entertainment
END:VEVENT
BEGIN:VEVENT
DTSTART;TZID=America/Los_Angeles:20250404T210000
DTEND;TZID=America/Los_Angeles:20250405T010000
DTSTAMP:20260423T151825
CREATED:20240429T235544Z
LAST-MODIFIED:20250404T181355Z
UID:10008956-1743800400-1743814800@sevenfeathers.com
SUMMARY:Revolution in the Elements Lounge
DESCRIPTION:See Revolution: A Tribute to the 60s in the Elements Lounge! \nAdmission is free. Must be 21 or older. Hours and performers subject to change.
URL:https://sevenfeathers.com/event/revolution-2/2025-04-04/
LOCATION:Elements Lounge\, 146 Chief Miwaleta Ln\, Canyonville\, OR\, 97417\, United States
CATEGORIES:Entertainment
END:VEVENT
BEGIN:VEVENT
DTSTART;TZID=America/Los_Angeles:20250411T190000
DTEND;TZID=America/Los_Angeles:20250411T210000
DTSTAMP:20260423T151825
CREATED:20250226T203048Z
LAST-MODIFIED:20250226T203048Z
UID:10008768-1744398000-1744405200@sevenfeathers.com
SUMMARY:Single Mingle
DESCRIPTION: Friday\, April 11 \n\nThis event lasts from 7:00 to 9:00PM. \n\nCome meet new people at this exclusive dating event. Join us in Steelhead Lounge. \n\nWe will have a live DJ\, tapas\, games\, prizes and more. \n\nAdmission is $10\, and if you bring a friend\, you both pay half price! \n\nAdmission includes tapas. Must be 21 or older.
URL:https://sevenfeathers.com/event/single-mingle-2/
LOCATION:Steelhead Lounge\, 146 Chief Miwaleta Ln\, Canyonville\, OR\, 97417\, United States
CATEGORIES:Entertainment
END:VEVENT
BEGIN:VEVENT
DTSTART;TZID=America/Los_Angeles:20250416T190000
DTEND;TZID=America/Los_Angeles:20250416T230000
DTSTAMP:20260423T151825
CREATED:20241017T165542Z
LAST-MODIFIED:20250411T211659Z
UID:10008983-1744830000-1744844400@sevenfeathers.com
SUMMARY:Aurora
DESCRIPTION:Enjoy a night of free live music with Aurora! \nAdmission is free. Must be 21 or older. Hours and performers subject to change.
URL:https://sevenfeathers.com/event/aurora-9-2/2025-04-16/
LOCATION:Elements Lounge\, 146 Chief Miwaleta Ln\, Canyonville\, OR\, 97417\, United States
CATEGORIES:Entertainment
END:VEVENT
BEGIN:VEVENT
DTSTART;TZID=America/Los_Angeles:20250419T190000
DTEND;TZID=America/Los_Angeles:20250419T203000
DTSTAMP:20260423T151825
CREATED:20250116T033617Z
LAST-MODIFIED:20250205T174438Z
UID:10008296-1745089200-1745094600@sevenfeathers.com
SUMMARY:Forever Seger
DESCRIPTION:Join us Saturday\, April 19th at 7:00PM for Forever Seger! \nTickets are on sale now! Reserved Regular Seating is $25\, Reserved Table Seating is $30\, and our Premiere Reserved Table Seating is $40 \n \nPurchase tickets in person at the Gift Gallery\, by clicking here\, or calling Etix at 800.514.3849. Etix is the sole ticket provider for all Seven Feathers Casino Resort events. Not responsible for third party ticket sales. Doors open at 6:00PM. Must be 21 or older. Concert Attendees – due to venue configuration\, standing during the concert can be expected\, please be sensitive to the mobility impaired that may surround your seat.
URL:https://sevenfeathers.com/event/forever-seger/
LOCATION:Umpqua Grand Ballroom\, 146 Chief Miwaleta Ln\, Canyonville\, OR\, 97417\, United States
CATEGORIES:Entertainment
END:VEVENT
BEGIN:VEVENT
DTSTART;TZID=America/Los_Angeles:20250423T190000
DTEND;TZID=America/Los_Angeles:20250423T230000
DTSTAMP:20260423T151825
CREATED:20250411T212229Z
LAST-MODIFIED:20250411T212258Z
UID:10007988-1745434800-1745449200@sevenfeathers.com
SUMMARY:Bump In The Road
DESCRIPTION:Enjoy free live music weekly in the Elements Lounge!
URL:https://sevenfeathers.com/event/bump-in-the-road-7-2/2025-04-23/
LOCATION:OR
CATEGORIES:Entertainment
END:VEVENT
BEGIN:VEVENT
DTSTART;TZID=America/Los_Angeles:20250430T190000
DTEND;TZID=America/Los_Angeles:20250430T230000
DTSTAMP:20260423T151825
CREATED:20250411T212639Z
LAST-MODIFIED:20250411T212744Z
UID:10007942-1746039600-1746054000@sevenfeathers.com
SUMMARY:Jeff Crossman
DESCRIPTION:Country rock artist Jeff Crossman takes the stage for an incredible show!
URL:https://sevenfeathers.com/event/jeff-crossman-8-2/2025-04-30/
LOCATION:Elements Lounge\, 146 Chief Miwaleta Ln\, Canyonville\, OR\, 97417\, United States
CATEGORIES:Entertainment
END:VEVENT
BEGIN:VEVENT
DTSTART;TZID=America/Los_Angeles:20250501T000000
DTEND;TZID=America/Los_Angeles:20250531T235959
DTSTAMP:20260423T151825
CREATED:20250404T173703Z
LAST-MODIFIED:20250507T192622Z
UID:10008953-1746057600-1748735999@sevenfeathers.com
SUMMARY:Pinball Palooza 2025
DESCRIPTION:We will host pinball from May 1 through May 31. \nWe will have 20 Pinball machines to choose from in Steelhead Lounge. The pinball machines are available for guests to play at any time throughout May when a tournament is not in session. There is a quarter change machine available in Steelhead Lounge. \nCome join us and enter a Fair Strikes Pinball Tournament! For more information about the tournaments click here. \nFor any other questions\, you can call 541-643-2200. \nTournaments will be every Sunday in May from 11:00AM to 6:00PM. Machines for the tournament will be assigned at random. \nSign-ups begin at 11:00AM\, and the games being at Noon. \n$5 entry fee. Must be 21 or older.
URL:https://sevenfeathers.com/event/pinball-palooza-2025/
LOCATION:Steelhead Lounge\, 146 Chief Miwaleta Ln\, Canyonville\, OR\, 97417\, United States
CATEGORIES:Entertainment
END:VEVENT
BEGIN:VEVENT
DTSTART;TZID=America/Los_Angeles:20250507T190000
DTEND;TZID=America/Los_Angeles:20250507T230000
DTSTAMP:20260423T151825
CREATED:20250501T232003Z
LAST-MODIFIED:20250501T233941Z
UID:10010241-1746644400-1746658800@sevenfeathers.com
SUMMARY:Dan Harmon and Cascade Country
DESCRIPTION:Be our guest! Admission to this show is free. \nGuests must be 21 or older. Hours and performers subject to change.
URL:https://sevenfeathers.com/event/dan-harmon-and-cascade-country-5/2025-05-07/
LOCATION:Elements Lounge\, 146 Chief Miwaleta Ln\, Canyonville\, OR\, 97417\, United States
CATEGORIES:Entertainment
END:VEVENT
BEGIN:VEVENT
DTSTART;TZID=America/Los_Angeles:20250509T210000
DTEND;TZID=America/Los_Angeles:20250510T010000
DTSTAMP:20260423T151825
CREATED:20250501T232250Z
LAST-MODIFIED:20250501T233919Z
UID:10010243-1746824400-1746838800@sevenfeathers.com
SUMMARY:Dan Harmon and Cascade Country
DESCRIPTION:Be our guest! Admission to this show is free. \nGuests must be 21 or older. Hours and performers subject to change.
URL:https://sevenfeathers.com/event/dan-harmon-and-cascade-country-6/2025-05-09/
LOCATION:Elements Lounge\, 146 Chief Miwaleta Ln\, Canyonville\, OR\, 97417\, United States
CATEGORIES:Entertainment
END:VEVENT
BEGIN:VEVENT
DTSTART;TZID=America/Los_Angeles:20250510T190000
DTEND;TZID=America/Los_Angeles:20250510T220000
DTSTAMP:20260423T151825
CREATED:20250206T180015Z
LAST-MODIFIED:20250430T235939Z
UID:10008760-1746903600-1746914400@sevenfeathers.com
SUMMARY:Live MMA Action
DESCRIPTION:LIVE MMA ACTION \nat Seven Feathers \nSaturday\, May 10 at 7:00PM. \nCLICK HERE TO PURCHASE TICKETS. \nBrought to you by Clinch Fight Club XI (formerly CageWarriors NW VI). \n  \nReserved Seating $50\, $60 & $70 \n  \nView the Fight Card. \n  \nGet free admission to the pre-fight interviews and weigh-in\, Friday\, May 9 from 5:00 to 8:00PM in Elements Lounge. \n  \nMust be 21 or older. \n  \nTickets go on sale Wednesday\, February 12 at 10:00AM. Purchase tickets in person at the Gift Gallery or call Etix at 800.514.3849. Etix is the sole ticket provider for all Seven Feathers Casino Resort events. Not responsible for third party ticket sales. Doors open at 6:00PM.  Must be 21 or older.
URL:https://sevenfeathers.com/event/live-mma-action-2/
LOCATION:Umpqua Grand Ballroom\, 146 Chief Miwaleta Ln\, Canyonville\, OR\, 97417\, United States
CATEGORIES:Entertainment
END:VEVENT
BEGIN:VEVENT
DTSTART;TZID=America/Los_Angeles:20250514T190000
DTEND;TZID=America/Los_Angeles:20250514T230000
DTSTAMP:20260423T151825
CREATED:20250501T232410Z
LAST-MODIFIED:20250501T233828Z
UID:10010245-1747249200-1747263600@sevenfeathers.com
SUMMARY:Saucy
DESCRIPTION:Be our guest! Admission to this show is free. \nGuests must be 21 or older. Hours and performers subject to change.
URL:https://sevenfeathers.com/event/saucy/2025-05-14/
LOCATION:Elements Lounge\, 146 Chief Miwaleta Ln\, Canyonville\, OR\, 97417\, United States
CATEGORIES:Entertainment
END:VEVENT
END:VCALENDAR