BEGIN:VCALENDAR
VERSION:2.0
PRODID:-//Seven Feathers Casino - ECPv6.15.16//NONSGML v1.0//EN
CALSCALE:GREGORIAN
METHOD:PUBLISH
X-ORIGINAL-URL:https://sevenfeathers.com
X-WR-CALDESC:Events for Seven Feathers Casino
REFRESH-INTERVAL;VALUE=DURATION:PT1H
X-Robots-Tag:noindex
X-PUBLISHED-TTL:PT1H
BEGIN:VTIMEZONE
TZID:America/Los_Angeles
BEGIN:DAYLIGHT
TZOFFSETFROM:-0800
TZOFFSETTO:-0700
TZNAME:PDT
DTSTART:20250309T100000
END:DAYLIGHT
BEGIN:STANDARD
TZOFFSETFROM:-0700
TZOFFSETTO:-0800
TZNAME:PST
DTSTART:20251102T090000
END:STANDARD
BEGIN:DAYLIGHT
TZOFFSETFROM:-0800
TZOFFSETTO:-0700
TZNAME:PDT
DTSTART:20260308T100000
END:DAYLIGHT
BEGIN:STANDARD
TZOFFSETFROM:-0700
TZOFFSETTO:-0800
TZNAME:PST
DTSTART:20261101T090000
END:STANDARD
BEGIN:DAYLIGHT
TZOFFSETFROM:-0800
TZOFFSETTO:-0700
TZNAME:PDT
DTSTART:20270314T100000
END:DAYLIGHT
BEGIN:STANDARD
TZOFFSETFROM:-0700
TZOFFSETTO:-0800
TZNAME:PST
DTSTART:20271107T090000
END:STANDARD
END:VTIMEZONE
BEGIN:VEVENT
DTSTART;TZID=America/Los_Angeles:20260730T190000
DTEND;TZID=America/Los_Angeles:20260730T220000
DTSTAMP:20260423T131120
CREATED:20260101T035427Z
LAST-MODIFIED:20260102T204239Z
UID:10012846-1785438000-1785448800@sevenfeathers.com
SUMMARY:Line Dancing in Elements
DESCRIPTION:Every Thursday at 7:00PM. \n  \nCome join us each week for free Line-Dancing lessons! \n  \n2-hour lessons\, and Beginners are welcome. \n  \nMust be 21 or older.
URL:https://sevenfeathers.com/event/line-dancing-in-elements/2026-07-30/
LOCATION:Elements Lounge\, 146 Chief Miwaleta Ln\, Canyonville\, OR\, 97417\, United States
CATEGORIES:Entertainment
ATTACH;FMTTYPE=image/jpeg:https://sevenfeathers.com/wp-content/uploads/2025/12/Line-Dancing-in-Elements-2026-1920x1080-1.jpg
END:VEVENT
BEGIN:VEVENT
DTSTART;TZID=America/Los_Angeles:20260731T150000
DTEND;TZID=America/Los_Angeles:20260801T020000
DTSTAMP:20260423T131120
CREATED:20260422T225118Z
LAST-MODIFIED:20260423T163607Z
UID:10014349-1785510000-1785549600@sevenfeathers.com
SUMMARY:Bubbles and Funk in Steelhead Lounge
DESCRIPTION:Join the fun starting on April 30! \nEvery Thursday & Sunday from 3:00 to 11:00PM. \nEvery Friday & Saturday from 3:00PM to 2:00AM. \n  \nEnjoy your funky music favorites from a live DJ on Fridays & Saturdays from 8:00PM to Midnight. \n  \nBubbles and Funk will include Champagne Features\, Signature Cocktails\, Sparkling Wines\, Drop Beats and the Feel of Funk!
URL:https://sevenfeathers.com/event/bubbles-and-funk-in-steelhead-lounge-3/2026-07-31/
LOCATION:Steelhead Lounge\, 146 Chief Miwaleta Ln\, Canyonville\, OR\, 97417\, United States
CATEGORIES:Entertainment
ATTACH;FMTTYPE=image/jpeg:https://sevenfeathers.com/wp-content/uploads/2026/04/7F-Bubbles-and-Funk-2026-1920x1080-WEB-1.jpg
END:VEVENT
BEGIN:VEVENT
DTSTART;TZID=America/Los_Angeles:20260801T150000
DTEND;TZID=America/Los_Angeles:20260802T020000
DTSTAMP:20260423T131120
CREATED:20260422T224641Z
LAST-MODIFIED:20260423T163629Z
UID:10014307-1785596400-1785636000@sevenfeathers.com
SUMMARY:Bubbles and Funk in Steelhead Lounge
DESCRIPTION:Join the fun starting on April 30! \nEvery Thursday & Sunday from 3:00 to 11:00PM. \nEvery Friday & Saturday from 3:00PM to 2:00AM. \n  \nEnjoy your funky music favorites from a live DJ on Fridays & Saturdays from 8:00PM to Midnight. \n  \nBubbles and Funk will include Champagne Features\, Signature Cocktails\, Sparkling Wines\, Drop Beats and the Feel of Funk!
URL:https://sevenfeathers.com/event/bubbles-and-funk-in-steelhead-lounge/2026-08-01/
LOCATION:Steelhead Lounge\, 146 Chief Miwaleta Ln\, Canyonville\, OR\, 97417\, United States
CATEGORIES:Entertainment
ATTACH;FMTTYPE=image/jpeg:https://sevenfeathers.com/wp-content/uploads/2026/04/7F-Bubbles-and-Funk-2026-1920x1080-WEB-1.jpg
END:VEVENT
BEGIN:VEVENT
DTSTART;TZID=America/Los_Angeles:20260802T150000
DTEND;TZID=America/Los_Angeles:20260802T230000
DTSTAMP:20260423T131120
CREATED:20260422T225137Z
LAST-MODIFIED:20260423T163557Z
UID:10014363-1785682800-1785711600@sevenfeathers.com
SUMMARY:Bubbles and Funk in Steelhead Lounge
DESCRIPTION:Join the fun starting on April 30! \nEvery Thursday & Sunday from 3:00 to 11:00PM. \nEvery Friday & Saturday from 3:00PM to 2:00AM. \n  \nEnjoy your funky music favorites from a live DJ on Fridays & Saturdays from 8:00PM to Midnight. \n  \nBubbles and Funk will include Champagne Features\, Signature Cocktails\, Sparkling Wines\, Drop Beats and the Feel of Funk!
URL:https://sevenfeathers.com/event/bubbles-and-funk-in-steelhead-lounge-4/2026-08-02/
LOCATION:Steelhead Lounge\, 146 Chief Miwaleta Ln\, Canyonville\, OR\, 97417\, United States
CATEGORIES:Entertainment
ATTACH;FMTTYPE=image/jpeg:https://sevenfeathers.com/wp-content/uploads/2026/04/7F-Bubbles-and-Funk-2026-1920x1080-WEB-1.jpg
END:VEVENT
BEGIN:VEVENT
DTSTART;TZID=America/Los_Angeles:20260802T190000
DTEND;TZID=America/Los_Angeles:20260802T200000
DTSTAMP:20260423T131120
CREATED:20250401T204520Z
LAST-MODIFIED:20260101T040356Z
UID:10012898-1785697200-1785700800@sevenfeathers.com
SUMMARY:DJ Trivia in Elements
DESCRIPTION:Play DJ Trivia with us weekly for a chance to win fun prizes! Participation is free and registration begins at 6:45PM.
URL:https://sevenfeathers.com/event/dj-trivia-3-2/2026-08-02/
LOCATION:Elements Lounge\, 146 Chief Miwaleta Ln\, Canyonville\, OR\, 97417\, United States
CATEGORIES:Entertainment,Ongoing
END:VEVENT
BEGIN:VEVENT
DTSTART;TZID=America/Los_Angeles:20260806T190000
DTEND;TZID=America/Los_Angeles:20260806T220000
DTSTAMP:20260423T131120
CREATED:20260101T035427Z
LAST-MODIFIED:20260102T204239Z
UID:10012847-1786042800-1786053600@sevenfeathers.com
SUMMARY:Line Dancing in Elements
DESCRIPTION:Every Thursday at 7:00PM. \n  \nCome join us each week for free Line-Dancing lessons! \n  \n2-hour lessons\, and Beginners are welcome. \n  \nMust be 21 or older.
URL:https://sevenfeathers.com/event/line-dancing-in-elements/2026-08-06/
LOCATION:Elements Lounge\, 146 Chief Miwaleta Ln\, Canyonville\, OR\, 97417\, United States
CATEGORIES:Entertainment
ATTACH;FMTTYPE=image/jpeg:https://sevenfeathers.com/wp-content/uploads/2025/12/Line-Dancing-in-Elements-2026-1920x1080-1.jpg
END:VEVENT
BEGIN:VEVENT
DTSTART;TZID=America/Los_Angeles:20260809T190000
DTEND;TZID=America/Los_Angeles:20260809T200000
DTSTAMP:20260423T131120
CREATED:20250401T204520Z
LAST-MODIFIED:20260101T040356Z
UID:10012899-1786302000-1786305600@sevenfeathers.com
SUMMARY:DJ Trivia in Elements
DESCRIPTION:Play DJ Trivia with us weekly for a chance to win fun prizes! Participation is free and registration begins at 6:45PM.
URL:https://sevenfeathers.com/event/dj-trivia-3-2/2026-08-09/
LOCATION:Elements Lounge\, 146 Chief Miwaleta Ln\, Canyonville\, OR\, 97417\, United States
CATEGORIES:Entertainment,Ongoing
END:VEVENT
BEGIN:VEVENT
DTSTART;TZID=America/Los_Angeles:20260813T190000
DTEND;TZID=America/Los_Angeles:20260813T220000
DTSTAMP:20260423T131120
CREATED:20260101T035427Z
LAST-MODIFIED:20260102T204239Z
UID:10012848-1786647600-1786658400@sevenfeathers.com
SUMMARY:Line Dancing in Elements
DESCRIPTION:Every Thursday at 7:00PM. \n  \nCome join us each week for free Line-Dancing lessons! \n  \n2-hour lessons\, and Beginners are welcome. \n  \nMust be 21 or older.
URL:https://sevenfeathers.com/event/line-dancing-in-elements/2026-08-13/
LOCATION:Elements Lounge\, 146 Chief Miwaleta Ln\, Canyonville\, OR\, 97417\, United States
CATEGORIES:Entertainment
ATTACH;FMTTYPE=image/jpeg:https://sevenfeathers.com/wp-content/uploads/2025/12/Line-Dancing-in-Elements-2026-1920x1080-1.jpg
END:VEVENT
BEGIN:VEVENT
DTSTART;TZID=America/Los_Angeles:20260816T190000
DTEND;TZID=America/Los_Angeles:20260816T200000
DTSTAMP:20260423T131120
CREATED:20250401T204520Z
LAST-MODIFIED:20260101T040356Z
UID:10012900-1786906800-1786910400@sevenfeathers.com
SUMMARY:DJ Trivia in Elements
DESCRIPTION:Play DJ Trivia with us weekly for a chance to win fun prizes! Participation is free and registration begins at 6:45PM.
URL:https://sevenfeathers.com/event/dj-trivia-3-2/2026-08-16/
LOCATION:Elements Lounge\, 146 Chief Miwaleta Ln\, Canyonville\, OR\, 97417\, United States
CATEGORIES:Entertainment,Ongoing
END:VEVENT
BEGIN:VEVENT
DTSTART;TZID=America/Los_Angeles:20260820T190000
DTEND;TZID=America/Los_Angeles:20260820T220000
DTSTAMP:20260423T131120
CREATED:20260101T035427Z
LAST-MODIFIED:20260102T204239Z
UID:10012849-1787252400-1787263200@sevenfeathers.com
SUMMARY:Line Dancing in Elements
DESCRIPTION:Every Thursday at 7:00PM. \n  \nCome join us each week for free Line-Dancing lessons! \n  \n2-hour lessons\, and Beginners are welcome. \n  \nMust be 21 or older.
URL:https://sevenfeathers.com/event/line-dancing-in-elements/2026-08-20/
LOCATION:Elements Lounge\, 146 Chief Miwaleta Ln\, Canyonville\, OR\, 97417\, United States
CATEGORIES:Entertainment
ATTACH;FMTTYPE=image/jpeg:https://sevenfeathers.com/wp-content/uploads/2025/12/Line-Dancing-in-Elements-2026-1920x1080-1.jpg
END:VEVENT
BEGIN:VEVENT
DTSTART;TZID=America/Los_Angeles:20260822T190000
DTEND;TZID=America/Los_Angeles:20260822T203000
DTSTAMP:20260423T131120
CREATED:20260423T164842Z
LAST-MODIFIED:20260423T164842Z
UID:10014391-1787425200-1787430600@sevenfeathers.com
SUMMARY:David Brighton’s Space Oddity
DESCRIPTION:Saturday\, August 22 at 7:00PM \n  \nThe Quintessential David Bowie Tribute Experience is coming to Seven Feathers \n  \nReserved Seating $25\, $30\, $35 \n  \nTickets on sale Wednesday\, April 29 at 10:00AM. Purchase tickets in person at the Gift Gallery or call Etix at 800.514.3849. Etix is the sole ticket provider for all Seven Feathers Casino Resort events. Not responsible for third party ticket sales. Doors open at 7:00PM. Must be 21 or older. Concert Attendees – due to venue configuration\, standing during the concert can be expected\, please be sensitive to the mobility impaired that may surround your seat.
URL:https://sevenfeathers.com/event/david-brightons-space-oddity/
LOCATION:Umpqua Grand Ballroom\, 146 Chief Miwaleta Ln\, Canyonville\, OR\, 97417\, United States
CATEGORIES:Entertainment
ATTACH;FMTTYPE=image/jpeg:https://sevenfeathers.com/wp-content/uploads/2026/04/7F-Space-Oddity-1920x1080-WEB.jpg
END:VEVENT
BEGIN:VEVENT
DTSTART;TZID=America/Los_Angeles:20260823T190000
DTEND;TZID=America/Los_Angeles:20260823T200000
DTSTAMP:20260423T131120
CREATED:20250401T204520Z
LAST-MODIFIED:20260101T040356Z
UID:10012901-1787511600-1787515200@sevenfeathers.com
SUMMARY:DJ Trivia in Elements
DESCRIPTION:Play DJ Trivia with us weekly for a chance to win fun prizes! Participation is free and registration begins at 6:45PM.
URL:https://sevenfeathers.com/event/dj-trivia-3-2/2026-08-23/
LOCATION:Elements Lounge\, 146 Chief Miwaleta Ln\, Canyonville\, OR\, 97417\, United States
CATEGORIES:Entertainment,Ongoing
END:VEVENT
BEGIN:VEVENT
DTSTART;TZID=America/Los_Angeles:20260827T190000
DTEND;TZID=America/Los_Angeles:20260827T220000
DTSTAMP:20260423T131120
CREATED:20260101T035427Z
LAST-MODIFIED:20260102T204239Z
UID:10012850-1787857200-1787868000@sevenfeathers.com
SUMMARY:Line Dancing in Elements
DESCRIPTION:Every Thursday at 7:00PM. \n  \nCome join us each week for free Line-Dancing lessons! \n  \n2-hour lessons\, and Beginners are welcome. \n  \nMust be 21 or older.
URL:https://sevenfeathers.com/event/line-dancing-in-elements/2026-08-27/
LOCATION:Elements Lounge\, 146 Chief Miwaleta Ln\, Canyonville\, OR\, 97417\, United States
CATEGORIES:Entertainment
ATTACH;FMTTYPE=image/jpeg:https://sevenfeathers.com/wp-content/uploads/2025/12/Line-Dancing-in-Elements-2026-1920x1080-1.jpg
END:VEVENT
BEGIN:VEVENT
DTSTART;TZID=America/Los_Angeles:20260830T190000
DTEND;TZID=America/Los_Angeles:20260830T200000
DTSTAMP:20260423T131120
CREATED:20250401T204520Z
LAST-MODIFIED:20260101T040356Z
UID:10012902-1788116400-1788120000@sevenfeathers.com
SUMMARY:DJ Trivia in Elements
DESCRIPTION:Play DJ Trivia with us weekly for a chance to win fun prizes! Participation is free and registration begins at 6:45PM.
URL:https://sevenfeathers.com/event/dj-trivia-3-2/2026-08-30/
LOCATION:Elements Lounge\, 146 Chief Miwaleta Ln\, Canyonville\, OR\, 97417\, United States
CATEGORIES:Entertainment,Ongoing
END:VEVENT
BEGIN:VEVENT
DTSTART;TZID=America/Los_Angeles:20260903T190000
DTEND;TZID=America/Los_Angeles:20260903T220000
DTSTAMP:20260423T131120
CREATED:20260101T035427Z
LAST-MODIFIED:20260102T204239Z
UID:10012851-1788462000-1788472800@sevenfeathers.com
SUMMARY:Line Dancing in Elements
DESCRIPTION:Every Thursday at 7:00PM. \n  \nCome join us each week for free Line-Dancing lessons! \n  \n2-hour lessons\, and Beginners are welcome. \n  \nMust be 21 or older.
URL:https://sevenfeathers.com/event/line-dancing-in-elements/2026-09-03/
LOCATION:Elements Lounge\, 146 Chief Miwaleta Ln\, Canyonville\, OR\, 97417\, United States
CATEGORIES:Entertainment
ATTACH;FMTTYPE=image/jpeg:https://sevenfeathers.com/wp-content/uploads/2025/12/Line-Dancing-in-Elements-2026-1920x1080-1.jpg
END:VEVENT
BEGIN:VEVENT
DTSTART;TZID=America/Los_Angeles:20260906T190000
DTEND;TZID=America/Los_Angeles:20260906T200000
DTSTAMP:20260423T131120
CREATED:20250401T204520Z
LAST-MODIFIED:20260101T040356Z
UID:10012903-1788721200-1788724800@sevenfeathers.com
SUMMARY:DJ Trivia in Elements
DESCRIPTION:Play DJ Trivia with us weekly for a chance to win fun prizes! Participation is free and registration begins at 6:45PM.
URL:https://sevenfeathers.com/event/dj-trivia-3-2/2026-09-06/
LOCATION:Elements Lounge\, 146 Chief Miwaleta Ln\, Canyonville\, OR\, 97417\, United States
CATEGORIES:Entertainment,Ongoing
END:VEVENT
BEGIN:VEVENT
DTSTART;TZID=America/Los_Angeles:20260910T190000
DTEND;TZID=America/Los_Angeles:20260910T220000
DTSTAMP:20260423T131120
CREATED:20260101T035427Z
LAST-MODIFIED:20260102T204239Z
UID:10012852-1789066800-1789077600@sevenfeathers.com
SUMMARY:Line Dancing in Elements
DESCRIPTION:Every Thursday at 7:00PM. \n  \nCome join us each week for free Line-Dancing lessons! \n  \n2-hour lessons\, and Beginners are welcome. \n  \nMust be 21 or older.
URL:https://sevenfeathers.com/event/line-dancing-in-elements/2026-09-10/
LOCATION:Elements Lounge\, 146 Chief Miwaleta Ln\, Canyonville\, OR\, 97417\, United States
CATEGORIES:Entertainment
ATTACH;FMTTYPE=image/jpeg:https://sevenfeathers.com/wp-content/uploads/2025/12/Line-Dancing-in-Elements-2026-1920x1080-1.jpg
END:VEVENT
BEGIN:VEVENT
DTSTART;TZID=America/Los_Angeles:20260913T190000
DTEND;TZID=America/Los_Angeles:20260913T200000
DTSTAMP:20260423T131120
CREATED:20250401T204520Z
LAST-MODIFIED:20260101T040356Z
UID:10012904-1789326000-1789329600@sevenfeathers.com
SUMMARY:DJ Trivia in Elements
DESCRIPTION:Play DJ Trivia with us weekly for a chance to win fun prizes! Participation is free and registration begins at 6:45PM.
URL:https://sevenfeathers.com/event/dj-trivia-3-2/2026-09-13/
LOCATION:Elements Lounge\, 146 Chief Miwaleta Ln\, Canyonville\, OR\, 97417\, United States
CATEGORIES:Entertainment,Ongoing
END:VEVENT
BEGIN:VEVENT
DTSTART;TZID=America/Los_Angeles:20260917T190000
DTEND;TZID=America/Los_Angeles:20260917T220000
DTSTAMP:20260423T131120
CREATED:20260101T035427Z
LAST-MODIFIED:20260102T204239Z
UID:10012853-1789671600-1789682400@sevenfeathers.com
SUMMARY:Line Dancing in Elements
DESCRIPTION:Every Thursday at 7:00PM. \n  \nCome join us each week for free Line-Dancing lessons! \n  \n2-hour lessons\, and Beginners are welcome. \n  \nMust be 21 or older.
URL:https://sevenfeathers.com/event/line-dancing-in-elements/2026-09-17/
LOCATION:Elements Lounge\, 146 Chief Miwaleta Ln\, Canyonville\, OR\, 97417\, United States
CATEGORIES:Entertainment
ATTACH;FMTTYPE=image/jpeg:https://sevenfeathers.com/wp-content/uploads/2025/12/Line-Dancing-in-Elements-2026-1920x1080-1.jpg
END:VEVENT
BEGIN:VEVENT
DTSTART;TZID=America/Los_Angeles:20260920T190000
DTEND;TZID=America/Los_Angeles:20260920T200000
DTSTAMP:20260423T131120
CREATED:20250401T204520Z
LAST-MODIFIED:20260101T040356Z
UID:10012905-1789930800-1789934400@sevenfeathers.com
SUMMARY:DJ Trivia in Elements
DESCRIPTION:Play DJ Trivia with us weekly for a chance to win fun prizes! Participation is free and registration begins at 6:45PM.
URL:https://sevenfeathers.com/event/dj-trivia-3-2/2026-09-20/
LOCATION:Elements Lounge\, 146 Chief Miwaleta Ln\, Canyonville\, OR\, 97417\, United States
CATEGORIES:Entertainment,Ongoing
END:VEVENT
BEGIN:VEVENT
DTSTART;TZID=America/Los_Angeles:20260924T190000
DTEND;TZID=America/Los_Angeles:20260924T220000
DTSTAMP:20260423T131120
CREATED:20260101T035427Z
LAST-MODIFIED:20260102T204239Z
UID:10012854-1790276400-1790287200@sevenfeathers.com
SUMMARY:Line Dancing in Elements
DESCRIPTION:Every Thursday at 7:00PM. \n  \nCome join us each week for free Line-Dancing lessons! \n  \n2-hour lessons\, and Beginners are welcome. \n  \nMust be 21 or older.
URL:https://sevenfeathers.com/event/line-dancing-in-elements/2026-09-24/
LOCATION:Elements Lounge\, 146 Chief Miwaleta Ln\, Canyonville\, OR\, 97417\, United States
CATEGORIES:Entertainment
ATTACH;FMTTYPE=image/jpeg:https://sevenfeathers.com/wp-content/uploads/2025/12/Line-Dancing-in-Elements-2026-1920x1080-1.jpg
END:VEVENT
BEGIN:VEVENT
DTSTART;TZID=America/Los_Angeles:20260927T190000
DTEND;TZID=America/Los_Angeles:20260927T200000
DTSTAMP:20260423T131120
CREATED:20250401T204520Z
LAST-MODIFIED:20260101T040356Z
UID:10012906-1790535600-1790539200@sevenfeathers.com
SUMMARY:DJ Trivia in Elements
DESCRIPTION:Play DJ Trivia with us weekly for a chance to win fun prizes! Participation is free and registration begins at 6:45PM.
URL:https://sevenfeathers.com/event/dj-trivia-3-2/2026-09-27/
LOCATION:Elements Lounge\, 146 Chief Miwaleta Ln\, Canyonville\, OR\, 97417\, United States
CATEGORIES:Entertainment,Ongoing
END:VEVENT
BEGIN:VEVENT
DTSTART;TZID=America/Los_Angeles:20261001T190000
DTEND;TZID=America/Los_Angeles:20261001T220000
DTSTAMP:20260423T131120
CREATED:20260101T035427Z
LAST-MODIFIED:20260102T204239Z
UID:10012855-1790881200-1790892000@sevenfeathers.com
SUMMARY:Line Dancing in Elements
DESCRIPTION:Every Thursday at 7:00PM. \n  \nCome join us each week for free Line-Dancing lessons! \n  \n2-hour lessons\, and Beginners are welcome. \n  \nMust be 21 or older.
URL:https://sevenfeathers.com/event/line-dancing-in-elements/2026-10-01/
LOCATION:Elements Lounge\, 146 Chief Miwaleta Ln\, Canyonville\, OR\, 97417\, United States
CATEGORIES:Entertainment
ATTACH;FMTTYPE=image/jpeg:https://sevenfeathers.com/wp-content/uploads/2025/12/Line-Dancing-in-Elements-2026-1920x1080-1.jpg
END:VEVENT
BEGIN:VEVENT
DTSTART;TZID=America/Los_Angeles:20261004T190000
DTEND;TZID=America/Los_Angeles:20261004T200000
DTSTAMP:20260423T131120
CREATED:20250401T204520Z
LAST-MODIFIED:20260101T040356Z
UID:10012907-1791140400-1791144000@sevenfeathers.com
SUMMARY:DJ Trivia in Elements
DESCRIPTION:Play DJ Trivia with us weekly for a chance to win fun prizes! Participation is free and registration begins at 6:45PM.
URL:https://sevenfeathers.com/event/dj-trivia-3-2/2026-10-04/
LOCATION:Elements Lounge\, 146 Chief Miwaleta Ln\, Canyonville\, OR\, 97417\, United States
CATEGORIES:Entertainment,Ongoing
END:VEVENT
BEGIN:VEVENT
DTSTART;TZID=America/Los_Angeles:20261008T190000
DTEND;TZID=America/Los_Angeles:20261008T220000
DTSTAMP:20260423T131120
CREATED:20260101T035427Z
LAST-MODIFIED:20260102T204239Z
UID:10012856-1791486000-1791496800@sevenfeathers.com
SUMMARY:Line Dancing in Elements
DESCRIPTION:Every Thursday at 7:00PM. \n  \nCome join us each week for free Line-Dancing lessons! \n  \n2-hour lessons\, and Beginners are welcome. \n  \nMust be 21 or older.
URL:https://sevenfeathers.com/event/line-dancing-in-elements/2026-10-08/
LOCATION:Elements Lounge\, 146 Chief Miwaleta Ln\, Canyonville\, OR\, 97417\, United States
CATEGORIES:Entertainment
ATTACH;FMTTYPE=image/jpeg:https://sevenfeathers.com/wp-content/uploads/2025/12/Line-Dancing-in-Elements-2026-1920x1080-1.jpg
END:VEVENT
BEGIN:VEVENT
DTSTART;TZID=America/Los_Angeles:20261011T190000
DTEND;TZID=America/Los_Angeles:20261011T200000
DTSTAMP:20260423T131120
CREATED:20250401T204520Z
LAST-MODIFIED:20260101T040356Z
UID:10012908-1791745200-1791748800@sevenfeathers.com
SUMMARY:DJ Trivia in Elements
DESCRIPTION:Play DJ Trivia with us weekly for a chance to win fun prizes! Participation is free and registration begins at 6:45PM.
URL:https://sevenfeathers.com/event/dj-trivia-3-2/2026-10-11/
LOCATION:Elements Lounge\, 146 Chief Miwaleta Ln\, Canyonville\, OR\, 97417\, United States
CATEGORIES:Entertainment,Ongoing
END:VEVENT
BEGIN:VEVENT
DTSTART;TZID=America/Los_Angeles:20261015T190000
DTEND;TZID=America/Los_Angeles:20261015T220000
DTSTAMP:20260423T131120
CREATED:20260101T035427Z
LAST-MODIFIED:20260102T204239Z
UID:10012857-1792090800-1792101600@sevenfeathers.com
SUMMARY:Line Dancing in Elements
DESCRIPTION:Every Thursday at 7:00PM. \n  \nCome join us each week for free Line-Dancing lessons! \n  \n2-hour lessons\, and Beginners are welcome. \n  \nMust be 21 or older.
URL:https://sevenfeathers.com/event/line-dancing-in-elements/2026-10-15/
LOCATION:Elements Lounge\, 146 Chief Miwaleta Ln\, Canyonville\, OR\, 97417\, United States
CATEGORIES:Entertainment
ATTACH;FMTTYPE=image/jpeg:https://sevenfeathers.com/wp-content/uploads/2025/12/Line-Dancing-in-Elements-2026-1920x1080-1.jpg
END:VEVENT
BEGIN:VEVENT
DTSTART;TZID=America/Los_Angeles:20261018T190000
DTEND;TZID=America/Los_Angeles:20261018T200000
DTSTAMP:20260423T131120
CREATED:20250401T204520Z
LAST-MODIFIED:20260101T040356Z
UID:10012909-1792350000-1792353600@sevenfeathers.com
SUMMARY:DJ Trivia in Elements
DESCRIPTION:Play DJ Trivia with us weekly for a chance to win fun prizes! Participation is free and registration begins at 6:45PM.
URL:https://sevenfeathers.com/event/dj-trivia-3-2/2026-10-18/
LOCATION:Elements Lounge\, 146 Chief Miwaleta Ln\, Canyonville\, OR\, 97417\, United States
CATEGORIES:Entertainment,Ongoing
END:VEVENT
BEGIN:VEVENT
DTSTART;TZID=America/Los_Angeles:20261022T190000
DTEND;TZID=America/Los_Angeles:20261022T220000
DTSTAMP:20260423T131120
CREATED:20260101T035427Z
LAST-MODIFIED:20260102T204239Z
UID:10012858-1792695600-1792706400@sevenfeathers.com
SUMMARY:Line Dancing in Elements
DESCRIPTION:Every Thursday at 7:00PM. \n  \nCome join us each week for free Line-Dancing lessons! \n  \n2-hour lessons\, and Beginners are welcome. \n  \nMust be 21 or older.
URL:https://sevenfeathers.com/event/line-dancing-in-elements/2026-10-22/
LOCATION:Elements Lounge\, 146 Chief Miwaleta Ln\, Canyonville\, OR\, 97417\, United States
CATEGORIES:Entertainment
ATTACH;FMTTYPE=image/jpeg:https://sevenfeathers.com/wp-content/uploads/2025/12/Line-Dancing-in-Elements-2026-1920x1080-1.jpg
END:VEVENT
BEGIN:VEVENT
DTSTART;TZID=America/Los_Angeles:20261025T190000
DTEND;TZID=America/Los_Angeles:20261025T200000
DTSTAMP:20260423T131120
CREATED:20250401T204520Z
LAST-MODIFIED:20260101T040356Z
UID:10012910-1792954800-1792958400@sevenfeathers.com
SUMMARY:DJ Trivia in Elements
DESCRIPTION:Play DJ Trivia with us weekly for a chance to win fun prizes! Participation is free and registration begins at 6:45PM.
URL:https://sevenfeathers.com/event/dj-trivia-3-2/2026-10-25/
LOCATION:Elements Lounge\, 146 Chief Miwaleta Ln\, Canyonville\, OR\, 97417\, United States
CATEGORIES:Entertainment,Ongoing
END:VEVENT
END:VCALENDAR