BEGIN:VCALENDAR
VERSION:2.0
PRODID:-//Seven Feathers Casino - ECPv6.15.16//NONSGML v1.0//EN
CALSCALE:GREGORIAN
METHOD:PUBLISH
X-WR-CALNAME:Seven Feathers Casino
X-ORIGINAL-URL:https://sevenfeathers.com
X-WR-CALDESC:Events for Seven Feathers Casino
REFRESH-INTERVAL;VALUE=DURATION:PT1H
X-Robots-Tag:noindex
X-PUBLISHED-TTL:PT1H
BEGIN:VTIMEZONE
TZID:America/Los_Angeles
BEGIN:DAYLIGHT
TZOFFSETFROM:-0800
TZOFFSETTO:-0700
TZNAME:PDT
DTSTART:20250309T100000
END:DAYLIGHT
BEGIN:STANDARD
TZOFFSETFROM:-0700
TZOFFSETTO:-0800
TZNAME:PST
DTSTART:20251102T090000
END:STANDARD
BEGIN:DAYLIGHT
TZOFFSETFROM:-0800
TZOFFSETTO:-0700
TZNAME:PDT
DTSTART:20260308T100000
END:DAYLIGHT
BEGIN:STANDARD
TZOFFSETFROM:-0700
TZOFFSETTO:-0800
TZNAME:PST
DTSTART:20261101T090000
END:STANDARD
BEGIN:DAYLIGHT
TZOFFSETFROM:-0800
TZOFFSETTO:-0700
TZNAME:PDT
DTSTART:20270314T100000
END:DAYLIGHT
BEGIN:STANDARD
TZOFFSETFROM:-0700
TZOFFSETTO:-0800
TZNAME:PST
DTSTART:20271107T090000
END:STANDARD
END:VTIMEZONE
BEGIN:VEVENT
DTSTART;TZID=America/Los_Angeles:20260520T190000
DTEND;TZID=America/Los_Angeles:20260520T210000
DTSTAMP:20260423T041829
CREATED:20260409T165406Z
LAST-MODIFIED:20260409T165406Z
UID:10014184-1779303600-1779310800@sevenfeathers.com
SUMMARY:Mic Drop Comedy in Elements Lounge
DESCRIPTION:  \nSeven Feathers is your place for live comedy! Join us on Wednesday\, May 20 for Arvin Mitchell and Jordan Casner. The show starts at 7:00PM. \n \nTickets are $20 and $30. Click here to purchase yours. \nPurchase tickets in person at the Gift Gallery or by calling Etix at 800-514-3849. Etix is the sole ticket provider for all Seven Feathers Casino Resort events. Not responsible for third party ticket sales. Doors open at 6:00PM. Must be 21 or older. No ticket sales at the door.
URL:https://sevenfeathers.com/event/mic-drop-comedy-in-elements-lounge-4/
LOCATION:Elements Lounge\, 146 Chief Miwaleta Ln\, Canyonville\, OR\, 97417\, United States
CATEGORIES:Entertainment
ATTACH;FMTTYPE=image/jpeg:https://sevenfeathers.com/wp-content/uploads/2026/04/ELEMENTS-MICDROP-MAY-26-1920x1080-WEB.jpg
END:VEVENT
BEGIN:VEVENT
DTSTART;TZID=America/Los_Angeles:20260521T150000
DTEND;TZID=America/Los_Angeles:20260521T230000
DTSTAMP:20260423T041829
CREATED:20260422T224803Z
LAST-MODIFIED:20260422T224803Z
UID:10014283-1779375600-1779404400@sevenfeathers.com
SUMMARY:Bubbles and Funk in Steelhead Lounge
DESCRIPTION:Thursdays & Sundays from 3:00 to 11:00PM. \nFridays & Saturdays from 3:00PM to 2:00AM. \n  \nEnjoy your funky music favorites from a live DJ on Fridays & Saturdays from 8:00PM to 1:00AM. \n  \nBubbles and Funk will include Champagne Features\, Signature Cocktails\, Sparkling Wines\, Drop Beats and the Feel of Funk!
URL:https://sevenfeathers.com/event/bubbles-and-funk-in-steelhead-lounge-2/2026-05-21/
LOCATION:Steelhead Lounge\, 146 Chief Miwaleta Ln\, Canyonville\, OR\, 97417\, United States
CATEGORIES:Entertainment
ATTACH;FMTTYPE=image/jpeg:https://sevenfeathers.com/wp-content/uploads/2026/04/7F-Bubbles-and-Funk-2026-1920x1080-WEB-1.jpg
END:VEVENT
BEGIN:VEVENT
DTSTART;TZID=America/Los_Angeles:20260521T190000
DTEND;TZID=America/Los_Angeles:20260521T220000
DTSTAMP:20260423T041829
CREATED:20260101T035427Z
LAST-MODIFIED:20260102T204239Z
UID:10012836-1779390000-1779400800@sevenfeathers.com
SUMMARY:Line Dancing in Elements
DESCRIPTION:Every Thursday at 7:00PM. \n  \nCome join us each week for free Line-Dancing lessons! \n  \n2-hour lessons\, and Beginners are welcome. \n  \nMust be 21 or older.
URL:https://sevenfeathers.com/event/line-dancing-in-elements/2026-05-21/
LOCATION:Elements Lounge\, 146 Chief Miwaleta Ln\, Canyonville\, OR\, 97417\, United States
CATEGORIES:Entertainment
ATTACH;FMTTYPE=image/jpeg:https://sevenfeathers.com/wp-content/uploads/2025/12/Line-Dancing-in-Elements-2026-1920x1080-1.jpg
END:VEVENT
BEGIN:VEVENT
DTSTART;TZID=America/Los_Angeles:20260522T150000
DTEND;TZID=America/Los_Angeles:20260523T020000
DTSTAMP:20260423T041829
CREATED:20260422T225118Z
LAST-MODIFIED:20260422T225118Z
UID:10014339-1779462000-1779501600@sevenfeathers.com
SUMMARY:Bubbles and Funk in Steelhead Lounge
DESCRIPTION:Thursdays & Sundays from 3:00 to 11:00PM. \nFridays & Saturdays from 3:00PM to 2:00AM. \n  \nEnjoy your funky music favorites from a live DJ on Fridays & Saturdays from 8:00PM to 1:00AM. \n  \nBubbles and Funk will include Champagne Features\, Signature Cocktails\, Sparkling Wines\, Drop Beats and the Feel of Funk!
URL:https://sevenfeathers.com/event/bubbles-and-funk-in-steelhead-lounge-3/2026-05-22/
LOCATION:Steelhead Lounge\, 146 Chief Miwaleta Ln\, Canyonville\, OR\, 97417\, United States
CATEGORIES:Entertainment
ATTACH;FMTTYPE=image/jpeg:https://sevenfeathers.com/wp-content/uploads/2026/04/7F-Bubbles-and-Funk-2026-1920x1080-WEB-1.jpg
END:VEVENT
BEGIN:VEVENT
DTSTART;TZID=America/Los_Angeles:20260523T150000
DTEND;TZID=America/Los_Angeles:20260524T020000
DTSTAMP:20260423T041829
CREATED:20260422T224641Z
LAST-MODIFIED:20260422T225015Z
UID:10014297-1779548400-1779588000@sevenfeathers.com
SUMMARY:Bubbles and Funk in Steelhead Lounge
DESCRIPTION:Thursdays & Sundays from 3:00 to 11:00PM. \nFridays & Saturdays from 3:00PM to 2:00AM. \n  \nEnjoy your funky music favorites from a live DJ on Fridays & Saturdays from 8:00PM to 1:00AM. \n  \nBubbles and Funk will include Champagne Features\, Signature Cocktails\, Sparkling Wines\, Drop Beats and the Feel of Funk!
URL:https://sevenfeathers.com/event/bubbles-and-funk-in-steelhead-lounge/2026-05-23/
LOCATION:Steelhead Lounge\, 146 Chief Miwaleta Ln\, Canyonville\, OR\, 97417\, United States
CATEGORIES:Entertainment
ATTACH;FMTTYPE=image/jpeg:https://sevenfeathers.com/wp-content/uploads/2026/04/7F-Bubbles-and-Funk-2026-1920x1080-WEB-1.jpg
END:VEVENT
BEGIN:VEVENT
DTSTART;TZID=America/Los_Angeles:20260523T190000
DTEND;TZID=America/Los_Angeles:20260523T203000
DTSTAMP:20260423T041829
CREATED:20260130T183627Z
LAST-MODIFIED:20260324T223134Z
UID:10013187-1779562800-1779568200@sevenfeathers.com
SUMMARY:Hotel California - A Salute To The Eagles
DESCRIPTION:Hotel California “A Salute to the Eagles” \nSaturday\, May 23 at 7:00PM \nReserved Seating $30\, $35\, $40. \nTickets on sale Wednesday\, February 4 at 10:00AM. Purchase tickets in person at the Gift Gallery\, click here to purchase tickets\, or call Etix at 800.514.3849. Etix is the sole ticket provider for all Seven Feathers Casino Resort events. Not responsible for third party ticket sales. Doors open at 6:00PM. Must be 21 or older. Concert Attendees – due to venue configuration\, standing during the concert can be expected\, please be sensitive to the mobility impaired that may surround your seat. \nClick here to purchase tickets.
URL:https://sevenfeathers.com/event/hotel-california-the-original-eagle-tribute/
LOCATION:Umpqua Grand Ballroom\, 146 Chief Miwaleta Ln\, Canyonville\, OR\, 97417\, United States
CATEGORIES:Entertainment,Exit 99 Landing Page Events
ATTACH;FMTTYPE=image/jpeg:https://sevenfeathers.com/wp-content/uploads/2026/01/7F-Hotel-California-1920x1080-WEB.jpg
END:VEVENT
BEGIN:VEVENT
DTSTART;TZID=America/Los_Angeles:20260524T150000
DTEND;TZID=America/Los_Angeles:20260524T230000
DTSTAMP:20260423T041829
CREATED:20260422T225137Z
LAST-MODIFIED:20260422T225137Z
UID:10014353-1779634800-1779663600@sevenfeathers.com
SUMMARY:Bubbles and Funk in Steelhead Lounge
DESCRIPTION:Thursdays & Sundays from 3:00 to 11:00PM. \nFridays & Saturdays from 3:00PM to 2:00AM. \n  \nEnjoy your funky music favorites from a live DJ on Fridays & Saturdays from 8:00PM to 1:00AM. \n  \nBubbles and Funk will include Champagne Features\, Signature Cocktails\, Sparkling Wines\, Drop Beats and the Feel of Funk!
URL:https://sevenfeathers.com/event/bubbles-and-funk-in-steelhead-lounge-4/2026-05-24/
LOCATION:Steelhead Lounge\, 146 Chief Miwaleta Ln\, Canyonville\, OR\, 97417\, United States
CATEGORIES:Entertainment
ATTACH;FMTTYPE=image/jpeg:https://sevenfeathers.com/wp-content/uploads/2026/04/7F-Bubbles-and-Funk-2026-1920x1080-WEB-1.jpg
END:VEVENT
BEGIN:VEVENT
DTSTART;TZID=America/Los_Angeles:20260524T190000
DTEND;TZID=America/Los_Angeles:20260524T200000
DTSTAMP:20260423T041829
CREATED:20250401T204520Z
LAST-MODIFIED:20260101T040356Z
UID:10012888-1779649200-1779652800@sevenfeathers.com
SUMMARY:DJ Trivia in Elements
DESCRIPTION:Play DJ Trivia with us weekly for a chance to win fun prizes! Participation is free and registration begins at 6:45PM.
URL:https://sevenfeathers.com/event/dj-trivia-3-2/2026-05-24/
LOCATION:Elements Lounge\, 146 Chief Miwaleta Ln\, Canyonville\, OR\, 97417\, United States
CATEGORIES:Entertainment,Ongoing
END:VEVENT
BEGIN:VEVENT
DTSTART;TZID=America/Los_Angeles:20260528T150000
DTEND;TZID=America/Los_Angeles:20260528T230000
DTSTAMP:20260423T041829
CREATED:20260422T224803Z
LAST-MODIFIED:20260422T224803Z
UID:10014284-1779980400-1780009200@sevenfeathers.com
SUMMARY:Bubbles and Funk in Steelhead Lounge
DESCRIPTION:Thursdays & Sundays from 3:00 to 11:00PM. \nFridays & Saturdays from 3:00PM to 2:00AM. \n  \nEnjoy your funky music favorites from a live DJ on Fridays & Saturdays from 8:00PM to 1:00AM. \n  \nBubbles and Funk will include Champagne Features\, Signature Cocktails\, Sparkling Wines\, Drop Beats and the Feel of Funk!
URL:https://sevenfeathers.com/event/bubbles-and-funk-in-steelhead-lounge-2/2026-05-28/
LOCATION:Steelhead Lounge\, 146 Chief Miwaleta Ln\, Canyonville\, OR\, 97417\, United States
CATEGORIES:Entertainment
ATTACH;FMTTYPE=image/jpeg:https://sevenfeathers.com/wp-content/uploads/2026/04/7F-Bubbles-and-Funk-2026-1920x1080-WEB-1.jpg
END:VEVENT
BEGIN:VEVENT
DTSTART;TZID=America/Los_Angeles:20260528T190000
DTEND;TZID=America/Los_Angeles:20260528T220000
DTSTAMP:20260423T041829
CREATED:20260101T035427Z
LAST-MODIFIED:20260102T204239Z
UID:10012837-1779994800-1780005600@sevenfeathers.com
SUMMARY:Line Dancing in Elements
DESCRIPTION:Every Thursday at 7:00PM. \n  \nCome join us each week for free Line-Dancing lessons! \n  \n2-hour lessons\, and Beginners are welcome. \n  \nMust be 21 or older.
URL:https://sevenfeathers.com/event/line-dancing-in-elements/2026-05-28/
LOCATION:Elements Lounge\, 146 Chief Miwaleta Ln\, Canyonville\, OR\, 97417\, United States
CATEGORIES:Entertainment
ATTACH;FMTTYPE=image/jpeg:https://sevenfeathers.com/wp-content/uploads/2025/12/Line-Dancing-in-Elements-2026-1920x1080-1.jpg
END:VEVENT
BEGIN:VEVENT
DTSTART;TZID=America/Los_Angeles:20260529T150000
DTEND;TZID=America/Los_Angeles:20260530T020000
DTSTAMP:20260423T041829
CREATED:20260422T225118Z
LAST-MODIFIED:20260422T225118Z
UID:10014340-1780066800-1780106400@sevenfeathers.com
SUMMARY:Bubbles and Funk in Steelhead Lounge
DESCRIPTION:Thursdays & Sundays from 3:00 to 11:00PM. \nFridays & Saturdays from 3:00PM to 2:00AM. \n  \nEnjoy your funky music favorites from a live DJ on Fridays & Saturdays from 8:00PM to 1:00AM. \n  \nBubbles and Funk will include Champagne Features\, Signature Cocktails\, Sparkling Wines\, Drop Beats and the Feel of Funk!
URL:https://sevenfeathers.com/event/bubbles-and-funk-in-steelhead-lounge-3/2026-05-29/
LOCATION:Steelhead Lounge\, 146 Chief Miwaleta Ln\, Canyonville\, OR\, 97417\, United States
CATEGORIES:Entertainment
ATTACH;FMTTYPE=image/jpeg:https://sevenfeathers.com/wp-content/uploads/2026/04/7F-Bubbles-and-Funk-2026-1920x1080-WEB-1.jpg
END:VEVENT
BEGIN:VEVENT
DTSTART;TZID=America/Los_Angeles:20260530T150000
DTEND;TZID=America/Los_Angeles:20260531T020000
DTSTAMP:20260423T041829
CREATED:20260422T224641Z
LAST-MODIFIED:20260422T225015Z
UID:10014298-1780153200-1780192800@sevenfeathers.com
SUMMARY:Bubbles and Funk in Steelhead Lounge
DESCRIPTION:Thursdays & Sundays from 3:00 to 11:00PM. \nFridays & Saturdays from 3:00PM to 2:00AM. \n  \nEnjoy your funky music favorites from a live DJ on Fridays & Saturdays from 8:00PM to 1:00AM. \n  \nBubbles and Funk will include Champagne Features\, Signature Cocktails\, Sparkling Wines\, Drop Beats and the Feel of Funk!
URL:https://sevenfeathers.com/event/bubbles-and-funk-in-steelhead-lounge/2026-05-30/
LOCATION:Steelhead Lounge\, 146 Chief Miwaleta Ln\, Canyonville\, OR\, 97417\, United States
CATEGORIES:Entertainment
ATTACH;FMTTYPE=image/jpeg:https://sevenfeathers.com/wp-content/uploads/2026/04/7F-Bubbles-and-Funk-2026-1920x1080-WEB-1.jpg
END:VEVENT
BEGIN:VEVENT
DTSTART;TZID=America/Los_Angeles:20260531T150000
DTEND;TZID=America/Los_Angeles:20260531T230000
DTSTAMP:20260423T041829
CREATED:20260422T225137Z
LAST-MODIFIED:20260422T225137Z
UID:10014354-1780239600-1780268400@sevenfeathers.com
SUMMARY:Bubbles and Funk in Steelhead Lounge
DESCRIPTION:Thursdays & Sundays from 3:00 to 11:00PM. \nFridays & Saturdays from 3:00PM to 2:00AM. \n  \nEnjoy your funky music favorites from a live DJ on Fridays & Saturdays from 8:00PM to 1:00AM. \n  \nBubbles and Funk will include Champagne Features\, Signature Cocktails\, Sparkling Wines\, Drop Beats and the Feel of Funk!
URL:https://sevenfeathers.com/event/bubbles-and-funk-in-steelhead-lounge-4/2026-05-31/
LOCATION:Steelhead Lounge\, 146 Chief Miwaleta Ln\, Canyonville\, OR\, 97417\, United States
CATEGORIES:Entertainment
ATTACH;FMTTYPE=image/jpeg:https://sevenfeathers.com/wp-content/uploads/2026/04/7F-Bubbles-and-Funk-2026-1920x1080-WEB-1.jpg
END:VEVENT
BEGIN:VEVENT
DTSTART;TZID=America/Los_Angeles:20260531T190000
DTEND;TZID=America/Los_Angeles:20260531T200000
DTSTAMP:20260423T041829
CREATED:20250401T204520Z
LAST-MODIFIED:20260101T040356Z
UID:10012889-1780254000-1780257600@sevenfeathers.com
SUMMARY:DJ Trivia in Elements
DESCRIPTION:Play DJ Trivia with us weekly for a chance to win fun prizes! Participation is free and registration begins at 6:45PM.
URL:https://sevenfeathers.com/event/dj-trivia-3-2/2026-05-31/
LOCATION:Elements Lounge\, 146 Chief Miwaleta Ln\, Canyonville\, OR\, 97417\, United States
CATEGORIES:Entertainment,Ongoing
END:VEVENT
BEGIN:VEVENT
DTSTART;TZID=America/Los_Angeles:20260604T150000
DTEND;TZID=America/Los_Angeles:20260604T230000
DTSTAMP:20260423T041829
CREATED:20260422T224803Z
LAST-MODIFIED:20260422T224803Z
UID:10014285-1780585200-1780614000@sevenfeathers.com
SUMMARY:Bubbles and Funk in Steelhead Lounge
DESCRIPTION:Thursdays & Sundays from 3:00 to 11:00PM. \nFridays & Saturdays from 3:00PM to 2:00AM. \n  \nEnjoy your funky music favorites from a live DJ on Fridays & Saturdays from 8:00PM to 1:00AM. \n  \nBubbles and Funk will include Champagne Features\, Signature Cocktails\, Sparkling Wines\, Drop Beats and the Feel of Funk!
URL:https://sevenfeathers.com/event/bubbles-and-funk-in-steelhead-lounge-2/2026-06-04/
LOCATION:Steelhead Lounge\, 146 Chief Miwaleta Ln\, Canyonville\, OR\, 97417\, United States
CATEGORIES:Entertainment
ATTACH;FMTTYPE=image/jpeg:https://sevenfeathers.com/wp-content/uploads/2026/04/7F-Bubbles-and-Funk-2026-1920x1080-WEB-1.jpg
END:VEVENT
BEGIN:VEVENT
DTSTART;TZID=America/Los_Angeles:20260604T190000
DTEND;TZID=America/Los_Angeles:20260604T220000
DTSTAMP:20260423T041829
CREATED:20260101T035427Z
LAST-MODIFIED:20260102T204239Z
UID:10012838-1780599600-1780610400@sevenfeathers.com
SUMMARY:Line Dancing in Elements
DESCRIPTION:Every Thursday at 7:00PM. \n  \nCome join us each week for free Line-Dancing lessons! \n  \n2-hour lessons\, and Beginners are welcome. \n  \nMust be 21 or older.
URL:https://sevenfeathers.com/event/line-dancing-in-elements/2026-06-04/
LOCATION:Elements Lounge\, 146 Chief Miwaleta Ln\, Canyonville\, OR\, 97417\, United States
CATEGORIES:Entertainment
ATTACH;FMTTYPE=image/jpeg:https://sevenfeathers.com/wp-content/uploads/2025/12/Line-Dancing-in-Elements-2026-1920x1080-1.jpg
END:VEVENT
BEGIN:VEVENT
DTSTART;TZID=America/Los_Angeles:20260605T150000
DTEND;TZID=America/Los_Angeles:20260606T020000
DTSTAMP:20260423T041829
CREATED:20260422T225118Z
LAST-MODIFIED:20260422T225118Z
UID:10014341-1780671600-1780711200@sevenfeathers.com
SUMMARY:Bubbles and Funk in Steelhead Lounge
DESCRIPTION:Thursdays & Sundays from 3:00 to 11:00PM. \nFridays & Saturdays from 3:00PM to 2:00AM. \n  \nEnjoy your funky music favorites from a live DJ on Fridays & Saturdays from 8:00PM to 1:00AM. \n  \nBubbles and Funk will include Champagne Features\, Signature Cocktails\, Sparkling Wines\, Drop Beats and the Feel of Funk!
URL:https://sevenfeathers.com/event/bubbles-and-funk-in-steelhead-lounge-3/2026-06-05/
LOCATION:Steelhead Lounge\, 146 Chief Miwaleta Ln\, Canyonville\, OR\, 97417\, United States
CATEGORIES:Entertainment
ATTACH;FMTTYPE=image/jpeg:https://sevenfeathers.com/wp-content/uploads/2026/04/7F-Bubbles-and-Funk-2026-1920x1080-WEB-1.jpg
END:VEVENT
BEGIN:VEVENT
DTSTART;TZID=America/Los_Angeles:20260606T150000
DTEND;TZID=America/Los_Angeles:20260607T020000
DTSTAMP:20260423T041829
CREATED:20260422T224641Z
LAST-MODIFIED:20260422T225015Z
UID:10014299-1780758000-1780797600@sevenfeathers.com
SUMMARY:Bubbles and Funk in Steelhead Lounge
DESCRIPTION:Thursdays & Sundays from 3:00 to 11:00PM. \nFridays & Saturdays from 3:00PM to 2:00AM. \n  \nEnjoy your funky music favorites from a live DJ on Fridays & Saturdays from 8:00PM to 1:00AM. \n  \nBubbles and Funk will include Champagne Features\, Signature Cocktails\, Sparkling Wines\, Drop Beats and the Feel of Funk!
URL:https://sevenfeathers.com/event/bubbles-and-funk-in-steelhead-lounge/2026-06-06/
LOCATION:Steelhead Lounge\, 146 Chief Miwaleta Ln\, Canyonville\, OR\, 97417\, United States
CATEGORIES:Entertainment
ATTACH;FMTTYPE=image/jpeg:https://sevenfeathers.com/wp-content/uploads/2026/04/7F-Bubbles-and-Funk-2026-1920x1080-WEB-1.jpg
END:VEVENT
BEGIN:VEVENT
DTSTART;TZID=America/Los_Angeles:20260607T150000
DTEND;TZID=America/Los_Angeles:20260607T230000
DTSTAMP:20260423T041829
CREATED:20260422T225137Z
LAST-MODIFIED:20260422T225137Z
UID:10014355-1780844400-1780873200@sevenfeathers.com
SUMMARY:Bubbles and Funk in Steelhead Lounge
DESCRIPTION:Thursdays & Sundays from 3:00 to 11:00PM. \nFridays & Saturdays from 3:00PM to 2:00AM. \n  \nEnjoy your funky music favorites from a live DJ on Fridays & Saturdays from 8:00PM to 1:00AM. \n  \nBubbles and Funk will include Champagne Features\, Signature Cocktails\, Sparkling Wines\, Drop Beats and the Feel of Funk!
URL:https://sevenfeathers.com/event/bubbles-and-funk-in-steelhead-lounge-4/2026-06-07/
LOCATION:Steelhead Lounge\, 146 Chief Miwaleta Ln\, Canyonville\, OR\, 97417\, United States
CATEGORIES:Entertainment
ATTACH;FMTTYPE=image/jpeg:https://sevenfeathers.com/wp-content/uploads/2026/04/7F-Bubbles-and-Funk-2026-1920x1080-WEB-1.jpg
END:VEVENT
BEGIN:VEVENT
DTSTART;TZID=America/Los_Angeles:20260607T190000
DTEND;TZID=America/Los_Angeles:20260607T200000
DTSTAMP:20260423T041829
CREATED:20250401T204520Z
LAST-MODIFIED:20260101T040356Z
UID:10012890-1780858800-1780862400@sevenfeathers.com
SUMMARY:DJ Trivia in Elements
DESCRIPTION:Play DJ Trivia with us weekly for a chance to win fun prizes! Participation is free and registration begins at 6:45PM.
URL:https://sevenfeathers.com/event/dj-trivia-3-2/2026-06-07/
LOCATION:Elements Lounge\, 146 Chief Miwaleta Ln\, Canyonville\, OR\, 97417\, United States
CATEGORIES:Entertainment,Ongoing
END:VEVENT
BEGIN:VEVENT
DTSTART;TZID=America/Los_Angeles:20260611T150000
DTEND;TZID=America/Los_Angeles:20260611T230000
DTSTAMP:20260423T041829
CREATED:20260422T224803Z
LAST-MODIFIED:20260422T224803Z
UID:10014286-1781190000-1781218800@sevenfeathers.com
SUMMARY:Bubbles and Funk in Steelhead Lounge
DESCRIPTION:Thursdays & Sundays from 3:00 to 11:00PM. \nFridays & Saturdays from 3:00PM to 2:00AM. \n  \nEnjoy your funky music favorites from a live DJ on Fridays & Saturdays from 8:00PM to 1:00AM. \n  \nBubbles and Funk will include Champagne Features\, Signature Cocktails\, Sparkling Wines\, Drop Beats and the Feel of Funk!
URL:https://sevenfeathers.com/event/bubbles-and-funk-in-steelhead-lounge-2/2026-06-11/
LOCATION:Steelhead Lounge\, 146 Chief Miwaleta Ln\, Canyonville\, OR\, 97417\, United States
CATEGORIES:Entertainment
ATTACH;FMTTYPE=image/jpeg:https://sevenfeathers.com/wp-content/uploads/2026/04/7F-Bubbles-and-Funk-2026-1920x1080-WEB-1.jpg
END:VEVENT
BEGIN:VEVENT
DTSTART;TZID=America/Los_Angeles:20260611T190000
DTEND;TZID=America/Los_Angeles:20260611T220000
DTSTAMP:20260423T041829
CREATED:20260101T035427Z
LAST-MODIFIED:20260102T204239Z
UID:10012839-1781204400-1781215200@sevenfeathers.com
SUMMARY:Line Dancing in Elements
DESCRIPTION:Every Thursday at 7:00PM. \n  \nCome join us each week for free Line-Dancing lessons! \n  \n2-hour lessons\, and Beginners are welcome. \n  \nMust be 21 or older.
URL:https://sevenfeathers.com/event/line-dancing-in-elements/2026-06-11/
LOCATION:Elements Lounge\, 146 Chief Miwaleta Ln\, Canyonville\, OR\, 97417\, United States
CATEGORIES:Entertainment
ATTACH;FMTTYPE=image/jpeg:https://sevenfeathers.com/wp-content/uploads/2025/12/Line-Dancing-in-Elements-2026-1920x1080-1.jpg
END:VEVENT
BEGIN:VEVENT
DTSTART;TZID=America/Los_Angeles:20260612T150000
DTEND;TZID=America/Los_Angeles:20260613T020000
DTSTAMP:20260423T041829
CREATED:20260422T225118Z
LAST-MODIFIED:20260422T225118Z
UID:10014342-1781276400-1781316000@sevenfeathers.com
SUMMARY:Bubbles and Funk in Steelhead Lounge
DESCRIPTION:Thursdays & Sundays from 3:00 to 11:00PM. \nFridays & Saturdays from 3:00PM to 2:00AM. \n  \nEnjoy your funky music favorites from a live DJ on Fridays & Saturdays from 8:00PM to 1:00AM. \n  \nBubbles and Funk will include Champagne Features\, Signature Cocktails\, Sparkling Wines\, Drop Beats and the Feel of Funk!
URL:https://sevenfeathers.com/event/bubbles-and-funk-in-steelhead-lounge-3/2026-06-12/
LOCATION:Steelhead Lounge\, 146 Chief Miwaleta Ln\, Canyonville\, OR\, 97417\, United States
CATEGORIES:Entertainment
ATTACH;FMTTYPE=image/jpeg:https://sevenfeathers.com/wp-content/uploads/2026/04/7F-Bubbles-and-Funk-2026-1920x1080-WEB-1.jpg
END:VEVENT
BEGIN:VEVENT
DTSTART;TZID=America/Los_Angeles:20260613T150000
DTEND;TZID=America/Los_Angeles:20260614T020000
DTSTAMP:20260423T041829
CREATED:20260422T224641Z
LAST-MODIFIED:20260422T225015Z
UID:10014300-1781362800-1781402400@sevenfeathers.com
SUMMARY:Bubbles and Funk in Steelhead Lounge
DESCRIPTION:Thursdays & Sundays from 3:00 to 11:00PM. \nFridays & Saturdays from 3:00PM to 2:00AM. \n  \nEnjoy your funky music favorites from a live DJ on Fridays & Saturdays from 8:00PM to 1:00AM. \n  \nBubbles and Funk will include Champagne Features\, Signature Cocktails\, Sparkling Wines\, Drop Beats and the Feel of Funk!
URL:https://sevenfeathers.com/event/bubbles-and-funk-in-steelhead-lounge/2026-06-13/
LOCATION:Steelhead Lounge\, 146 Chief Miwaleta Ln\, Canyonville\, OR\, 97417\, United States
CATEGORIES:Entertainment
ATTACH;FMTTYPE=image/jpeg:https://sevenfeathers.com/wp-content/uploads/2026/04/7F-Bubbles-and-Funk-2026-1920x1080-WEB-1.jpg
END:VEVENT
BEGIN:VEVENT
DTSTART;TZID=America/Los_Angeles:20260614T150000
DTEND;TZID=America/Los_Angeles:20260614T230000
DTSTAMP:20260423T041829
CREATED:20260422T225137Z
LAST-MODIFIED:20260422T225137Z
UID:10014356-1781449200-1781478000@sevenfeathers.com
SUMMARY:Bubbles and Funk in Steelhead Lounge
DESCRIPTION:Thursdays & Sundays from 3:00 to 11:00PM. \nFridays & Saturdays from 3:00PM to 2:00AM. \n  \nEnjoy your funky music favorites from a live DJ on Fridays & Saturdays from 8:00PM to 1:00AM. \n  \nBubbles and Funk will include Champagne Features\, Signature Cocktails\, Sparkling Wines\, Drop Beats and the Feel of Funk!
URL:https://sevenfeathers.com/event/bubbles-and-funk-in-steelhead-lounge-4/2026-06-14/
LOCATION:Steelhead Lounge\, 146 Chief Miwaleta Ln\, Canyonville\, OR\, 97417\, United States
CATEGORIES:Entertainment
ATTACH;FMTTYPE=image/jpeg:https://sevenfeathers.com/wp-content/uploads/2026/04/7F-Bubbles-and-Funk-2026-1920x1080-WEB-1.jpg
END:VEVENT
BEGIN:VEVENT
DTSTART;TZID=America/Los_Angeles:20260614T190000
DTEND;TZID=America/Los_Angeles:20260614T200000
DTSTAMP:20260423T041829
CREATED:20250401T204520Z
LAST-MODIFIED:20260101T040356Z
UID:10012891-1781463600-1781467200@sevenfeathers.com
SUMMARY:DJ Trivia in Elements
DESCRIPTION:Play DJ Trivia with us weekly for a chance to win fun prizes! Participation is free and registration begins at 6:45PM.
URL:https://sevenfeathers.com/event/dj-trivia-3-2/2026-06-14/
LOCATION:Elements Lounge\, 146 Chief Miwaleta Ln\, Canyonville\, OR\, 97417\, United States
CATEGORIES:Entertainment,Ongoing
END:VEVENT
BEGIN:VEVENT
DTSTART;TZID=America/Los_Angeles:20260618T150000
DTEND;TZID=America/Los_Angeles:20260618T230000
DTSTAMP:20260423T041829
CREATED:20260422T224803Z
LAST-MODIFIED:20260422T224803Z
UID:10014287-1781794800-1781823600@sevenfeathers.com
SUMMARY:Bubbles and Funk in Steelhead Lounge
DESCRIPTION:Thursdays & Sundays from 3:00 to 11:00PM. \nFridays & Saturdays from 3:00PM to 2:00AM. \n  \nEnjoy your funky music favorites from a live DJ on Fridays & Saturdays from 8:00PM to 1:00AM. \n  \nBubbles and Funk will include Champagne Features\, Signature Cocktails\, Sparkling Wines\, Drop Beats and the Feel of Funk!
URL:https://sevenfeathers.com/event/bubbles-and-funk-in-steelhead-lounge-2/2026-06-18/
LOCATION:Steelhead Lounge\, 146 Chief Miwaleta Ln\, Canyonville\, OR\, 97417\, United States
CATEGORIES:Entertainment
ATTACH;FMTTYPE=image/jpeg:https://sevenfeathers.com/wp-content/uploads/2026/04/7F-Bubbles-and-Funk-2026-1920x1080-WEB-1.jpg
END:VEVENT
BEGIN:VEVENT
DTSTART;TZID=America/Los_Angeles:20260618T190000
DTEND;TZID=America/Los_Angeles:20260618T220000
DTSTAMP:20260423T041829
CREATED:20260101T035427Z
LAST-MODIFIED:20260102T204239Z
UID:10012840-1781809200-1781820000@sevenfeathers.com
SUMMARY:Line Dancing in Elements
DESCRIPTION:Every Thursday at 7:00PM. \n  \nCome join us each week for free Line-Dancing lessons! \n  \n2-hour lessons\, and Beginners are welcome. \n  \nMust be 21 or older.
URL:https://sevenfeathers.com/event/line-dancing-in-elements/2026-06-18/
LOCATION:Elements Lounge\, 146 Chief Miwaleta Ln\, Canyonville\, OR\, 97417\, United States
CATEGORIES:Entertainment
ATTACH;FMTTYPE=image/jpeg:https://sevenfeathers.com/wp-content/uploads/2025/12/Line-Dancing-in-Elements-2026-1920x1080-1.jpg
END:VEVENT
BEGIN:VEVENT
DTSTART;TZID=America/Los_Angeles:20260619T150000
DTEND;TZID=America/Los_Angeles:20260620T020000
DTSTAMP:20260423T041829
CREATED:20260422T225118Z
LAST-MODIFIED:20260422T225118Z
UID:10014343-1781881200-1781920800@sevenfeathers.com
SUMMARY:Bubbles and Funk in Steelhead Lounge
DESCRIPTION:Thursdays & Sundays from 3:00 to 11:00PM. \nFridays & Saturdays from 3:00PM to 2:00AM. \n  \nEnjoy your funky music favorites from a live DJ on Fridays & Saturdays from 8:00PM to 1:00AM. \n  \nBubbles and Funk will include Champagne Features\, Signature Cocktails\, Sparkling Wines\, Drop Beats and the Feel of Funk!
URL:https://sevenfeathers.com/event/bubbles-and-funk-in-steelhead-lounge-3/2026-06-19/
LOCATION:Steelhead Lounge\, 146 Chief Miwaleta Ln\, Canyonville\, OR\, 97417\, United States
CATEGORIES:Entertainment
ATTACH;FMTTYPE=image/jpeg:https://sevenfeathers.com/wp-content/uploads/2026/04/7F-Bubbles-and-Funk-2026-1920x1080-WEB-1.jpg
END:VEVENT
BEGIN:VEVENT
DTSTART;TZID=America/Los_Angeles:20260620T150000
DTEND;TZID=America/Los_Angeles:20260621T020000
DTSTAMP:20260423T041829
CREATED:20260422T224641Z
LAST-MODIFIED:20260422T225015Z
UID:10014301-1781967600-1782007200@sevenfeathers.com
SUMMARY:Bubbles and Funk in Steelhead Lounge
DESCRIPTION:Thursdays & Sundays from 3:00 to 11:00PM. \nFridays & Saturdays from 3:00PM to 2:00AM. \n  \nEnjoy your funky music favorites from a live DJ on Fridays & Saturdays from 8:00PM to 1:00AM. \n  \nBubbles and Funk will include Champagne Features\, Signature Cocktails\, Sparkling Wines\, Drop Beats and the Feel of Funk!
URL:https://sevenfeathers.com/event/bubbles-and-funk-in-steelhead-lounge/2026-06-20/
LOCATION:Steelhead Lounge\, 146 Chief Miwaleta Ln\, Canyonville\, OR\, 97417\, United States
CATEGORIES:Entertainment
ATTACH;FMTTYPE=image/jpeg:https://sevenfeathers.com/wp-content/uploads/2026/04/7F-Bubbles-and-Funk-2026-1920x1080-WEB-1.jpg
END:VEVENT
END:VCALENDAR