BEGIN:VCALENDAR
VERSION:2.0
PRODID:-//Seven Feathers Casino - ECPv6.15.16//NONSGML v1.0//EN
CALSCALE:GREGORIAN
METHOD:PUBLISH
X-ORIGINAL-URL:https://sevenfeathers.com
X-WR-CALDESC:Events for Seven Feathers Casino
REFRESH-INTERVAL;VALUE=DURATION:PT1H
X-Robots-Tag:noindex
X-PUBLISHED-TTL:PT1H
BEGIN:VTIMEZONE
TZID:America/Los_Angeles
BEGIN:DAYLIGHT
TZOFFSETFROM:-0800
TZOFFSETTO:-0700
TZNAME:PDT
DTSTART:20250309T100000
END:DAYLIGHT
BEGIN:STANDARD
TZOFFSETFROM:-0700
TZOFFSETTO:-0800
TZNAME:PST
DTSTART:20251102T090000
END:STANDARD
BEGIN:DAYLIGHT
TZOFFSETFROM:-0800
TZOFFSETTO:-0700
TZNAME:PDT
DTSTART:20260308T100000
END:DAYLIGHT
BEGIN:STANDARD
TZOFFSETFROM:-0700
TZOFFSETTO:-0800
TZNAME:PST
DTSTART:20261101T090000
END:STANDARD
BEGIN:DAYLIGHT
TZOFFSETFROM:-0800
TZOFFSETTO:-0700
TZNAME:PDT
DTSTART:20270314T100000
END:DAYLIGHT
BEGIN:STANDARD
TZOFFSETFROM:-0700
TZOFFSETTO:-0800
TZNAME:PST
DTSTART:20271107T090000
END:STANDARD
END:VTIMEZONE
BEGIN:VEVENT
DTSTART;TZID=America/Los_Angeles:20260116T210000
DTEND;TZID=America/Los_Angeles:20260117T010000
DTSTAMP:20260423T153835
CREATED:20251231T173325Z
LAST-MODIFIED:20251231T173325Z
UID:10012808-1768597200-1768611600@sevenfeathers.com
SUMMARY:The Ashes
DESCRIPTION:Be our guest! Admission is free. \nMust be 21 or older. Hours and performers are subject to change.
URL:https://sevenfeathers.com/event/the-ashes-12/2026-01-16/
LOCATION:Elements Lounge\, 146 Chief Miwaleta Ln\, Canyonville\, OR\, 97417\, United States
CATEGORIES:Entertainment
ATTACH;FMTTYPE=image/jpeg:https://sevenfeathers.com/wp-content/uploads/2025/12/7F-Elements-Ent-JAN-2026-The-Ashes-1920x1080-1.jpg
END:VEVENT
BEGIN:VEVENT
DTSTART;TZID=America/Los_Angeles:20260121T190000
DTEND;TZID=America/Los_Angeles:20260121T230000
DTSTAMP:20260423T153835
CREATED:20251231T173707Z
LAST-MODIFIED:20251231T173707Z
UID:10012812-1769022000-1769036400@sevenfeathers.com
SUMMARY:Dugger Band
DESCRIPTION:Be our guest! Admission is free. \nMust be 21 or older. Hours and performers are subject to change.
URL:https://sevenfeathers.com/event/dugger-band-3/2026-01-21/
LOCATION:Elements Lounge\, 146 Chief Miwaleta Ln\, Canyonville\, OR\, 97417\, United States
CATEGORIES:Entertainment
ATTACH;FMTTYPE=image/jpeg:https://sevenfeathers.com/wp-content/uploads/2025/12/7F-Elements-Ent-JAN-2026-Dugger-Band-1920x1080-1.jpg
END:VEVENT
BEGIN:VEVENT
DTSTART;TZID=America/Los_Angeles:20260123T210000
DTEND;TZID=America/Los_Angeles:20260124T010000
DTSTAMP:20260423T153835
CREATED:20251231T173831Z
LAST-MODIFIED:20251231T173831Z
UID:10012814-1769202000-1769216400@sevenfeathers.com
SUMMARY:Dugger Band
DESCRIPTION:Be our guest! Admission is free. \nMust be 21 or older. Hours and performers are subject to change.
URL:https://sevenfeathers.com/event/dugger-band-4/2026-01-23/
LOCATION:Elements Lounge\, 146 Chief Miwaleta Ln\, Canyonville\, OR\, 97417\, United States
CATEGORIES:Entertainment
ATTACH;FMTTYPE=image/jpeg:https://sevenfeathers.com/wp-content/uploads/2025/12/7F-Elements-Ent-JAN-2026-Dugger-Band-1920x1080-1.jpg
END:VEVENT
BEGIN:VEVENT
DTSTART;TZID=America/Los_Angeles:20260124T190000
DTEND;TZID=America/Los_Angeles:20260124T203000
DTSTAMP:20260423T153835
CREATED:20251120T183644Z
LAST-MODIFIED:20251124T203741Z
UID:10011937-1769281200-1769286600@sevenfeathers.com
SUMMARY:Theresa Caputo
DESCRIPTION:Saturday\, January 24 at 7:00PM. \n  \nCome experience the powerful presence of Theresa Caputo\, the former Long Island Medium and current star of Theresa Caputo: Raising Spirits. Witness her gifts firsthand as she leads the audience through a night exploring the afterlife. \n  \nReserved Seating $70\, $80\, $90 \n  \nClick here to get your tickets.  \n  \n\nTickets on sale Wednesday\, November 26 at 10:00AM. Purchase tickets in person at the Gift Gallery\, online at sevenfeathers.com or call Etix at 800.514.3849. Etix is the sole ticket provider for all Seven Feathers Casino Resort events. Not responsible for third party ticket sales. Doors open at 6:00PM.  Must be 21 or older. During the experience\, readmission into the ballroom may be limited.
URL:https://sevenfeathers.com/event/theresa-caputo-2/
LOCATION:Umpqua Grand Ballroom\, 146 Chief Miwaleta Ln\, Canyonville\, OR\, 97417\, United States
CATEGORIES:Entertainment
END:VEVENT
BEGIN:VEVENT
DTSTART;TZID=America/Los_Angeles:20260128T190000
DTEND;TZID=America/Los_Angeles:20260128T220000
DTSTAMP:20260423T153835
CREATED:20260101T175318Z
LAST-MODIFIED:20260101T175318Z
UID:10012921-1769626800-1769637600@sevenfeathers.com
SUMMARY:Karaoke Night
DESCRIPTION:Join us Wednesday\, January 28\, for Karaoke Night from 7:00 – 10:00PM! \nMust be 21 or older.
URL:https://sevenfeathers.com/event/karaoke-night/
LOCATION:Elements Lounge\, 146 Chief Miwaleta Ln\, Canyonville\, OR\, 97417\, United States
CATEGORIES:Entertainment
ATTACH;FMTTYPE=image/jpeg:https://sevenfeathers.com/wp-content/uploads/2026/01/Elements-Karaoke-JAN-26-1920x1080-WEB.jpg
END:VEVENT
BEGIN:VEVENT
DTSTART;TZID=America/Los_Angeles:20260130T210000
DTEND;TZID=America/Los_Angeles:20260131T010000
DTSTAMP:20260423T153835
CREATED:20251231T173540Z
LAST-MODIFIED:20251231T173540Z
UID:10012810-1769806800-1769821200@sevenfeathers.com
SUMMARY:Code Red
DESCRIPTION:Be our guest! Admission is free. \nMust be 21 or older. Hours and performers are subject to change.
URL:https://sevenfeathers.com/event/code-red/2026-01-30/
LOCATION:Elements Lounge\, 146 Chief Miwaleta Ln\, Canyonville\, OR\, 97417\, United States
CATEGORIES:Entertainment
ATTACH;FMTTYPE=image/jpeg:https://sevenfeathers.com/wp-content/uploads/2025/12/7F-Elements-Ent-JAN-2026-Code-Red-1920x1080-1.jpg
END:VEVENT
BEGIN:VEVENT
DTSTART;TZID=America/Los_Angeles:20260204T190000
DTEND;TZID=America/Los_Angeles:20260204T220000
DTSTAMP:20260423T153835
CREATED:20260123T171957Z
LAST-MODIFIED:20260123T171957Z
UID:10013073-1770231600-1770242400@sevenfeathers.com
SUMMARY:Open Jam Night
DESCRIPTION:Want to rock out with us? Come to Open Jam Night! Hosted by a local 4-piece house band. \nSignups begin at 6:30PM. Drums\, Bass\, Amp and Keyboard provided. \nSee Elements Lounge for details and come join the fun!
URL:https://sevenfeathers.com/event/open-jam-night-2/
LOCATION:Elements Lounge\, 146 Chief Miwaleta Ln\, Canyonville\, OR\, 97417\, United States
CATEGORIES:Entertainment
ATTACH;FMTTYPE=image/jpeg:https://sevenfeathers.com/wp-content/uploads/2026/01/Elements-Open-Jam-Night-FEB-1920x1080-1.jpg
END:VEVENT
BEGIN:VEVENT
DTSTART;TZID=America/Los_Angeles:20260206T170000
DTEND;TZID=America/Los_Angeles:20260206T213000
DTSTAMP:20260423T153835
CREATED:20260101T034817Z
LAST-MODIFIED:20260101T034817Z
UID:10012817-1770397200-1770413400@sevenfeathers.com
SUMMARY:Traditional Lion Dancers
DESCRIPTION:Friday\, February 6 \n  \nCelebrate the Chinese New Year with us\, 2026 the Year of the Horse! This event is free and open to all ages for the 5:00PM show. \n  \nThe Lion Dancers traditional blessing will start at 5:00PM at the Casino Main entrance. There will be additional performances at 6:00\, 7:00\, 8:00 and 9:00PM touring the casino floor.
URL:https://sevenfeathers.com/event/traditional-lion-dancers-2/
LOCATION:Main Casino Entrance\, 146 Chief Miwaleta Ln\, Canyonville\, OR\, 97417\, United States
CATEGORIES:Entertainment
ATTACH;FMTTYPE=image/jpeg:https://sevenfeathers.com/wp-content/uploads/2025/12/7F-Lion-Dancer-2026-1920x1080-WEB.jpg
END:VEVENT
BEGIN:VEVENT
DTSTART;TZID=America/Los_Angeles:20260206T210000
DTEND;TZID=America/Los_Angeles:20260207T010000
DTSTAMP:20260423T153835
CREATED:20260123T172437Z
LAST-MODIFIED:20260123T172437Z
UID:10013075-1770411600-1770426000@sevenfeathers.com
SUMMARY:Toyz
DESCRIPTION:Be our guest and enjoy free live music in the Elements Lounge! \nMust be 21 or older. Hours and performers are subject to change.
URL:https://sevenfeathers.com/event/toyz-14/2026-02-06/
LOCATION:Elements Lounge\, 146 Chief Miwaleta Ln\, Canyonville\, OR\, 97417\, United States
CATEGORIES:Entertainment
ATTACH;FMTTYPE=image/jpeg:https://sevenfeathers.com/wp-content/uploads/2026/01/7F-Elements-Ent-FEB-26-Toyz-17x11-1.jpg
END:VEVENT
BEGIN:VEVENT
DTSTART;TZID=America/Los_Angeles:20260208T140000
DTEND;TZID=America/Los_Angeles:20260208T190000
DTSTAMP:20260423T153835
CREATED:20251121T172019Z
LAST-MODIFIED:20251126T180638Z
UID:10011938-1770559200-1770577200@sevenfeathers.com
SUMMARY:Super Party
DESCRIPTION:The best place to watch the big game is here at Seven Feathers! Join us Sunday\, February 8\, for an afternoon of tailgate food\, giveaways\, and PLENTY of big screens to watch the game. \nTickets are on sale starting Wednesday\, November 26\, at 10:00AM. Purchase tickets in person at the Gift Gallery\, online via our website\, or by calling Etix at 800.514.3849. Etix is the sole ticket provider for all Seven Feathers Casino Resort events. Not responsible for third-party ticket sales. \nThis is a 21 or older event. \nClick here to purchase tickets.
URL:https://sevenfeathers.com/event/super-party-2/
LOCATION:Umpqua Grand Ballroom\, 146 Chief Miwaleta Ln\, Canyonville\, OR\, 97417\, United States
CATEGORIES:Entertainment
END:VEVENT
BEGIN:VEVENT
DTSTART;TZID=America/Los_Angeles:20260208T190000
DTEND;TZID=America/Los_Angeles:20260208T230000
DTSTAMP:20260423T153835
CREATED:20260123T172551Z
LAST-MODIFIED:20260123T172551Z
UID:10013077-1770577200-1770591600@sevenfeathers.com
SUMMARY:Toyz
DESCRIPTION:Be our guest and enjoy free live music in the Elements Lounge! \nMust be 21 or older. Hours and performers are subject to change.
URL:https://sevenfeathers.com/event/toyz-15/
LOCATION:Elements Lounge\, 146 Chief Miwaleta Ln\, Canyonville\, OR\, 97417\, United States
CATEGORIES:Entertainment
ATTACH;FMTTYPE=image/jpeg:https://sevenfeathers.com/wp-content/uploads/2026/01/7F-Elements-Ent-FEB-26-Toyz-17x11-1.jpg
END:VEVENT
BEGIN:VEVENT
DTSTART;TZID=America/Los_Angeles:20260211T190000
DTEND;TZID=America/Los_Angeles:20260211T230000
DTSTAMP:20260423T153835
CREATED:20260123T172158Z
LAST-MODIFIED:20260123T172158Z
UID:10013074-1770836400-1770850800@sevenfeathers.com
SUMMARY:Cover Culture
DESCRIPTION:Be our guest and enjoy free live music in the Elements Lounge! \nMust be 21 or older. Hours and performers are subject to change.
URL:https://sevenfeathers.com/event/cover-culture-2/
LOCATION:OR
CATEGORIES:Entertainment
ATTACH;FMTTYPE=image/jpeg:https://sevenfeathers.com/wp-content/uploads/2026/01/7F-Elements-Ent-COVER-CULTURE-FEB-26-1920x1080-1.jpg
END:VEVENT
BEGIN:VEVENT
DTSTART;TZID=America/Los_Angeles:20260214T190000
DTEND;TZID=America/Los_Angeles:20260214T203000
DTSTAMP:20260423T153835
CREATED:20251003T193708Z
LAST-MODIFIED:20260120T223119Z
UID:10011746-1771095600-1771101000@sevenfeathers.com
SUMMARY:Andrew Santino: Live
DESCRIPTION:Saturday\, February 14 at 7:00PM \n\nReserved Seating $50\, $60\, $70 \n  \nClick Here to Get Your Tickets. \n  \nTickets on sale now. Purchase tickets in person at the Gift Gallery or call Etix at 800.514.3849. Etix is the sole ticket provider for all Seven Feathers Casino Resort events. Not responsible for third party ticket sales. Doors open at 6:00PM. Must be 21 or older. Concert Attendees – due to venue configuration\, standing during the concert can be expected\, please be sensitive to the mobility impaired that may surround your seat.
URL:https://sevenfeathers.com/event/andrew-santino-live/
LOCATION:Umpqua Grand Ballroom\, 146 Chief Miwaleta Ln\, Canyonville\, OR\, 97417\, United States
CATEGORIES:Entertainment,Exit 99 Landing Page Events
ATTACH;FMTTYPE=image/jpeg:https://sevenfeathers.com/wp-content/uploads/2025/10/7F-Andrew-Santino-1920x1080-WEB.jpg
END:VEVENT
BEGIN:VEVENT
DTSTART;TZID=America/Los_Angeles:20260218T190000
DTEND;TZID=America/Los_Angeles:20260218T210000
DTSTAMP:20260423T153835
CREATED:20260130T223858Z
LAST-MODIFIED:20260130T223858Z
UID:10013188-1771441200-1771448400@sevenfeathers.com
SUMMARY:Mic Drop Comedy in Elements Lounge
DESCRIPTION:Seven Feathers is your place for live comedy! Join us on Wednesday\, February 18 for Lynette Manning and Collin Moulton. \n  \nTickets are on sale now. Click here to purchase yours. \n \nEtix is the sole ticket provider for all Seven Feathers Casino Resort events. Not responsible for third-party ticket sales.
URL:https://sevenfeathers.com/event/mic-drop-comedy-in-elements-lounge/
LOCATION:Elements Lounge\, 146 Chief Miwaleta Ln\, Canyonville\, OR\, 97417\, United States
CATEGORIES:Entertainment
ATTACH;FMTTYPE=image/jpeg:https://sevenfeathers.com/wp-content/uploads/2026/01/ELEMENTS-MICDROP-FEB-26-1920x1080-WEB.jpg
END:VEVENT
BEGIN:VEVENT
DTSTART;TZID=America/Los_Angeles:20260220T210000
DTEND;TZID=America/Los_Angeles:20260221T010000
DTSTAMP:20260423T153835
CREATED:20260123T173133Z
LAST-MODIFIED:20260123T173133Z
UID:10013079-1771621200-1771635600@sevenfeathers.com
SUMMARY:Brothers Reed
DESCRIPTION:Be our guest and enjoy free live music in the Elements Lounge! \nMust be 21 or older. Hours and performers are subject to change.
URL:https://sevenfeathers.com/event/brothers-reed/2026-02-20/
LOCATION:Elements Lounge\, 146 Chief Miwaleta Ln\, Canyonville\, OR\, 97417\, United States
CATEGORIES:Entertainment
ATTACH;FMTTYPE=image/jpeg:https://sevenfeathers.com/wp-content/uploads/2026/01/7F-Elements-Ent-FEB-26-Brothers-Reed-17x11-1.jpg
END:VEVENT
BEGIN:VEVENT
DTSTART;TZID=America/Los_Angeles:20260225T190000
DTEND;TZID=America/Los_Angeles:20260225T220000
DTSTAMP:20260423T153835
CREATED:20260128T204123Z
LAST-MODIFIED:20260128T204123Z
UID:10013186-1772046000-1772056800@sevenfeathers.com
SUMMARY:Karaoke in Elements Lounge
DESCRIPTION:Join the fun on Wednesday\, February 25 from 7:00 to 10:00PM. \n  \nPick your favorite song and sings with friends at Karaoke in Elements Lounge.
URL:https://sevenfeathers.com/event/karaoke-in-elements-lounge/
LOCATION:Elements Lounge\, 146 Chief Miwaleta Ln\, Canyonville\, OR\, 97417\, United States
CATEGORIES:Entertainment
ATTACH;FMTTYPE=image/jpeg:https://sevenfeathers.com/wp-content/uploads/2026/01/Elements-Karaoke-FEB-26-1920x1080-web.jpg
END:VEVENT
BEGIN:VEVENT
DTSTART;TZID=America/Los_Angeles:20260304T183000
DTEND;TZID=America/Los_Angeles:20260305T010000
DTSTAMP:20260423T153835
CREATED:20260227T185310Z
LAST-MODIFIED:20260312T201243Z
UID:10013191-1772649000-1772672400@sevenfeathers.com
SUMMARY:March Elements Lounge Events
DESCRIPTION:Be our guest\, admission is free to all of these events throughout the month! \nMarch 4 – Open Jam Night – signups begin at 6:30PM \nMarch 6 & 7 – Roll On – 9:00PM – 1:00AM \nMarch 11 – Bri Marie – 7:00PM – 11:00PM \nMarch 13 & 14 – Strawberry Roan – 9:00PM – 1:00AM \nMarch 20 & 21 – The Koz – 9:00PM – 1:00AM \nMarch 25 – Karaoke Night – 7:00PM – 10:00 PM \nMarch 27 & 28 – Code Red – 9:00PM – 1:00AM \nAll attendees must be 21 or older. Hours and performers are subject to change.
URL:https://sevenfeathers.com/event/march-elements-lounge-events/2026-03-04/
LOCATION:Elements Lounge\, 146 Chief Miwaleta Ln\, Canyonville\, OR\, 97417\, United States
CATEGORIES:Entertainment,Ongoing
ATTACH;FMTTYPE=image/jpeg:https://sevenfeathers.com/wp-content/uploads/2026/02/Slide-8.jpg
END:VEVENT
BEGIN:VEVENT
DTSTART;TZID=America/Los_Angeles:20260307T180000
DTEND;TZID=America/Los_Angeles:20260307T210000
DTSTAMP:20260423T153835
CREATED:20260128T175222Z
LAST-MODIFIED:20260128T175222Z
UID:10013170-1772906400-1772917200@sevenfeathers.com
SUMMARY:Greatest of the Grape
DESCRIPTION:Saturday\, March 7 from 6:00 to 9:00PM \nLearn more about this event at the Umpqua Valley Wineries event page.
URL:https://sevenfeathers.com/event/greatest-of-the-grape/
LOCATION:Umpqua Grand Ballroom\, 146 Chief Miwaleta Ln\, Canyonville\, OR\, 97417\, United States
CATEGORIES:Entertainment
ATTACH;FMTTYPE=image/jpeg:https://sevenfeathers.com/wp-content/uploads/2026/01/GoG-2026-Event-Banner-for-website.jpg
END:VEVENT
BEGIN:VEVENT
DTSTART;TZID=America/Los_Angeles:20260318T190000
DTEND;TZID=America/Los_Angeles:20260318T210000
DTSTAMP:20260423T153835
CREATED:20260130T224538Z
LAST-MODIFIED:20260130T224538Z
UID:10013189-1773860400-1773867600@sevenfeathers.com
SUMMARY:Mic Drop Comedy in Elements Lounge
DESCRIPTION:Seven Feathers is your place for live comedy! Join us on Wednesday\, March 18 for Nathan Hart and Kermet Apio. \n  \nTickets are on sale now. Click here to purchase yours. \n \nEtix is the sole ticket provider for all Seven Feathers Casino Resort events. Not responsible for third-party ticket sales.
URL:https://sevenfeathers.com/event/mic-drop-comedy-in-elements-lounge-2/
LOCATION:Elements Lounge\, 146 Chief Miwaleta Ln\, Canyonville\, OR\, 97417\, United States
CATEGORIES:Entertainment
ATTACH;FMTTYPE=image/jpeg:https://sevenfeathers.com/wp-content/uploads/2026/01/ELEMENTS-MICDROP-MAR-26-1920x1080-WEB.jpg
END:VEVENT
BEGIN:VEVENT
DTSTART;TZID=America/Los_Angeles:20260328T190000
DTEND;TZID=America/Los_Angeles:20260328T203000
DTSTAMP:20260423T153835
CREATED:20251218T010210Z
LAST-MODIFIED:20260120T223150Z
UID:10012705-1774724400-1774729800@sevenfeathers.com
SUMMARY:Shaun Tam
DESCRIPTION:Internationally acclaimed singer\, actor\, and host\, Shaun Tam is bringing his talents to Seven Feathers Casino Resort on Saturday\, March 28! \nTickets are on sale now\, with reserved seating for $15\, $25\, or $35. \nPurchase tickets in person at the Gift Gallery or call Etix at 800.514.3849. Etix is the sole ticket provider for all Seven Feathers Casino Resort events. Not responsible for third-party ticket sales. \nDoors open at 6:00 PM. The show starts at 7:00 PM. Show attendees must be 21 or older. Due to venue configuration\, standing during the concert can be expected\, please be sensitive to the mobility impaired that may surround your seat. \nPurchase tickets.
URL:https://sevenfeathers.com/event/shaun-tam/
LOCATION:Umpqua Grand Ballroom\, 146 Chief Miwaleta Ln\, Canyonville\, OR\, 97417\, United States
CATEGORIES:Entertainment,Exit 99 Landing Page Events
ATTACH;FMTTYPE=image/jpeg:https://sevenfeathers.com/wp-content/uploads/2025/12/7F-Shaun-Tam-1920x1080-WEB.jpg
END:VEVENT
BEGIN:VEVENT
DTSTART;TZID=America/Los_Angeles:20260415T190000
DTEND;TZID=America/Los_Angeles:20260415T210000
DTSTAMP:20260423T153835
CREATED:20260325T182947Z
LAST-MODIFIED:20260325T182947Z
UID:10014126-1776279600-1776286800@sevenfeathers.com
SUMMARY:Mic Drop Comedy in Elements Lounge
DESCRIPTION:  \nSeven Feathers is your place for live comedy! Join us on Wednesday\, April 15 for Kevin Bozeman and Jess Everett. The show starts at 7:00PM. \n  \nTickets are $20 and $30. Click here to purchase yours. \n \nPurchase tickets in person at the Gift Gallery\, online at Sevenfeathers.com or by calling Etix at 800-514-3849. Etix is the sole ticket provider for all Seven Feathers Casino Resort events. Not responsible for third party ticket sales. Doors open at 6:00PM. Must be 21 or older. No ticket sales at the door.
URL:https://sevenfeathers.com/event/mic-drop-comedy-in-elements-lounge-3/
LOCATION:OR
CATEGORIES:Entertainment
ATTACH;FMTTYPE=image/jpeg:https://sevenfeathers.com/wp-content/uploads/2026/03/ELEMENTS-MICDROP-APR-26-1920x1080-WEB.jpg
END:VEVENT
BEGIN:VEVENT
DTSTART;TZID=America/Los_Angeles:20260417T140000
DTEND;TZID=America/Los_Angeles:20260417T220000
DTSTAMP:20260423T153835
CREATED:20260128T181532Z
LAST-MODIFIED:20260128T181710Z
UID:10013183-1776434400-1776463200@sevenfeathers.com
SUMMARY:8th Annual Seven Feathers Tattoo Expo
DESCRIPTION:Friday\, April 17 from 2:00 to 10:00PM \nSaturday\, April 18 from Noon to 10:00PM \nSunday\, April 19 from Noon to 7:00PM \n  \nDaily Admission is $15 at the door (includes wristband and in/out privileges for day of purchase). \nChildren 14 and under FREE \nThree-day VIP Passes $35. On sale NOW! \nPurchase VIP Passes online at sevenfeatherstattooexpo.com \n  \nContests for Healed Tattoos & Tattoos of the Day (tattoos done at the convention). \n  \nOpen to all ages. Minors\, please use West Convention Center entrance. Children under 18 must be accompanied by an adult. Must be 18 or older to be tattooed.
URL:https://sevenfeathers.com/event/8th-annual-seven-feathers-tattoo-expo/
LOCATION:Umpqua Grand Ballroom\, 146 Chief Miwaleta Ln\, Canyonville\, OR\, 97417\, United States
CATEGORIES:Entertainment
ATTACH;FMTTYPE=image/jpeg:https://sevenfeathers.com/wp-content/uploads/2026/01/7F-Tattoo-Exp-2026-1920x1080-WEB.jpg
END:VEVENT
BEGIN:VEVENT
DTSTART;TZID=America/Los_Angeles:20260417T190000
DTEND;TZID=America/Los_Angeles:20260417T203000
DTSTAMP:20260423T153835
CREATED:20260303T173747Z
LAST-MODIFIED:20260303T173747Z
UID:10013972-1776452400-1776457800@sevenfeathers.com
SUMMARY:Jacquie Roar
DESCRIPTION:As seen on The Voice! Live in Elements Lounge \nFriday & Saturday\, April 17 & 18 • 7:00PM \nGeneral Admission Table Seating $25\, General Admission Seating $20 \nTickets on sale now. Purchase tickets in person at the Gift Gallery\, online at sevenfeathers.com or call Etix at 800.514.3849. Etix is the sole ticket provider for all Seven Feathers Casino Resort events. Not responsible for third party ticket sales. \nDoors open at 6:00PM. Must be 21 or older. \nClick here to purchase tickets.
URL:https://sevenfeathers.com/event/jacquie-roar/2026-04-17/
LOCATION:Elements Lounge\, 146 Chief Miwaleta Ln\, Canyonville\, OR\, 97417\, United States
CATEGORIES:Entertainment
ATTACH;FMTTYPE=image/jpeg:https://sevenfeathers.com/wp-content/uploads/2026/03/7F-Jacquie-Roar-1920x1080-WEB.jpg
END:VEVENT
BEGIN:VEVENT
DTSTART;TZID=America/Los_Angeles:20260418T120000
DTEND;TZID=America/Los_Angeles:20260418T220000
DTSTAMP:20260423T153835
CREATED:20260128T181634Z
LAST-MODIFIED:20260128T181634Z
UID:10013184-1776513600-1776549600@sevenfeathers.com
SUMMARY:8th Annual Seven Feathers Tattoo Expo
DESCRIPTION:Friday\, April 17 from 2:00 to 10:00PM \nSaturday\, April 18 from Noon to 10:00PM \nSunday\, April 19 from Noon to 7:00PM \n  \nDaily Admission is $15 at the door (includes wristband and in/out privileges for day of purchase). \nChildren 14 and under FREE \nThree-day VIP Passes $35. On sale NOW! \nPurchase VIP Passes online at sevenfeatherstattooexpo.com \n  \nContests for Healed Tattoos & Tattoos of the Day (tattoos done at the convention). \n  \nOpen to all ages. Minors\, please use West Convention Center entrance. Children under 18 must be accompanied by an adult. Must be 18 or older to be tattooed.
URL:https://sevenfeathers.com/event/8th-annual-seven-feathers-tattoo-expo-2/
LOCATION:Umpqua Grand Ballroom\, 146 Chief Miwaleta Ln\, Canyonville\, OR\, 97417\, United States
CATEGORIES:Entertainment
ATTACH;FMTTYPE=image/jpeg:https://sevenfeathers.com/wp-content/uploads/2026/01/7F-Tattoo-Exp-2026-1920x1080-WEB.jpg
END:VEVENT
BEGIN:VEVENT
DTSTART;TZID=America/Los_Angeles:20260419T120000
DTEND;TZID=America/Los_Angeles:20260419T190000
DTSTAMP:20260423T153835
CREATED:20260128T181723Z
LAST-MODIFIED:20260414T223018Z
UID:10013185-1776600000-1776625200@sevenfeathers.com
SUMMARY:8th Annual Seven Feathers Tattoo Expo
DESCRIPTION:Friday\, April 17 from 2:00 to 10:00PM \nSaturday\, April 18 from Noon to 10:00PM \nSunday\, April 19 from Noon to 7:00PM \n  \nDaily Admission is $15 at the door (includes wristband and in/out privileges for day of purchase). \nChildren 14 and under FREE \nThree-day VIP Passes $35. On sale NOW! \nPurchase VIP Passes online at sevenfeatherstattooexpo.com \nClick here to view the full list of Tattooers & Vendors. \nContests for Healed Tattoos & Tattoos of the Day (tattoos done at the convention). \n  \nOpen to all ages. Minors\, please use West Convention Center entrance. Children under 18 must be accompanied by an adult. Must be 18 or older to be tattooed.
URL:https://sevenfeathers.com/event/8th-annual-seven-feathers-tattoo-expo-3/
LOCATION:Umpqua Grand Ballroom\, 146 Chief Miwaleta Ln\, Canyonville\, OR\, 97417\, United States
CATEGORIES:Entertainment,Exit 99 Landing Page Events
ATTACH;FMTTYPE=image/jpeg:https://sevenfeathers.com/wp-content/uploads/2026/01/7F-Tattoo-Exp-2026-1920x1080-WEB.jpg
END:VEVENT
BEGIN:VEVENT
DTSTART;TZID=America/Los_Angeles:20260425T190000
DTEND;TZID=America/Los_Angeles:20260425T200000
DTSTAMP:20260423T153835
CREATED:20260108T180138Z
LAST-MODIFIED:20260114T182846Z
UID:10013055-1777143600-1777147200@sevenfeathers.com
SUMMARY:The Players
DESCRIPTION:Saturday\, April 25 at 7:00PM \n  \nReserved Seating $25\, $35\, $45 \n  \nClick here to purchase your tickets! \n\nTickets on sale now.  Purchase tickets in person at the Gift Gallery\, online at sevenfeathers.com or call Etix at 800.514.3849.   Etix is the sole ticket provider for all Seven Feathers Casino Resort events.   Not responsible for third party ticket sales.  Doors open at 6:00PM.  Must be 21 or older.  Concert Attendees – due to venue configuration\, standing during the concert can be expected\, please be sensitive to the mobility impaired that may surround your seat.
URL:https://sevenfeathers.com/event/the-players/
LOCATION:Umpqua Grand Ballroom\, 146 Chief Miwaleta Ln\, Canyonville\, OR\, 97417\, United States
CATEGORIES:Entertainment
ATTACH;FMTTYPE=image/jpeg:https://sevenfeathers.com/wp-content/uploads/2026/01/7F-The-Players-1920x1080-WEB.jpg
END:VEVENT
BEGIN:VEVENT
DTSTART;TZID=America/Los_Angeles:20260430T160000
DTEND;TZID=America/Los_Angeles:20260430T230000
DTSTAMP:20260423T153835
CREATED:20260423T163402Z
LAST-MODIFIED:20260423T163517Z
UID:10014377-1777564800-1777590000@sevenfeathers.com
SUMMARY:Bubbles and Funk Opening Night
DESCRIPTION:Join the fun starting on April 30\, and get a the first experience of Bubbles and Funk! \nThere will be a VIP mixer from 4:00 to 5:00PM. \nA public Mix and Mingle will take place from 5:00 to 11:00PM. We will have a live DJ from 4:00 to 11:PM for this opening night event. \n  \nEnjoy your funky music favorites from a live DJ on Fridays & Saturdays from 8:00PM to Midnight. \n  \nBubbles and Funk will include Champagne Features\, Signature Cocktails\, Sparkling Wines\, Drop Beats and the Feel of Funk!
URL:https://sevenfeathers.com/event/bubbles-and-funk-opening-night/
LOCATION:Steelhead Lounge\, 146 Chief Miwaleta Ln\, Canyonville\, OR\, 97417\, United States
CATEGORIES:Entertainment
ATTACH;FMTTYPE=image/jpeg:https://sevenfeathers.com/wp-content/uploads/2026/04/7F-Bubbles-and-Funk-2026-1920x1080-WEB-1.jpg
END:VEVENT
BEGIN:VEVENT
DTSTART;TZID=America/Los_Angeles:20260509T190000
DTEND;TZID=America/Los_Angeles:20260509T210000
DTSTAMP:20260423T153835
CREATED:20260219T174225Z
LAST-MODIFIED:20260225T180257Z
UID:10013190-1778353200-1778360400@sevenfeathers.com
SUMMARY:Live MMA Action
DESCRIPTION:Saturday\, May 9 at 7:00PM \n  \nReserved Seating tickets $50\, $60\, $80 \n  \nGet your tickets here!  \n  \nTickets go on sale Wednesday\, February 25 at 10:00AM. Purchase tickets in person at the Gift Gallery\, online at sevenfeathers.com or call Etix at 800.514.3849. Etix is the sole ticket provider for all Seven Feathers Casino Resort events. Not responsible for third party ticket sales. Doors open at 6:00PM.  Must be 21 or older. \n  \nPre-fight interviews and weigh-in will be on Friday\, May 8 from 5:00 to 8:00PM\, in Elements Lounge. Admission is free for the weight-ins. Must be 21 or older.
URL:https://sevenfeathers.com/event/live-mma-action-3/
LOCATION:Umpqua Grand Ballroom\, 146 Chief Miwaleta Ln\, Canyonville\, OR\, 97417\, United States
CATEGORIES:Entertainment,Exit 99 Landing Page Events
ATTACH;FMTTYPE=image/jpeg:https://sevenfeathers.com/wp-content/uploads/2026/02/7F-MMA-Fights-2026-1920x1080-WEB.jpg
END:VEVENT
BEGIN:VEVENT
DTSTART;TZID=America/Los_Angeles:20260513T190000
DTEND;TZID=America/Los_Angeles:20260513T210000
DTSTAMP:20260423T153835
CREATED:20260325T224814Z
LAST-MODIFIED:20260325T231829Z
UID:10014127-1778698800-1778706000@sevenfeathers.com
SUMMARY:Single Mingle in Elements Lounge
DESCRIPTION:Wednesday\, May 13 from 7:00 to 9:00PM. \n  \nAdmission is $10 at the door\, but it is half price if you bring a friend. \n  \nCome and enjoy music from DJ Ron\, Tapas\, Games\, Prizes\, and more! \n  \nAdmission includes tapas. Must be 21 or older.
URL:https://sevenfeathers.com/event/single-mingle-in-elements-lounge/
LOCATION:Elements Lounge\, 146 Chief Miwaleta Ln\, Canyonville\, OR\, 97417\, United States
CATEGORIES:Entertainment
ATTACH;FMTTYPE=image/jpeg:https://sevenfeathers.com/wp-content/uploads/2026/03/7F-Elements-Lounge-Single-Mingle-1920x1080-1.jpg
END:VEVENT
BEGIN:VEVENT
DTSTART;TZID=America/Los_Angeles:20260520T190000
DTEND;TZID=America/Los_Angeles:20260520T210000
DTSTAMP:20260423T153835
CREATED:20260409T165406Z
LAST-MODIFIED:20260409T165406Z
UID:10014184-1779303600-1779310800@sevenfeathers.com
SUMMARY:Mic Drop Comedy in Elements Lounge
DESCRIPTION:  \nSeven Feathers is your place for live comedy! Join us on Wednesday\, May 20 for Arvin Mitchell and Jordan Casner. The show starts at 7:00PM. \n \nTickets are $20 and $30. Click here to purchase yours. \nPurchase tickets in person at the Gift Gallery or by calling Etix at 800-514-3849. Etix is the sole ticket provider for all Seven Feathers Casino Resort events. Not responsible for third party ticket sales. Doors open at 6:00PM. Must be 21 or older. No ticket sales at the door.
URL:https://sevenfeathers.com/event/mic-drop-comedy-in-elements-lounge-4/
LOCATION:Elements Lounge\, 146 Chief Miwaleta Ln\, Canyonville\, OR\, 97417\, United States
CATEGORIES:Entertainment
ATTACH;FMTTYPE=image/jpeg:https://sevenfeathers.com/wp-content/uploads/2026/04/ELEMENTS-MICDROP-MAY-26-1920x1080-WEB.jpg
END:VEVENT
END:VCALENDAR