BEGIN:VCALENDAR
VERSION:2.0
PRODID:-//Seven Feathers Casino - ECPv6.15.16//NONSGML v1.0//EN
CALSCALE:GREGORIAN
METHOD:PUBLISH
X-ORIGINAL-URL:https://sevenfeathers.com
X-WR-CALDESC:Events for Seven Feathers Casino
REFRESH-INTERVAL;VALUE=DURATION:PT1H
X-Robots-Tag:noindex
X-PUBLISHED-TTL:PT1H
BEGIN:VTIMEZONE
TZID:America/Los_Angeles
BEGIN:DAYLIGHT
TZOFFSETFROM:-0800
TZOFFSETTO:-0700
TZNAME:PDT
DTSTART:20240310T100000
END:DAYLIGHT
BEGIN:STANDARD
TZOFFSETFROM:-0700
TZOFFSETTO:-0800
TZNAME:PST
DTSTART:20241103T090000
END:STANDARD
BEGIN:DAYLIGHT
TZOFFSETFROM:-0800
TZOFFSETTO:-0700
TZNAME:PDT
DTSTART:20250309T100000
END:DAYLIGHT
BEGIN:STANDARD
TZOFFSETFROM:-0700
TZOFFSETTO:-0800
TZNAME:PST
DTSTART:20251102T090000
END:STANDARD
BEGIN:DAYLIGHT
TZOFFSETFROM:-0800
TZOFFSETTO:-0700
TZNAME:PDT
DTSTART:20260308T100000
END:DAYLIGHT
BEGIN:STANDARD
TZOFFSETFROM:-0700
TZOFFSETTO:-0800
TZNAME:PST
DTSTART:20261101T090000
END:STANDARD
END:VTIMEZONE
BEGIN:VEVENT
DTSTART;TZID=America/Los_Angeles:20250910T190000
DTEND;TZID=America/Los_Angeles:20250910T230000
DTSTAMP:20260423T154009
CREATED:20250902T161512Z
LAST-MODIFIED:20250902T161512Z
UID:10011594-1757530800-1757545200@sevenfeathers.com
SUMMARY:Chad Freeman
DESCRIPTION:Be our guest! Admission is free. \nMust be 21 or older. Hours and performers are subject to change.
URL:https://sevenfeathers.com/event/chad-freeman-3/2025-09-10/
LOCATION:Elements Lounge\, 146 Chief Miwaleta Ln\, Canyonville\, OR\, 97417\, United States
CATEGORIES:Entertainment
END:VEVENT
BEGIN:VEVENT
DTSTART;TZID=America/Los_Angeles:20250912T210000
DTEND;TZID=America/Los_Angeles:20250913T010000
DTSTAMP:20260423T154009
CREATED:20250902T161649Z
LAST-MODIFIED:20250902T161649Z
UID:10011596-1757710800-1757725200@sevenfeathers.com
SUMMARY:DJ Marc Eazy
DESCRIPTION:Be our guest! Admission is free. \nMust be 21 or older. Hours and performers are subject to change.
URL:https://sevenfeathers.com/event/dj-marc-eazy-9/2025-09-12/
LOCATION:Elements Lounge\, 146 Chief Miwaleta Ln\, Canyonville\, OR\, 97417\, United States
CATEGORIES:Entertainment
END:VEVENT
BEGIN:VEVENT
DTSTART;TZID=America/Los_Angeles:20250913T110000
DTEND;TZID=America/Los_Angeles:20250913T170000
DTSTAMP:20260423T154009
CREATED:20240712T221411Z
LAST-MODIFIED:20250814T170722Z
UID:10007371-1757761200-1757782800@sevenfeathers.com
SUMMARY:Tacotopia
DESCRIPTION:Tacotopia is Saturday\, September 13 from 11:00AM to 5:00PM an the Seven Feathers Casino Resort main entrance. \nOregon’s favorite taco and tequila festival is back! This annual celebration has free entry and is available to guests of all ages. \nTequila\, Craft Beer\, Tacos & More will be available for purchase from visiting food trucks and vendors. \nEnjoy live entertainment by The Koz! \n 
URL:https://sevenfeathers.com/event/tacotopia/
LOCATION:Main Casino Entrance\, 146 Chief Miwaleta Ln\, Canyonville\, OR\, 97417\, United States
CATEGORIES:Entertainment
ATTACH;FMTTYPE=image/jpeg:https://sevenfeathers.com/wp-content/uploads/2024/07/7F-Tacotopia-SEP-2025-1920x1080-Web.jpg
END:VEVENT
BEGIN:VEVENT
DTSTART;TZID=America/Los_Angeles:20250917T190000
DTEND;TZID=America/Los_Angeles:20250917T230000
DTSTAMP:20260423T154009
CREATED:20250902T161834Z
LAST-MODIFIED:20250902T161834Z
UID:10011598-1758135600-1758150000@sevenfeathers.com
SUMMARY:Isaac Barrager
DESCRIPTION:Be our guest! Admission is free. \nMust be 21 or older. Hours and performers are subject to change.
URL:https://sevenfeathers.com/event/isaac-barrager-6/2025-09-17/
LOCATION:Elements Lounge\, 146 Chief Miwaleta Ln\, Canyonville\, OR\, 97417\, United States
CATEGORIES:Entertainment
END:VEVENT
BEGIN:VEVENT
DTSTART;TZID=America/Los_Angeles:20250919T170000
DTEND;TZID=America/Los_Angeles:20250919T190000
DTSTAMP:20260423T154009
CREATED:20250827T223557Z
LAST-MODIFIED:20250828T004155Z
UID:10011580-1758301200-1758308400@sevenfeathers.com
SUMMARY:Rodeo Weekend Line Dancing
DESCRIPTION:Friday and Saturday\, September 19 & 20 from 5:00 to 7:00PM. \n  \nThere a 60-minute Line Dancing lessons and beginners are welcome! Line Dancing is a free event in Elements Lounge. \nJoin us with instructors Cassie Gould and Katherine Baker. \nMust be 21 or older.
URL:https://sevenfeathers.com/event/rodeo-weekend-line-dancing-2/2025-09-19/
LOCATION:Elements Lounge\, 146 Chief Miwaleta Ln\, Canyonville\, OR\, 97417\, United States
CATEGORIES:Entertainment
END:VEVENT
BEGIN:VEVENT
DTSTART;TZID=America/Los_Angeles:20250919T200000
DTEND;TZID=America/Los_Angeles:20250919T213000
DTSTAMP:20260423T154009
CREATED:20250522T231624Z
LAST-MODIFIED:20250709T171108Z
UID:10010300-1758312000-1758317400@sevenfeathers.com
SUMMARY:Dylan Marlowe
DESCRIPTION:Friday\, September 19 at 8:00PM \n \nGet ready for a night of modern country grit and heartfelt lyrics as rising star Dylan Marlowe takes the stage! With his raw vocals\, Southern charm and chart-climbing hits\, Dylan brings an unforgettable energy that’s sure to have you singing along all night. Don’t miss your chance to catch one of country music’s fastest-rising talents live in concert! \nReserved Seating $35\, $40\, $45 \nGet your tickets here. \nTickets on sale Wednesday\, May 28 at 10:00AM. Purchase tickets in person at the Gift Gallery\, online at sevenfeathers.com or call Etix at 800.514.3849. Etix is the sole ticket provider for all Seven Feathers Casino Resort events. Not responsible for third party ticket sales. Doors open at 7:00PM. Must be 21 or older.
URL:https://sevenfeathers.com/event/dylan-marlowe/
LOCATION:Umpqua Grand Ballroom\, 146 Chief Miwaleta Ln\, Canyonville\, OR\, 97417\, United States
CATEGORIES:Entertainment
END:VEVENT
BEGIN:VEVENT
DTSTART;TZID=America/Los_Angeles:20250919T210000
DTEND;TZID=America/Los_Angeles:20250920T010000
DTSTAMP:20260423T154009
CREATED:20250902T161955Z
LAST-MODIFIED:20250902T161955Z
UID:10011600-1758315600-1758330000@sevenfeathers.com
SUMMARY:Isaac Barrager
DESCRIPTION:Be our guest! Admission is free. \nMust be 21 or older. Hours and performers are subject to change.
URL:https://sevenfeathers.com/event/isaac-barrager-7/2025-09-19/
LOCATION:Elements Lounge\, 146 Chief Miwaleta Ln\, Canyonville\, OR\, 97417\, United States
CATEGORIES:Entertainment
END:VEVENT
BEGIN:VEVENT
DTSTART;TZID=America/Los_Angeles:20250920T140000
DTEND;TZID=America/Los_Angeles:20250920T170000
DTSTAMP:20260423T154009
CREATED:20250827T213534Z
LAST-MODIFIED:20250828T000019Z
UID:10010677-1758376800-1758387600@sevenfeathers.com
SUMMARY:Fall Classic Rodeo
DESCRIPTION:Saturday\, September 20 and Sunday\, September 21 at 2:00PM located on Rodeo Grounds off Exit 101. \n  \nEntrance Fee:  $5 per person at the gate. \nKids 5 & under get free entry. \n  \nGate opens at 11:00AM each day. \n  \nKIDS EVENTS \nMutton Bustin’ \nPig Scramble \nSign up at the Rodeo. \n  \nRODEO EVENTS \nBareback\, Saddle Bronc\, Bull Riding\, Jr. Bull Riding\, Barrel Racing & Jr. Barrel Racing\, Team Roping\,  and Invitational Century Muley Ropin’ \nEntries open September 10 from 7:00AM to 2:00PM. Call 541.912.5811 for entry information. \n  \nTEAM ROPING CLASSIC \nFor entries call:  Randy – 541-784-8667 \n  \nBarrel Racing and Jr. Barrel Racing \nFor entries call:  Longhorn Productions – 541-912-5811
URL:https://sevenfeathers.com/event/fall-classic-rodeo-3/2025-09-20/
LOCATION:OR
CATEGORIES:Entertainment
END:VEVENT
BEGIN:VEVENT
DTSTART;TZID=America/Los_Angeles:20250924T190000
DTEND;TZID=America/Los_Angeles:20250924T230000
DTSTAMP:20260423T154009
CREATED:20250902T162127Z
LAST-MODIFIED:20250902T162127Z
UID:10011602-1758740400-1758754800@sevenfeathers.com
SUMMARY:Jeff Crossman
DESCRIPTION:Be our guest! Admission is free. \nMust be 21 or older. Hours and performers are subject to change.
URL:https://sevenfeathers.com/event/jeff-crossman-11/2025-09-24/
LOCATION:Elements Lounge\, 146 Chief Miwaleta Ln\, Canyonville\, OR\, 97417\, United States
CATEGORIES:Entertainment
END:VEVENT
BEGIN:VEVENT
DTSTART;TZID=America/Los_Angeles:20250926T210000
DTEND;TZID=America/Los_Angeles:20250927T010000
DTSTAMP:20260423T154009
CREATED:20250902T162301Z
LAST-MODIFIED:20250902T162301Z
UID:10011604-1758920400-1758934800@sevenfeathers.com
SUMMARY:Jeff Crossman
DESCRIPTION:Be our guest! Admission is free. \nMust be 21 or older. Hours and performers are subject to change.
URL:https://sevenfeathers.com/event/jeff-crossman-12/2025-09-26/
LOCATION:Elements Lounge\, 146 Chief Miwaleta Ln\, Canyonville\, OR\, 97417\, United States
CATEGORIES:Entertainment
END:VEVENT
BEGIN:VEVENT
DTSTART;TZID=America/Los_Angeles:20251001T190000
DTEND;TZID=America/Los_Angeles:20251001T230000
DTSTAMP:20260423T154009
CREATED:20250929T213416Z
LAST-MODIFIED:20250929T213416Z
UID:10011726-1759345200-1759359600@sevenfeathers.com
SUMMARY:The Brothers Reed
DESCRIPTION:Be our guest! Admission is free! \nMust be 21 or older. Hours and performers are subject to change.
URL:https://sevenfeathers.com/event/the-brothers-reed-6/
LOCATION:Elements Lounge\, 146 Chief Miwaleta Ln\, Canyonville\, OR\, 97417\, United States
CATEGORIES:Entertainment
END:VEVENT
BEGIN:VEVENT
DTSTART;TZID=America/Los_Angeles:20251002T190000
DTEND;TZID=America/Los_Angeles:20251002T230000
DTSTAMP:20260423T154009
CREATED:20250929T213543Z
LAST-MODIFIED:20250929T213543Z
UID:10011727-1759431600-1759446000@sevenfeathers.com
SUMMARY:DJ Marc Eazy
DESCRIPTION:Be our guest! Admission is free! \nMust be 21 or older. Hours and performers are subject to change.
URL:https://sevenfeathers.com/event/dj-marc-eazy-10/
LOCATION:Elements Lounge\, 146 Chief Miwaleta Ln\, Canyonville\, OR\, 97417\, United States
CATEGORIES:Entertainment
END:VEVENT
BEGIN:VEVENT
DTSTART;TZID=America/Los_Angeles:20251003T210000
DTEND;TZID=America/Los_Angeles:20251004T010000
DTSTAMP:20260423T154009
CREATED:20250929T213701Z
LAST-MODIFIED:20250929T213701Z
UID:10011728-1759525200-1759539600@sevenfeathers.com
SUMMARY:DJ Marc Eazy
DESCRIPTION:Be our guest! Admission is free! \nMust be 21 or older. Hours and performers are subject to change.
URL:https://sevenfeathers.com/event/dj-marc-eazy-11/2025-10-03/
LOCATION:Elements Lounge\, 146 Chief Miwaleta Ln\, Canyonville\, OR\, 97417\, United States
CATEGORIES:Entertainment
END:VEVENT
BEGIN:VEVENT
DTSTART;TZID=America/Los_Angeles:20251004T190000
DTEND;TZID=America/Los_Angeles:20251004T203000
DTSTAMP:20260423T154009
CREATED:20250620T171224Z
LAST-MODIFIED:20250709T171027Z
UID:10010382-1759604400-1759609800@sevenfeathers.com
SUMMARY:Thunder From Down Under 2025
DESCRIPTION:Girls’ Night Outback\nTemptation Tour 2025 \nSaturday\, October 4 at 7:00PM\nMust be 21 or older to attend this show.\nReserved Seating Tickets $40\, $50\, & $55 \n\nClick here to get your tickets. \n\nTickets on sale now. Purchase tickets in person at the Gift Gallery or call 800.514.3849. Etix is the sole ticket provider for all Seven Feathers Casino Resort events. Not responsible for third party ticket sales. \nDoors open at 6:00PM. Concert Attendees – due to venue configuration standing during the concert can be expected\, please be sensitive to the mobility impaired that may surround your seat.
URL:https://sevenfeathers.com/event/thunder-from-down-under-2025/
LOCATION:Umpqua Grand Ballroom\, 146 Chief Miwaleta Ln\, Canyonville\, OR\, 97417\, United States
CATEGORIES:Entertainment
END:VEVENT
BEGIN:VEVENT
DTSTART;TZID=America/Los_Angeles:20251008T190000
DTEND;TZID=America/Los_Angeles:20251008T230000
DTSTAMP:20260423T154009
CREATED:20250929T213908Z
LAST-MODIFIED:20250929T213908Z
UID:10011730-1759950000-1759964400@sevenfeathers.com
SUMMARY:Saucy
DESCRIPTION:Be our guest! Admission is free! \nMust be 21 or older. Hours and performers are subject to change.
URL:https://sevenfeathers.com/event/saucy-5/2025-10-08/
LOCATION:Elements Lounge\, 146 Chief Miwaleta Ln\, Canyonville\, OR\, 97417\, United States
CATEGORIES:Entertainment
END:VEVENT
BEGIN:VEVENT
DTSTART;TZID=America/Los_Angeles:20251010T210000
DTEND;TZID=America/Los_Angeles:20251011T010000
DTSTAMP:20260423T154009
CREATED:20250929T214021Z
LAST-MODIFIED:20250929T214021Z
UID:10011732-1760130000-1760144400@sevenfeathers.com
SUMMARY:Saucy
DESCRIPTION:Be our guest! Admission is free! \nMust be 21 or older. Hours and performers are subject to change.
URL:https://sevenfeathers.com/event/saucy-6/2025-10-10/
LOCATION:Elements Lounge\, 146 Chief Miwaleta Ln\, Canyonville\, OR\, 97417\, United States
CATEGORIES:Entertainment
END:VEVENT
BEGIN:VEVENT
DTSTART;TZID=America/Los_Angeles:20251015T190000
DTEND;TZID=America/Los_Angeles:20251015T230000
DTSTAMP:20260423T154009
CREATED:20250929T214201Z
LAST-MODIFIED:20250929T214201Z
UID:10011734-1760554800-1760569200@sevenfeathers.com
SUMMARY:Strawberry Roan
DESCRIPTION:Be our guest! Admission is free! \nMust be 21 or older. Hours and performers are subject to change.
URL:https://sevenfeathers.com/event/strawberry-roan-9/2025-10-15/
LOCATION:Elements Lounge\, 146 Chief Miwaleta Ln\, Canyonville\, OR\, 97417\, United States
CATEGORIES:Entertainment
END:VEVENT
BEGIN:VEVENT
DTSTART;TZID=America/Los_Angeles:20251017T210000
DTEND;TZID=America/Los_Angeles:20251018T010000
DTSTAMP:20260423T154009
CREATED:20250929T214312Z
LAST-MODIFIED:20250929T214312Z
UID:10011736-1760734800-1760749200@sevenfeathers.com
SUMMARY:Strawberry Roan
DESCRIPTION:Be our guest! Admission is free! \nMust be 21 or older. Hours and performers are subject to change.
URL:https://sevenfeathers.com/event/strawberry-roan-10/2025-10-17/
LOCATION:Elements Lounge\, 146 Chief Miwaleta Ln\, Canyonville\, OR\, 97417\, United States
CATEGORIES:Entertainment
END:VEVENT
BEGIN:VEVENT
DTSTART;TZID=America/Los_Angeles:20251022T190000
DTEND;TZID=America/Los_Angeles:20251022T230000
DTSTAMP:20260423T154009
CREATED:20250929T214430Z
LAST-MODIFIED:20250929T214430Z
UID:10011738-1761159600-1761174000@sevenfeathers.com
SUMMARY:The Ashes
DESCRIPTION:Be our guest! Admission is free! \nMust be 21 or older. Hours and performers are subject to change.
URL:https://sevenfeathers.com/event/the-ashes-10/2025-10-22/
LOCATION:Elements Lounge\, 146 Chief Miwaleta Ln\, Canyonville\, OR\, 97417\, United States
CATEGORIES:Entertainment
END:VEVENT
BEGIN:VEVENT
DTSTART;TZID=America/Los_Angeles:20251024T210000
DTEND;TZID=America/Los_Angeles:20251025T010000
DTSTAMP:20260423T154009
CREATED:20250929T214714Z
LAST-MODIFIED:20250929T214714Z
UID:10011740-1761339600-1761354000@sevenfeathers.com
SUMMARY:The Ashes
DESCRIPTION:Be our guest! Admission is free! \nMust be 21 or older. Hours and performers are subject to change.
URL:https://sevenfeathers.com/event/the-ashes-11/2025-10-24/
LOCATION:Elements Lounge\, 146 Chief Miwaleta Ln\, Canyonville\, OR\, 97417\, United States
CATEGORIES:Entertainment
END:VEVENT
BEGIN:VEVENT
DTSTART;TZID=America/Los_Angeles:20251025T190000
DTEND;TZID=America/Los_Angeles:20251025T230000
DTSTAMP:20260423T154010
CREATED:20230915T151229Z
LAST-MODIFIED:20250730T164831Z
UID:10001914-1761418800-1761433200@sevenfeathers.com
SUMMARY:Halloween Spooktacular
DESCRIPTION:General Admission Tickets $30. \nDJ & Dancing 7:00 to 11:00PM.\nCostume Contest 9:30PM. \nClick here to get your tickets.  \nThere are four costume categories: Scariest\, Most Creative\, Funniest and Group. \nCostumes that disguise the identity of the wearer and toy weapons are not permitted on the casino floor. \nVisit the Players Club for full contest rules. \nTickets go on sale Wednesday\, July 30. Purchase tickets in person at the Gift Gallery or call 800.514.3849.\nEtix is the sole ticket provider for all Seven Feathers Casino Resort events. Not responsible for third party ticket sales. Doors open at 7:00PM. Must be 21 or over.
URL:https://sevenfeathers.com/event/2025-halloween-spooktacular/
LOCATION:Umpqua Grand Ballroom\, 146 Chief Miwaleta Ln\, Canyonville\, OR\, 97417\, United States
CATEGORIES:Entertainment
ATTACH;FMTTYPE=image/jpeg:https://sevenfeathers.com/wp-content/uploads/2023/09/7F-Halloween-Spooktacular-2025-1920x1080-WEB.jpg
END:VEVENT
BEGIN:VEVENT
DTSTART;TZID=America/Los_Angeles:20251029T190000
DTEND;TZID=America/Los_Angeles:20251029T230000
DTSTAMP:20260423T154010
CREATED:20250929T214906Z
LAST-MODIFIED:20250929T214906Z
UID:10011742-1761764400-1761778800@sevenfeathers.com
SUMMARY:Dylan James Clark
DESCRIPTION:Be our guest! Admission is free! \nMust be 21 or older. Hours and performers are subject to change.
URL:https://sevenfeathers.com/event/dylan-james-clark-5/2025-10-29/
LOCATION:Elements Lounge\, 146 Chief Miwaleta Ln\, Canyonville\, OR\, 97417\, United States
CATEGORIES:Entertainment
END:VEVENT
BEGIN:VEVENT
DTSTART;TZID=America/Los_Angeles:20251031T190000
DTEND;TZID=America/Los_Angeles:20251031T210000
DTSTAMP:20260423T154010
CREATED:20250813T162029Z
LAST-MODIFIED:20251008T172341Z
UID:10010671-1761937200-1761944400@sevenfeathers.com
SUMMARY:Mic Drop Comedy Club
DESCRIPTION:Live comedy returns to Seven Feathers this Halloween! Join us on Friday\, October 31st for Brandon Lyons and Tyler Boeh. \n  \nWe will be hosting a costume contest for guests during the comedy show. Our comedians will select their favorite 3 costumes. Winners will receive: \nFirst Place – 1 Free Room at Seven Feathers Hotel\, $50 dining card and a Squatchee \nSecond Place – 1 Free Room at Seven Feathers Hotel and a Squatchee \nThird Place – A $50 dining card and a Squatchee \n  \nCostumes that disguise the identity of the wearer and toy weapons are not permitted on the casino floor. \n  \nTickets are on sale now. Click here to purchase yours. \n  \nEtix is the sole ticket provider for all Seven Feathers Casino Resort events. Not responsible for third-party ticket sales.
URL:https://sevenfeathers.com/event/mic-drop-comedy-club-3/
LOCATION:Elements Lounge\, 146 Chief Miwaleta Ln\, Canyonville\, OR\, 97417\, United States
CATEGORIES:Entertainment
ATTACH;FMTTYPE=image/jpeg:https://sevenfeathers.com/wp-content/uploads/2025/08/7F-Elements-October-2025-Comedy-Club-1920x1080-WEB.jpg
END:VEVENT
BEGIN:VEVENT
DTSTART;TZID=America/Los_Angeles:20251031T210000
DTEND;TZID=America/Los_Angeles:20251101T010000
DTSTAMP:20260423T154010
CREATED:20250929T215019Z
LAST-MODIFIED:20250929T215019Z
UID:10011744-1761944400-1761958800@sevenfeathers.com
SUMMARY:Dylan James Clark
DESCRIPTION:Be our guest! Admission is free! \nMust be 21 or older. Hours and performers are subject to change.
URL:https://sevenfeathers.com/event/dylan-james-clark-6/2025-10-31/
LOCATION:Elements Lounge\, 146 Chief Miwaleta Ln\, Canyonville\, OR\, 97417\, United States
CATEGORIES:Entertainment
END:VEVENT
BEGIN:VEVENT
DTSTART;TZID=America/Los_Angeles:20251105T190000
DTEND;TZID=America/Los_Angeles:20251105T230000
DTSTAMP:20260423T154010
CREATED:20251030T225835Z
LAST-MODIFIED:20251030T225835Z
UID:10011922-1762369200-1762383600@sevenfeathers.com
SUMMARY:Erica Rochel
DESCRIPTION:Be our guest! Admission is Free. \nMust be 21 or older. Hours and performers are subject to change.
URL:https://sevenfeathers.com/event/erica-rochel/2025-11-05/
LOCATION:Elements Lounge\, 146 Chief Miwaleta Ln\, Canyonville\, OR\, 97417\, United States
CATEGORIES:Entertainment
END:VEVENT
BEGIN:VEVENT
DTSTART;TZID=America/Los_Angeles:20251107T210000
DTEND;TZID=America/Los_Angeles:20251108T010000
DTSTAMP:20260423T154010
CREATED:20251030T225938Z
LAST-MODIFIED:20251030T225938Z
UID:10011924-1762549200-1762563600@sevenfeathers.com
SUMMARY:Erica Rochel
DESCRIPTION:Be our guest! Admission is Free. \nMust be 21 or older. Hours and performers are subject to change.
URL:https://sevenfeathers.com/event/erica-rochel-2/2025-11-07/
LOCATION:Elements Lounge\, 146 Chief Miwaleta Ln\, Canyonville\, OR\, 97417\, United States
CATEGORIES:Entertainment
END:VEVENT
BEGIN:VEVENT
DTSTART;TZID=America/Los_Angeles:20251112T190000
DTEND;TZID=America/Los_Angeles:20251112T230000
DTSTAMP:20260423T154010
CREATED:20251030T225035Z
LAST-MODIFIED:20251030T225035Z
UID:10011910-1762974000-1762988400@sevenfeathers.com
SUMMARY:Cover Culture
DESCRIPTION:Be our guest! Admission is Free. \nMust be 21 or older. Hours and performers are subject to change.
URL:https://sevenfeathers.com/event/cover-culture/2025-11-12/
LOCATION:Elements Lounge\, 146 Chief Miwaleta Ln\, Canyonville\, OR\, 97417\, United States
CATEGORIES:Entertainment
END:VEVENT
BEGIN:VEVENT
DTSTART;TZID=America/Los_Angeles:20251114T100000
DTEND;TZID=America/Los_Angeles:20251114T180000
DTSTAMP:20260423T154010
CREATED:20251010T212748Z
LAST-MODIFIED:20251023T213009Z
UID:10011747-1763114400-1763143200@sevenfeathers.com
SUMMARY:Winter Gift Market
DESCRIPTION:November 14 & 15 from 10:00AM to 6:00PM \n  \nAdmission is free for this event. \n  \nGet ready to sip\, shop\, and celebrate the holiday season at the Winter Gift Market\, a festive new tradition presented by the Gift Gallery! Housed indoors at the beautiful Seven Feathers Convention Center\, the Winter Gift Market is your one-stop shop for holiday cheer\, unique finds\, and resort-style fun. Enjoy our Bloody Mary & Mimosa Bar while you browse\, and don’t miss the famous Seven Feathers Signature Cookie and fresh sourdough bread for sale. \n  \nExplore a centralized shopping experience with a mix of talented local artisans and beloved store favorites. From cozy candles and stylish clothing to sparkling jewelry\, handmade décor\, custom cups\, and sweet treats\, you’ll find something for everyone on your list (and maybe a little something for yourself).
URL:https://sevenfeathers.com/event/winter-gift-market/2025-11-14/
LOCATION:Umpqua Grand Ballroom\, 146 Chief Miwaleta Ln\, Canyonville\, OR\, 97417\, United States
CATEGORIES:Entertainment,Holiday Wonderland
END:VEVENT
BEGIN:VEVENT
DTSTART;TZID=America/Los_Angeles:20251114T190000
DTEND;TZID=America/Los_Angeles:20251114T210000
DTSTAMP:20260423T154010
CREATED:20250918T201519Z
LAST-MODIFIED:20250918T201606Z
UID:10011720-1763146800-1763154000@sevenfeathers.com
SUMMARY:Mic Drop Comedy Club
DESCRIPTION:Seven Feathers is your place for live comedy! Join us on Friday\, November 14 for Brent Lowrey and Andrew Rivers. \n  \nTickets are on sale now. Click here to purchase yours. \n  \nEtix is the sole ticket provider for all Seven Feathers Casino Resort events. Not responsible for third-party ticket sales.
URL:https://sevenfeathers.com/event/mic-drop-comedy-club-4/
LOCATION:Elements Lounge\, 146 Chief Miwaleta Ln\, Canyonville\, OR\, 97417\, United States
CATEGORIES:Entertainment
ATTACH;FMTTYPE=image/jpeg:https://sevenfeathers.com/wp-content/uploads/2025/09/ELEMENTS-MICDROP-NOV-2025-1920x1080-WEB.jpg
END:VEVENT
BEGIN:VEVENT
DTSTART;TZID=America/Los_Angeles:20251114T210000
DTEND;TZID=America/Los_Angeles:20251115T010000
DTSTAMP:20260423T154010
CREATED:20251030T225200Z
LAST-MODIFIED:20251030T225200Z
UID:10011912-1763154000-1763168400@sevenfeathers.com
SUMMARY:DJ Marc Eazy
DESCRIPTION:Be our guest! Admission is Free. \nMust be 21 or older. Hours and performers are subject to change.
URL:https://sevenfeathers.com/event/dj-marc-eazy-12/2025-11-14/
LOCATION:Elements Lounge\, 146 Chief Miwaleta Ln\, Canyonville\, OR\, 97417\, United States
CATEGORIES:Entertainment
END:VEVENT
END:VCALENDAR