BEGIN:VCALENDAR
VERSION:2.0
PRODID:-//Seven Feathers Casino - ECPv6.15.16//NONSGML v1.0//EN
CALSCALE:GREGORIAN
METHOD:PUBLISH
X-WR-CALNAME:Seven Feathers Casino
X-ORIGINAL-URL:https://sevenfeathers.com
X-WR-CALDESC:Events for Seven Feathers Casino
REFRESH-INTERVAL;VALUE=DURATION:PT1H
X-Robots-Tag:noindex
X-PUBLISHED-TTL:PT1H
BEGIN:VTIMEZONE
TZID:America/Los_Angeles
BEGIN:DAYLIGHT
TZOFFSETFROM:-0800
TZOFFSETTO:-0700
TZNAME:PDT
DTSTART:20240310T100000
END:DAYLIGHT
BEGIN:STANDARD
TZOFFSETFROM:-0700
TZOFFSETTO:-0800
TZNAME:PST
DTSTART:20241103T090000
END:STANDARD
BEGIN:DAYLIGHT
TZOFFSETFROM:-0800
TZOFFSETTO:-0700
TZNAME:PDT
DTSTART:20250309T100000
END:DAYLIGHT
BEGIN:STANDARD
TZOFFSETFROM:-0700
TZOFFSETTO:-0800
TZNAME:PST
DTSTART:20251102T090000
END:STANDARD
BEGIN:DAYLIGHT
TZOFFSETFROM:-0800
TZOFFSETTO:-0700
TZNAME:PDT
DTSTART:20260308T100000
END:DAYLIGHT
BEGIN:STANDARD
TZOFFSETFROM:-0700
TZOFFSETTO:-0800
TZNAME:PST
DTSTART:20261101T090000
END:STANDARD
END:VTIMEZONE
BEGIN:VEVENT
DTSTART;TZID=America/Los_Angeles:20250328T210000
DTEND;TZID=America/Los_Angeles:20250329T010000
DTSTAMP:20260419T093008
CREATED:20250228T235523Z
LAST-MODIFIED:20250228T235523Z
UID:10008819-1743195600-1743210000@sevenfeathers.com
SUMMARY:Highway Bound in the Elements Lounge
DESCRIPTION:Be our guest and enjoy free live music in the Elements Lounge! Highway Bound will be performing live March 26 – 29! \nMust be 21 or older. Hours and performers are subject to change.
URL:https://sevenfeathers.com/event/highway-bound-in-the-elements-lounge-2/2025-03-28/
LOCATION:Elements Lounge
CATEGORIES:Entertainment
END:VEVENT
BEGIN:VEVENT
DTSTART;TZID=America/Los_Angeles:20250329T120000
DTEND;TZID=America/Los_Angeles:20250329T220000
DTSTAMP:20260419T093008
CREATED:20250125T070336Z
LAST-MODIFIED:20250125T070336Z
UID:10008634-1743249600-1743285600@sevenfeathers.com
SUMMARY:7th Annual Seven Feathers Tattoo Expo
DESCRIPTION:Friday\, March 28 from 2:00 to 10:00PM\nSaturday\, March 29 from Noon to 10:00PM\nSunday\, March 30 from Noon to 7:00PM \nDaily Admission $15 at the door (includes wristband and in/out privileges for day of purchase). Children 14 and under enter for free.\nThree-day VIP Passes $35 are on sale now.\nPurchase VIP Passes online at sevenfeatherstattooexpo.com. \nThere will be contests for Healed Tattoos & Tattoos of the Day (tattoos done at the convention). \nOpen to all ages. Minors\, please use West Convention Center entrance. Children under 18 must be accompanied by an adult. Must be 18 or older to be tattooed.
URL:https://sevenfeathers.com/event/7th-annual-seven-feathers-tattoo-expo-2/
LOCATION:Umpqua Grand Ballroom
CATEGORIES:Entertainment
END:VEVENT
BEGIN:VEVENT
DTSTART;TZID=America/Los_Angeles:20250329T210000
DTEND;TZID=America/Los_Angeles:20250330T010000
DTSTAMP:20260419T093008
CREATED:20250228T235523Z
LAST-MODIFIED:20250228T235523Z
UID:10008820-1743282000-1743296400@sevenfeathers.com
SUMMARY:Highway Bound in the Elements Lounge
DESCRIPTION:Be our guest and enjoy free live music in the Elements Lounge! Highway Bound will be performing live March 26 – 29! \nMust be 21 or older. Hours and performers are subject to change.
URL:https://sevenfeathers.com/event/highway-bound-in-the-elements-lounge-2/2025-03-29/
LOCATION:Elements Lounge
CATEGORIES:Entertainment
END:VEVENT
END:VCALENDAR