BEGIN:VCALENDAR
VERSION:2.0
PRODID:-//Seven Feathers Casino - ECPv6.15.16//NONSGML v1.0//EN
CALSCALE:GREGORIAN
METHOD:PUBLISH
X-ORIGINAL-URL:https://sevenfeathers.com
X-WR-CALDESC:Events for Seven Feathers Casino
REFRESH-INTERVAL;VALUE=DURATION:PT1H
X-Robots-Tag:noindex
X-PUBLISHED-TTL:PT1H
BEGIN:VTIMEZONE
TZID:America/Los_Angeles
BEGIN:DAYLIGHT
TZOFFSETFROM:-0800
TZOFFSETTO:-0700
TZNAME:PDT
DTSTART:20240310T100000
END:DAYLIGHT
BEGIN:STANDARD
TZOFFSETFROM:-0700
TZOFFSETTO:-0800
TZNAME:PST
DTSTART:20241103T090000
END:STANDARD
BEGIN:DAYLIGHT
TZOFFSETFROM:-0800
TZOFFSETTO:-0700
TZNAME:PDT
DTSTART:20250309T100000
END:DAYLIGHT
BEGIN:STANDARD
TZOFFSETFROM:-0700
TZOFFSETTO:-0800
TZNAME:PST
DTSTART:20251102T090000
END:STANDARD
BEGIN:DAYLIGHT
TZOFFSETFROM:-0800
TZOFFSETTO:-0700
TZNAME:PDT
DTSTART:20260308T100000
END:DAYLIGHT
BEGIN:STANDARD
TZOFFSETFROM:-0700
TZOFFSETTO:-0800
TZNAME:PST
DTSTART:20261101T090000
END:STANDARD
END:VTIMEZONE
BEGIN:VEVENT
DTSTART;TZID=America/Los_Angeles:20250117T170000
DTEND;TZID=America/Los_Angeles:20250117T210000
DTSTAMP:20260419T140705
CREATED:20250104T052503Z
LAST-MODIFIED:20250104T052801Z
UID:10008029-1737133200-1737147600@sevenfeathers.com
SUMMARY:Chinese New Year 2025!
DESCRIPTION:Celebrate Chinese New Year with us at this free event on Friday\, January 17! \n2025 is the Year of the Snake\, experience the amazing Lion Dancers traditional blessing at 5:00PM at the Casino Main Entrance. \nAdditional performances will take place at 6:00\, 7:00\, 8:00 & 9:00PM touring the casino floor.
URL:https://sevenfeathers.com/event/chinese-new-year-2025/
LOCATION:Umpqua Grand Ballroom
CATEGORIES:Entertainment
END:VEVENT
END:VCALENDAR