BEGIN:VCALENDAR
VERSION:2.0
PRODID:-//Seven Feathers Casino - ECPv6.15.16//NONSGML v1.0//EN
CALSCALE:GREGORIAN
METHOD:PUBLISH
X-WR-CALNAME:Seven Feathers Casino
X-ORIGINAL-URL:https://sevenfeathers.com
X-WR-CALDESC:Events for Seven Feathers Casino
REFRESH-INTERVAL;VALUE=DURATION:PT1H
X-Robots-Tag:noindex
X-PUBLISHED-TTL:PT1H
BEGIN:VTIMEZONE
TZID:America/Los_Angeles
BEGIN:DAYLIGHT
TZOFFSETFROM:-0800
TZOFFSETTO:-0700
TZNAME:PDT
DTSTART:20220313T100000
END:DAYLIGHT
BEGIN:STANDARD
TZOFFSETFROM:-0700
TZOFFSETTO:-0800
TZNAME:PST
DTSTART:20221106T090000
END:STANDARD
BEGIN:DAYLIGHT
TZOFFSETFROM:-0800
TZOFFSETTO:-0700
TZNAME:PDT
DTSTART:20230312T100000
END:DAYLIGHT
BEGIN:STANDARD
TZOFFSETFROM:-0700
TZOFFSETTO:-0800
TZNAME:PST
DTSTART:20231105T090000
END:STANDARD
BEGIN:DAYLIGHT
TZOFFSETFROM:-0800
TZOFFSETTO:-0700
TZNAME:PDT
DTSTART:20240310T100000
END:DAYLIGHT
BEGIN:STANDARD
TZOFFSETFROM:-0700
TZOFFSETTO:-0800
TZNAME:PST
DTSTART:20241103T090000
END:STANDARD
BEGIN:DAYLIGHT
TZOFFSETFROM:-0800
TZOFFSETTO:-0700
TZNAME:PDT
DTSTART:20250309T100000
END:DAYLIGHT
BEGIN:STANDARD
TZOFFSETFROM:-0700
TZOFFSETTO:-0800
TZNAME:PST
DTSTART:20251102T090000
END:STANDARD
END:VTIMEZONE
BEGIN:VEVENT
DTSTART;TZID=America/Los_Angeles:20240211T000000
DTEND;TZID=America/Los_Angeles:20240211T235959
DTSTAMP:20260423T120528
CREATED:20240112T213636Z
LAST-MODIFIED:20240123T235729Z
UID:10004322-1707609600-1707695999@sevenfeathers.com
SUMMARY:Sizzlin’ Hot Super Game Bingo
DESCRIPTION:Doors Open at 9:00AM. Admission sales start at 11:00AM. Games begin at 1:00PM. Buy-Ins: Paper $20\, Electronic $30\, Extras $5 $700 Regular Games $4\,000 MUST GO Super Jackpot! Bingo on G58 wins extra $580 Goalpost game pays a Flat Screen TV* *In the event of a Goalpost game split\, winners play a tiebreaker game with a consolation prize of $500. Visit Bingo for details.
URL:https://sevenfeathers.com/event/sizzlin-hot-super-game-bingo/
LOCATION:Bingo Hall\, 146 Chief Miwaleta Ln\, Canyonville\, OR\, 97417\, United States
CATEGORIES:Bingo,Promotions
END:VEVENT
BEGIN:VEVENT
DTSTART;TZID=America/Los_Angeles:20240127T000000
DTEND;TZID=America/Los_Angeles:20240127T235959
DTSTAMP:20260423T120528
CREATED:20240112T213315Z
LAST-MODIFIED:20240112T213415Z
UID:10004321-1706313600-1706399999@sevenfeathers.com
SUMMARY:Winter Marathon Bingo 2024
DESCRIPTION:Winter Marathon Bingo \nSaturday\, January 27 Tickets now on sale! \nDoors open at 8:00AM. Admission sales begin at 10:00AM. Games start at 1:00PM. Buy-Ins: Paper $20\, Electronic $60\, Extras $20. \nOver $31\,000 in Cash Prizes! 20 Regular Games pay $1\,199! \n$5\,000 MUST GO Super Jackpot! Purchase tickets in person at the Gift Gallery\, online at sevenfeathers.com or call Etix at 800.514.3849. You may purchase a seat for another person but if that seat does not have a playing guest in it by the time warm-up games have concluded\, the seat may be resold. Etix is the sole ticket provider for all Seven Feathers Casino Resort events.
URL:https://sevenfeathers.com/event/winter-marathon-bingo-2024/
LOCATION:Bingo Hall\, 146 Chief Miwaleta Ln\, Canyonville\, OR\, 97417\, United States
CATEGORIES:Bingo,Promotions
END:VEVENT
BEGIN:VEVENT
DTSTART;TZID=America/Los_Angeles:20230923T000000
DTEND;TZID=America/Los_Angeles:20230923T235959
DTSTAMP:20260423T120528
CREATED:20230907T211535Z
LAST-MODIFIED:20230922T202624Z
UID:10000800-1695427200-1695513599@sevenfeathers.com
SUMMARY:Marathon Bingo
DESCRIPTION:Play for over $31\,000 in Cash Prizes! 20 Regular Games pay $1\,199\, and there is a $5\,000 MUST GO Super Jackpot! \nDoors open at 8:00AM. Admission sales begin at 10:00AM. Games start at 1:00PM. Buy-Ins: Paper $20\, Electronic $60\, Extras $20 Tickets on sale now. Purchase tickets online at sevenfeathers.com\, in person at the Gift Gallery or call 800.514.3849. Etix is the sole ticket provider for all Seven Feathers Casino Resort events. You may purchase a seat for another person\, but if that seat does not have a playing guest in it by the time warm-up games have concluded\, the seat may be resold. \nBuy Now
URL:https://sevenfeathers.com/event/marathon-bingo/
LOCATION:OR
CATEGORIES:Bingo,Promotions
END:VEVENT
END:VCALENDAR