BEGIN:VCALENDAR
VERSION:2.0
PRODID:-//Seven Feathers Casino - ECPv6.15.16//NONSGML v1.0//EN
CALSCALE:GREGORIAN
METHOD:PUBLISH
X-WR-CALNAME:Seven Feathers Casino
X-ORIGINAL-URL:https://sevenfeathers.com
X-WR-CALDESC:Events for Seven Feathers Casino
REFRESH-INTERVAL;VALUE=DURATION:PT1H
X-Robots-Tag:noindex
X-PUBLISHED-TTL:PT1H
BEGIN:VTIMEZONE
TZID:America/Los_Angeles
BEGIN:DAYLIGHT
TZOFFSETFROM:-0800
TZOFFSETTO:-0700
TZNAME:PDT
DTSTART:20250309T100000
END:DAYLIGHT
BEGIN:STANDARD
TZOFFSETFROM:-0700
TZOFFSETTO:-0800
TZNAME:PST
DTSTART:20251102T090000
END:STANDARD
BEGIN:DAYLIGHT
TZOFFSETFROM:-0800
TZOFFSETTO:-0700
TZNAME:PDT
DTSTART:20260308T100000
END:DAYLIGHT
BEGIN:STANDARD
TZOFFSETFROM:-0700
TZOFFSETTO:-0800
TZNAME:PST
DTSTART:20261101T090000
END:STANDARD
BEGIN:DAYLIGHT
TZOFFSETFROM:-0800
TZOFFSETTO:-0700
TZNAME:PDT
DTSTART:20270314T100000
END:DAYLIGHT
BEGIN:STANDARD
TZOFFSETFROM:-0700
TZOFFSETTO:-0800
TZNAME:PST
DTSTART:20271107T090000
END:STANDARD
END:VTIMEZONE
BEGIN:VEVENT
DTSTART;TZID=America/Los_Angeles:20260208T130000
DTEND;TZID=America/Los_Angeles:20260208T170000
DTSTAMP:20260423T202305
CREATED:20260101T033937Z
LAST-MODIFIED:20260101T033937Z
UID:10012816-1770555600-1770570000@sevenfeathers.com
SUMMARY:Sizzlin' Hot Super Game Bingo
DESCRIPTION:Sunday\, February 8 \n  \nDoors Open at 9:00AM. Admission sales start at 11:00AM. Games begin at 1:00PM. \nBuy-Ins: Paper $20\, Electronic $30\, Extras $5 \n  \nRegular Games will pay $700\, and there will be a $4\,000 MUST GO Super Jackpot! Bingo on G60 wins extra $590\, and the Goalpost game pays a Flat Screen TV*. \n  \n*In the event of a Goalpost game split\, winners play a tiebreaker game with a consolation prize of $500. \n  \nVisit Bingo for details.
URL:https://sevenfeathers.com/event/sizzlin-hot-super-game-bingo-2/
LOCATION:Bingo Hall\, 146 Chief Miwaleta Ln\, Canyonville\, OR\, 97417\, United States
CATEGORIES:Bingo,Promotions
END:VEVENT
BEGIN:VEVENT
DTSTART;TZID=America/Los_Angeles:20260214T080000
DTEND;TZID=America/Los_Angeles:20260214T160000
DTSTAMP:20260423T202305
CREATED:20260101T175847Z
LAST-MODIFIED:20260101T175847Z
UID:10012922-1771056000-1771084800@sevenfeathers.com
SUMMARY:Valentine Marathon Bingo
DESCRIPTION:Over $31\,000 in cash and prizes will go on Saturday\, February 14! \nDoors open at 8:00AM\, Admission Sales start at 10:00AM\, and Sessions begin at 1:00PM. \n20 regular games will each pay $1\,199 and a $5\,000 super jackpot will also be up for grabs! \nTickets are on sale now and can be purchased at the Gift Gallery\, or by clicking here. \n  \nYou may purchase a seat for another person\, but if that seat does not have a playing quest in it by the time warm-up games have concluded\, the seat may be resold. Etix is the sole ticket provider for all Seven Feathers Casino Resort events.
URL:https://sevenfeathers.com/event/valentine-marathon-bingo-2/
LOCATION:Bingo Hall\, 146 Chief Miwaleta Ln\, Canyonville\, OR\, 97417\, United States
CATEGORIES:Bingo,Promotions
END:VEVENT
END:VCALENDAR