BEGIN:VCALENDAR
VERSION:2.0
PRODID:-//Seven Feathers Casino - ECPv6.15.16//NONSGML v1.0//EN
CALSCALE:GREGORIAN
METHOD:PUBLISH
X-ORIGINAL-URL:https://sevenfeathers.com
X-WR-CALDESC:Events for Seven Feathers Casino
REFRESH-INTERVAL;VALUE=DURATION:PT1H
X-Robots-Tag:noindex
X-PUBLISHED-TTL:PT1H
BEGIN:VTIMEZONE
TZID:America/Los_Angeles
BEGIN:DAYLIGHT
TZOFFSETFROM:-0800
TZOFFSETTO:-0700
TZNAME:PDT
DTSTART:20250309T100000
END:DAYLIGHT
BEGIN:STANDARD
TZOFFSETFROM:-0700
TZOFFSETTO:-0800
TZNAME:PST
DTSTART:20251102T090000
END:STANDARD
BEGIN:DAYLIGHT
TZOFFSETFROM:-0800
TZOFFSETTO:-0700
TZNAME:PDT
DTSTART:20260308T100000
END:DAYLIGHT
BEGIN:STANDARD
TZOFFSETFROM:-0700
TZOFFSETTO:-0800
TZNAME:PST
DTSTART:20261101T090000
END:STANDARD
BEGIN:DAYLIGHT
TZOFFSETFROM:-0800
TZOFFSETTO:-0700
TZNAME:PDT
DTSTART:20270314T100000
END:DAYLIGHT
BEGIN:STANDARD
TZOFFSETFROM:-0700
TZOFFSETTO:-0800
TZNAME:PST
DTSTART:20271107T090000
END:STANDARD
END:VTIMEZONE
BEGIN:VEVENT
DTSTART;TZID=America/Los_Angeles:20260418T190000
DTEND;TZID=America/Los_Angeles:20260418T203000
DTSTAMP:20260420T112124
CREATED:20260303T173747Z
LAST-MODIFIED:20260303T173747Z
UID:10013973-1776538800-1776544200@sevenfeathers.com
SUMMARY:Jacquie Roar
DESCRIPTION:As seen on The Voice! Live in Elements Lounge \nFriday & Saturday\, April 17 & 18 • 7:00PM \nGeneral Admission Table Seating $25\, General Admission Seating $20 \nTickets on sale now. Purchase tickets in person at the Gift Gallery\, online at sevenfeathers.com or call Etix at 800.514.3849. Etix is the sole ticket provider for all Seven Feathers Casino Resort events. Not responsible for third party ticket sales. \nDoors open at 6:00PM. Must be 21 or older. \nClick here to purchase tickets.
URL:https://sevenfeathers.com/event/jacquie-roar/2026-04-18/
LOCATION:Elements Lounge
CATEGORIES:Entertainment
ATTACH;FMTTYPE=image/jpeg:https://sevenfeathers.com/wp-content/uploads/2026/03/7F-Jacquie-Roar-1920x1080-WEB.jpg
END:VEVENT
END:VCALENDAR