BEGIN:VCALENDAR
VERSION:2.0
PRODID:-//Seven Feathers Casino - ECPv6.15.16//NONSGML v1.0//EN
CALSCALE:GREGORIAN
METHOD:PUBLISH
X-WR-CALNAME:Seven Feathers Casino
X-ORIGINAL-URL:https://sevenfeathers.com
X-WR-CALDESC:Events for Seven Feathers Casino
REFRESH-INTERVAL;VALUE=DURATION:PT1H
X-Robots-Tag:noindex
X-PUBLISHED-TTL:PT1H
BEGIN:VTIMEZONE
TZID:America/Los_Angeles
BEGIN:DAYLIGHT
TZOFFSETFROM:-0800
TZOFFSETTO:-0700
TZNAME:PDT
DTSTART:20240310T100000
END:DAYLIGHT
BEGIN:STANDARD
TZOFFSETFROM:-0700
TZOFFSETTO:-0800
TZNAME:PST
DTSTART:20241103T090000
END:STANDARD
BEGIN:DAYLIGHT
TZOFFSETFROM:-0800
TZOFFSETTO:-0700
TZNAME:PDT
DTSTART:20250309T100000
END:DAYLIGHT
BEGIN:STANDARD
TZOFFSETFROM:-0700
TZOFFSETTO:-0800
TZNAME:PST
DTSTART:20251102T090000
END:STANDARD
BEGIN:DAYLIGHT
TZOFFSETFROM:-0800
TZOFFSETTO:-0700
TZNAME:PDT
DTSTART:20260308T100000
END:DAYLIGHT
BEGIN:STANDARD
TZOFFSETFROM:-0700
TZOFFSETTO:-0800
TZNAME:PST
DTSTART:20261101T090000
END:STANDARD
END:VTIMEZONE
BEGIN:VEVENT
DTSTART;TZID=America/Los_Angeles:20250716T190000
DTEND;TZID=America/Los_Angeles:20250716T210000
DTSTAMP:20260423T052631
CREATED:20250617T172141Z
LAST-MODIFIED:20250709T171608Z
UID:10010381-1752692400-1752699600@sevenfeathers.com
SUMMARY:Mic Drop Comedy Club
DESCRIPTION:June 27 & July 13 starting at 7:00PM \nCome in for a night of drinks and laughter with our in-house Comedy Club at Elements Lounge. \nTickets $20\, $30 \nPurchase your tickets here. \nJune 27 we will host David Kilda and Andrew Sleighter. \n \nJuly 16 we will host Jeremiah Coughlan and Cory Michaelis. \n \nPurchase tickets in person at the Gift Gallery or by calling Etix at 800-514-3849. Etix is the sole ticket provider for all Seven Feathers Casino Resort events. Not responsible for third party ticket sales. Doors open at 6:00PM. Must be 21 or older. No ticket sales at the door\, but day-of tickets may be available at the box office in the Gift Gallery.
URL:https://sevenfeathers.com/event/mic-drop-comedy-club-2/2025-07-16/
LOCATION:Elements Lounge\, 146 Chief Miwaleta Ln\, Canyonville\, OR\, 97417\, United States
CATEGORIES:Entertainment
ATTACH;FMTTYPE=image/jpeg:https://sevenfeathers.com/wp-content/uploads/2025/06/ELEMENTS-MICDROP-JULY-2025-1920x1080-WEB.jpg
END:VEVENT
END:VCALENDAR